Workbook
Name ab: '[1]3.2m'!$C$3:$C$202
Name bloodgroup: '[1]3.1m'!$C$3:$C$202
Name nyelv: T!$M$2:$O$2
Name rh: '[1]3.2m'!$D$3:$D$202
Name Rotblutzelle: #REF!
Name Rotblutzelle: #REF!
Name Rotblutzelle: #REF!
Name Rotblutzelle: #REF!
Name Rotblutzelle: #REF!
Name Rotblutzelle: #REF!
Name Rotblutzelle: #REF!
Name Rotblutzelle: #REF!
Name Rotblutzelle: #REF!
Name values5: '[2]exam like.m'!$E$4:$E$404
Name vvs: #REF!
Name vvs: #REF!
Name vvs: #REF!
Name vvs: #REF!
Name vvs: #REF!
Name vvs: #REF!
Name vvs: #REF!
Name vvs: #REF!
Name vvs: #REF!
Name vvt: [2]mikroszkóp.m!$A$2:$A$51

Sheet T
B2: Válassz a legördülő listából egy nyelvet! Wahl eine Sprache aus der herunterrollenden Liste! Choose a language from the drop-down list. | D2: English | M2: magyar | N2: deutsch | O2: English
C3: =IF($D$2=$M$2,M3,IF($D$2=$N$2,N3,O3)) -> Created by: Gergely AGÓCS PhD (Please send comments and reflections (e.g. on possible errors) to: gergelyagocs at gmail com) | M3: Készítette: dr. Agócs Gergely (Észrevételeket (pl. esetleges hibákról, hiányosságokról) kérlek ide írd meg: gergelyagocs kukac gmail com) | N3: Erarbeitet von: Gergely AGÓCS PhD (Bemerkungen (z.B. zu eventuellen Fehler) bitte an: gergelyagocs Klammeraffe gmail com) | O3: Created by: Gergely AGÓCS PhD (Please send comments and reflections (e.g. on possible errors) to: gergelyagocs at gmail com)
M4: Tartalomjegyzék | N4: Inhalt | O4: Contents
M5: Excelfüggvények használata | N5: Anwendung der Excelfunktionen | O5: How to use Excel functions
M6: Függvények ábrázolása, függvény illesztése mérési adatokra, korreláció és regresszió | N6: Darstellung von Funktionen, Anpassung von Funktionen an gemessenen Daten, Korrelation und Regression | O6: Displaying functions, fitting a function to measured data, correlation and regression
M7: Gyakoriságok meghatározása és ábrázolása | N7: Bestimmung und Darstellung von Häufigkeiten | O7: Determining and displaying frequencies
M8: Minta paramétereinek meghatározása teljes mintából | N8: Bestimmung von Stichprobenparametern aus gesamter Stichprobe. | O8: Determining sample parameters from whole sample
M9: Minta paramétereinek meghatározása gyakorisági eloszlásból | N9: Bestimmung von Stichprobenparametern aus Häufigkeitsverteilung | O9: Determining sample parameters from frequency distribution
M10: Valószínűségi eloszlás paramétereinek meghatározása | N10: Bestimmung der Parameter von Wahrscheinlichkeitsverteilungen | O10: Determining the parameters of probability distributions
M11: Elméleti eloszlás paramétereinek és intervallumainak becslése teljes mintából | N11: Schätzung der Parameter und Intervallen von Wahrscheinlichkeitsverteilungen aus gesamter Stichprobe | O11: Estimating the parameters and intervals of theoretical distributions from whole sample
M12: Elméleti eloszlás paramétereinek és intervallumainak becslése minta gyakorisági eloszlása alapján | N12: Schätzung der Parameter und Intervallen von theoretische Verteilungen aus der Häufigkeitsverteilung einer Stichprobe | O12: Estimating the parameters and intervals of theoretical distributions from frequency distribution of a sample
M13: Valószínűségszámítás diszkrét eloszlású valószínűségi változókkal | N13: Wahrscheinlichkeitsrechnung mit diskreten Zufallsvariablen | O13: Probability calculus with discrete random variables
M14: Student-féle t-próba (1 és 2 mintás, korrelációs) | N14: Student t-Test (1 und 2 Stichproben, Korrelation) | O14: Student's t-test (for 1 and 2 samples, correlation)
M15: Varianciaanalízis (ANOVA) | N15: Varianzanalyse (ANOVA) | O15: Analysis of variance (ANOVA)
... M19: Diagnosztikai módszerek értékelése | N19: Erwertund von diagnostische Mathoden | O19: Evaluation of diagnostic methods

Sheet Intro
B2: =IF(T!$D$2=T!$M$2,M2,IF(T!$D$2=T!$N$2,N2,O2)) -> The name(s) of the test: | C2: =IF(T!$D$2=T!$M$2,M12,IF(T!$D$2=T!$N$2,N12,O12)) -> The code to be given as answer:_x000D_(letter case does not matter) | M2: A próba elnevezése(i): | N2: Name(n) des Tests: | O2: The name(s) of the test:
B3: =IF(T!$D$2=T!$M$2,M3,IF(T!$D$2=T!$N$2,N3,O3)) -> (Student's) t-test for significance of correlation_x000D_(Student's) t-test for the correlation coefficient_x000D_(Student's) t-test for correlation_x000D_(Student's) correlation t-test | C3: tr | M3: korrelációs (Student-) t-próba (Student-) t-próba korrelációs együtthatóra (Student-) t-próba a korrelációs együttható szignifikanciájára | N3: Student-t-Test für die Signifikanz der Korrelationskoeffizient Student-t-Test für Korrelation Korrelations-(Student)-t-Test | O3: (Student's) t-test for significance of correlation (Student's) t-test for the correlation coefficient (Student's) t-test for correlation (Student's) correlation t-test
B4: =IF(T!$D$2=T!$M$2,M4,IF(T!$D$2=T!$N$2,N4,O4)) -> (Student's) t-test for one sample_x000D_(Student's) two sample t-test for two paired samples_x000D_(Student's) two sample t-test for dependent samples_x000D_(Student's) paired t-test | C4: t1 | M4: egymintás (Student-) t-próba párosított (Student-) t-próba kétmintás (Student-) t-próba két párosított mintára kétmintás (Student-) t-próba két függő mintára | N4: Einstichproben-(Student)-t-Test (Student)-t-Test für eine Stichprobe (Student)-t-Test für zwei gepaarte Stichproben (Student)-t-Test für zwei abhängige Stichproben | O4: (Student's) t-test for one sample (Student's) two sample t-test for two paired samples (Student's) two sample t-test for dependent samples (Student's) paired t-test
B5: =IF(T!$D$2=T!$M$2,M5,IF(T!$D$2=T!$N$2,N5,O5)) -> (Student's) t-test for two samples_x000D_(Student's) two sample t-test for unpaired samples_x000D_(Student's) two sample t-test for independent samples | C5: t2 | M5: kétmintás (Student-) t-próba kétmintás (Student-) t-próba két független mintára | N5: Zweistichproben-(Student)-t-Test (Student)-t-Test für zwei Stichproben (Student)-t-Test für zwei ungepaarte Stichproben (Student)-t-Test für zwei unabhängige Stichproben | O5: (Student's) t-test for two samples (Student's) two sample t-test for unpaired samples (Student's) two sample t-test for independent samples
B6: =IF(T!$D$2=T!$M$2,M6,IF(T!$D$2=T!$N$2,N6,O6)) -> F-test_x000D_F-test for the sample variances | C6: F | M6: F-próba F-próba a varianciákra | N6: F-Test F-Test für die Varianzen | O6: F-test F-test for the sample variances
B7: =IF(T!$D$2=T!$M$2,M7,IF(T!$D$2=T!$N$2,N7,O7)) -> Wilcoxon's test_x000D_Wilcoxon's signed rank test | C7: W | M7: Wilcoxon-próba Wilcoxon előjelesrang-próba | N7: Wilcoxon-Vorzeichen-Rang-Test Wilcoxon-Test | O7: Wilcoxon's test Wilcoxon's signed rank test
B8: =IF(T!$D$2=T!$M$2,M8,IF(T!$D$2=T!$N$2,N8,O8)) -> Mann-Whitney U-test _x000D_Mann-Whitney U-test for the rank sums | C8: U | M8: Mann-Whitney U-próba Mann-Whitney U-próba a rangösszegekre | N8: Mann-Whitney-U-Test Mann-Whitney-Rangsummentest | O8: Mann-Whitney U-test Mann-Whitney U-test for the rank sums
B9: =IF(T!$D$2=T!$M$2,M9,IF(T!$D$2=T!$N$2,N9,O9)) -> ANOVA_x000D_ANalysis Of VAriance | C9: V | M9: ANOVA varianciaanalízis | N9: ANOVA Varianzanalyse | O9: ANOVA ANalysis Of VAriance
B10: =IF(T!$D$2=T!$M$2,M10,IF(T!$D$2=T!$N$2,N10,O10)) -> Kruskal-Wallis test | C10: K | M10: Kruskal-Wallis próba | N10: Kruskal-Wallis-Test | O10: Kruskal-Wallis test
B11: =IF(T!$D$2=T!$M$2,M11,IF(T!$D$2=T!$N$2,N11,O11)) -> chi squared test_x000D_χ2-test | C11: K2 | M11: khínégyzetpróba khi2-próba χ2-próba | N11: Chi-Quadrat-Test chi^2-Test χ2-Test | O11: chi squared test χ2-test
M12: Válaszként megadandó kód: (kisbetű/nagybetű nem számít) | N12: Der als Antwort zu gebende Code: (Groß- und Kleinschreibung spielt keine Rolle) | O12: The code to be given as answer: (letter case does not matter)

Sheet 1
B2: =IF(T!$D$2=T!$M$2,M2,IF(T!$D$2=T!$N$2,N2,O2)) -> The nominal API content of a pharmaceutical product is 100.0 mg per tablet. | M2: Egy gyógyszerkészítmény névleges hatóanyagtartalma 100,0 mg tablettánként. | N2: Der nominale Wirkstoffgehalt eines Arzneimittels ist 100,0 mg pro Tablette. | O2: The nominal API content of a pharmaceutical product is 100.0 mg per tablet.
B3: =IF(T!$D$2=T!$M$2,M3,IF(T!$D$2=T!$N$2,N3,O3)) -> We checked a lot of the product for the purpose of quality control. | M3: Egy sarzs gyártmányt megvizsgáltunk minőségellenőrzés céljából. | N3: Wir untersuchten eine Charge des Produktes zwecks Qualitätskontrolle. | O3: We checked a lot of the product for the purpose of quality control.
B4: =IF(T!$D$2=T!$M$2,M4,IF(T!$D$2=T!$N$2,N4,O4)) -> The API content of five tablets was measuerd: the results are the following: | M4: Öt tablettának mértük meg a hatóanyag-tartalmát, a következő értékeket kaptuk: | N4: Der Wirkstoffgehalt von fünf Tabletten wurde gemessen: man bekam die folgenden Werte: | O4: The API content of five tablets was measuerd: the results are the following:
M5: tabletta sorszáma: | N5: Nummer der Tablette: | O5: number of tablet:
B6: =IF(T!$D$2=T!$M$2,M5,IF(T!$D$2=T!$N$2,N5,O5)) -> number of tablet: | C6: =IF(T!$D$2=T!$M$2,M6,IF(T!$D$2=T!$N$2,N6,O6)) -> measured API-content: | M6: mért hatóanyag-tartalom: | N6: gemessener Wirkstoff-gehalt: | O6: measured API-content:
B7: 1 | C7: 100.5 | M7: Jól van-e a tablettázógép beállítva? | N7: Ist die Tablettenpresse gut eingestellt? | O7: Is the tablet press well adjusted?
B8: 2 | C8: 98.2 | M8: A gépet akkor tekintjük jól beállítottnak, ha a középérték eltérése nem szignifikáns 5%-os szinten tekintve. | N8: Die Presse kann als gut eingestellt angesehen werden wenn die Abweichung des Mittelwertes beim 5% Signifikanzniveau nicht signifikant ist. | O8: The press can be considered well adjusted if the deviation is not significant at 5% significance level.
B9: 3 | C9: 99.1 | M9: Az eltérések eloszlása tekinthető normálisnak. | N9: Die Verteilung kann als normal angesehen werden. | O9: The distribution can be considered normal.
B10: 4 | C10: 101.4 | M10: Milyen hipotézisvizsgálatot alkalmazol? Az általános leírásban szereplő kóddal válaszolj! | N10: Welche Hypothesenprüfung sollte benutzt werden? Antworte mit dem Code in "Intro". | O10: Which hypothesis testing should be used? Answer with the code given in "Intro".
B11: 5 | C11: 96.8 | M11: Mekkora a minta átlaga? | N11: Was ist der Mittelwert der Stichprobe? | O11: What is the mean of the sample?
M12: Mekkora a mintastatisztika? | N12: Wie groß ist die Teststatistik (Prüfgröße) der Stichprobe? | O12: Waht is the test statistic calculated from the sample?
B13: =IF(T!$D$2=T!$M$2,M7,IF(T!$D$2=T!$N$2,N7,O7)) -> Is the tablet press well adjusted? | M13: Mekkora a mintához tartozó kétoldali p-érték? | N13: Gebe den zweiseitigen p-Wert der Stichprobe. | O13: What is the two-tailed-p-value of the sample?
B14: =IF(T!$D$2=T!$M$2,M8,IF(T!$D$2=T!$N$2,N8,O8)) -> The press can be considered well adjusted if the deviation is not significant at 5% significance level. | M14: Megtartod a nullhipotézist? (igen=1, nem=0) | N14: Sollte die Nullhypothese angenommen werden? (Ja=1, Nein=0) | O14: Should we accept the null hypothesis? (yes=1, no=0)
B15: =IF(T!$D$2=T!$M$2,M9,IF(T!$D$2=T!$N$2,N9,O9)) -> The distribution can be considered normal. | M15: Jól van a gép beállítva? (igen=1, nem=0) | N15: Ist die Maschine gut eingestellt? (Ja=1, Nein=0) | O15: Is the machine well adjusted? (yes=1, no=0)
M16: Milyen döntési hiba lehetséges? (elsőfajú=1, másodfajú=2) | N16: Was ist der mögliche Entscheidungsfehler? (Fehler erster Art=1, Fehler zweiter Art=2) | O16: What is the possible decision error? (type I = 1, type II = 2)
B17: =IF(T!$D$2=T!$M$2,M10,IF(T!$D$2=T!$N$2,N10,O10)) -> Which hypothesis testing should be used? Answer with the code given in "Intro". | C17: t1 | M17: ez t-próba esetén a mintából számolt t-értéket jelenti | N17: im Falle von t-Testen, das ist der aus der Stichprobe errechnete t-Wert | O17: in case of a t-test, it is the sample t-value
B18: =IF(T!$D$2=T!$M$2,M11,IF(T!$D$2=T!$N$2,N11,O11)) -> What is the mean of the sample? | C18: =C29 -> 0
B19: =IF(T!$D$2=T!$M$2,M12,IF(T!$D$2=T!$N$2,N12,O12)) -> Waht is the test statistic calculated from the sample? | C19: =C32 -> 0 | D19: =IF(T!$D$2=T!$M$2,M17,IF(T!$D$2=T!$N$2,N17,O17)) -> in case of a t-test, it is the sample t-value | M19: 1. Számolás lépésről lépésre, döntés p-érték alapján: | N19: 1. Berechnung schritt für schritt, Entscheidung auf Grund der p-Werte: | O19: 1. Calculation stepwise, decision based on the p-values:
B20: =IF(T!$D$2=T!$M$2,M13,IF(T!$D$2=T!$N$2,N13,O13)) -> What is the two-tailed-p-value of the sample? | C20: =C44 -> 0
B21: =IF(T!$D$2=T!$M$2,M14,IF(T!$D$2=T!$N$2,N14,O14)) -> Should we accept the null hypothesis? (yes=1, no=0) | C21: 1 | M21: H_0 szerinti várható érték: | N21: der Erwartungswert anhand der H_0: | O21: the expected value according to the H_0:
B22: =IF(T!$D$2=T!$M$2,M15,IF(T!$D$2=T!$N$2,N15,O15)) -> Is the machine well adjusted? (yes=1, no=0) | C22: 1 | M22: minta elemszáma: | N22: Datenanzahl: | O22: data count:
B23: =IF(T!$D$2=T!$M$2,M16,IF(T!$D$2=T!$N$2,N16,O16)) -> What is the possible decision error? (type I = 1, type II = 2) | C23: 2 | M23: minta átlaga: | N23: Mittelwert der Stichprobe: | O23: mean of the sample:
M24: az elméleti szórás becslése: | N24: Schätzung der theoretischen Streuung: | O24: estimation of the theoretical standard deviation:
M25: az átlag hibája: | N25: Standardfehler: | O25: standard error:
M26: a minta t-értéke: | N26: Stichproben-t-Wert: | O26: sample t-value:
M27: szabadsági fokok száma: | N27: Freihetsgrade: | O27: number of degrees of freedom:
M28: a minta kétszélű p-értéke: | N28: Zweiseitiger p-Wert der Stichprobe: | O28: two-tailed p-value of the sample:
M29: döntés: | N29: Entscheidung: | O29: decision:
M30: H_0-t megtartom, mivel p_minta > p_krit (a minta átlagának véletlen előfordulása a H_0 szerint nagy valószínűségű) | N30: H_0 wird angenommen, weil p_Stichprobe > p_krit (das zufällige Auftreten des Stichprobenmittelwerts ist anhand H_0 wahrscheinlich) | O30: H_0 is accepted because p_sample > p_crit (the random occurrence of the sample's mean is probable if H_0 is true)
M31: sajnos ez a függvény csak a t abszolútértékét fogadja el | N31: leider akzeptiert diese Funktion nur positive t-Werte | O31: unfortunately this function only accepts positive t-values
M33: a minta t-értéke és p-értéke a t-eloszláson | N33: der t-Wert und der p-Wert der Stichprobe in der t-Verteilung | O33: the sample's t-value and p-value in the t-distribution
M34: =IF(T!$D$2=T!$M$2,M33,IF(T!$D$2=T!$N$2,N33,O33)) -> the sample's t-value and p-value _x000D_in the t-distribution
M36: t-értékek | N36: t-Werte | O36: t-values
M37: =IF(T!$D$2=T!$M$2,M36,IF(T!$D$2=T!$N$2,N36,O36)) -> t-values
M39: a minta átlaga és p-értéke a lehetséges átlagok H_0 szerinti eloszlásán | N39: der Durchschnitt und der p-Wert der Stichprobe in der Verteilung der möglichen Durchschnitte nach der H_0 | O39: the sample's average and p-value in the H_0 distribution of possible averages
M40: =IF(T!$D$2=T!$M$2,M39,IF(T!$D$2=T!$N$2,N39,O39)) -> the sample's average and p-value _x000D_in the H_0 distribution of possible averages
M42: véletlen minták lehetséges átlagai | N42: die möglichen Durchschnitte der zufälligen Stichproben | O42: the possible averages of the random samples
M43: =IF(T!$D$2=T!$M$2,M42,IF(T!$D$2=T!$N$2,N42,O42)) -> the possible averages of the random samples
M45: dp/d(átlag) | N45: dp/d(Durchschnitt) | O45: dp/d(average)
M46: =IF(T!$D$2=T!$M$2,M45,IF(T!$D$2=T!$N$2,N45,O45)) -> dp/d(average)
M48: a konfidenciaintervallum és a szignifikanciaszint a t-eloszláson és a minta t-érték helye | N48: das Konfidenzintervall und das Signifikanzniveau in der t-Verteilung und die Lage des Stichproben-t-Werts | O48: the confidence interval and the significance level in the t-distribution and the position of the sample t-value
M49: =IF(T!$D$2=T!$M$2,M48,IF(T!$D$2=T!$N$2,N48,O48)) -> the confidence interval and the significance level _x000D_in the t-distribution _x000D_and the position of the sample t-value
M51: a konfidenciaintervallum és a szignifikanciaszint a lehetséges átlagok H_0 szerinti eloszlásán és a mintaátlag a helye | N51: das Konfidenzintervall und das Signifikanzniveau in der Verteilung der möglichen Durchschnitte nach der H_0 und die Lage des Durchschnitts der Stichprobe | O51: the confidence interval and the significance level in the H_0 distribution of possible averages and the position of the sample average
M52: =IF(T!$D$2=T!$M$2,M51,IF(T!$D$2=T!$N$2,N51,O51)) -> the confidence interval and the significance level _x000D_in the H_0 distribution of possible averages _x000D_and the position of the sample average
M54: 2. Számolás lépésről lépésre, döntés t-érték alapján: | N54: 2. Berechnung schritt für schritt, Entscheidung auf Grund der t-Werte: | O54: 2. Calculation stepwise, decision based on t-values:
M55: szignifikanciaszint: | N55: Signifikanzniveau: | O55: significance level:
M56: kritkus t-érték: | N56: kritischer t-Wert: | O56: critical t-value:
M57: konfidenciaintervallum alsó határa a t-eloszlásban: | N57: untere Grenze des Konfidenzintervalls in der t-Verteilung: | O57: lower limit of the confidence interval of the t-distribution:
M58: konfidenciaintervallum felső határa a t-eloszlásban: | N58: obere Grenze des Konfidenzintervalls in der t-Verteilung: | O58: upper limit of the confidence interval of the t-distribution:
M59: konfidenciaintervallum alsó határa az átlagok H_0 szerinti eloszlásában: | N59: untere Grenze des Konfidenzintervalls in der Verteilung der Mittelwerte nach H_0: | O59: lower limit of the confidence interval of the distribution of the means according to H_0:
M60: konfidenciaintervallum felső határa az átlagok H_0 szerinti eloszlásában: | N60: obere Grenze des Konfidenzintervalls in der Verteilung der Mittelwerte nach H_0: | O60: upper limit of the confidence interval of the distribution of the means according to H_0:
M61: H_0-t megtartom, mivel t_alsó < t_minta < t_felső (t_minta a konfidenciaintervallumba esik) | N61: H_0 wird angenommen, weil t_unter < t_Stichprobe < t_ober (t_Stichprobe liegt im Konfidenzintervall) | O61: H_0 is accepted because t_lower < t_sample < t_upper (t_sample is within the confidence interval)
M62: ezt az értéket régebben táblázatokból keresték ki, így a döntéshozatal viszonylag egyszerű számításokkal elvégezhető volt: | N62: dieser Wert wurde früher in Tabellen nachgesehen, damit braucht das Entscheidungstreffen nur relativ leichte Berechnungen. | O62: earlier, this value was found in look-up tables, so the decision making needed only relatively easy calculations.
M63: (a táblázat csak pozitív t-értékeket és egyszélű p-értékeket tartalmaz!) | N63: (die Tabelle enthält nur positive t-Werte und einseitige p-Werte) | O63: (the table contains only positive t-values and one-tailed p-values)
M65: 3. Számolás a T.PRÓB függvénnyel, döntés p-érték alapján: | N65: 3. Berechnung mit der T.TEST Funktion, Entscheidung auf Grund der p-Werte: | O65: 3. Calculation with the T.TEST function, decision based on the p-values:
M66: A mintaelemek mellé új oszlopba másoljuk be a H_0 szerint elvárt értéket: | N66: Kopieren wir neben die Stichprobenelemente den nach H_0 erwarteten Wert: | O66: Copy the expected value according to the H_0 next to the sample elements:
... M70: minta | N70: Stichprobe | O70: sample
M71: =IF(T!$D$2=T!$M$2,M70,IF(T!$D$2=T!$N$2,N70,O70)) -> sample
M73: átlag | N73: Mittelwert | O73: mean
M74: =IF(T!$D$2=T!$M$2,M73,IF(T!$D$2=T!$N$2,N73,O73)) -> mean
M76: elméleti szórás becslése | N76: Schätzung der theoretischen Streuung | O76: estimation of the theoretical standard deviation
M77: =IF(T!$D$2=T!$M$2,M76,IF(T!$D$2=T!$N$2,N76,O76)) -> estimation of the theoretical standard deviation
M79: elemszám | N79: Datenanzahl | O79: data count
M80: =IF(T!$D$2=T!$M$2,M79,IF(T!$D$2=T!$N$2,N79,O79)) -> data count
M82: standard hiba (átlag szórása) | N82: Standardfehler (Streuung des Mittelwertes) | O82: standard error (standard deviation of the mean)
M83: =IF(T!$D$2=T!$M$2,M82,IF(T!$D$2=T!$N$2,N82,O82)) -> standard error _x000D_(standard deviation of the mean)
M85: nullhipotézis | N85: Nullhypothese | O85: null hypothesis
M86: =IF(T!$D$2=T!$M$2,M85,IF(T!$D$2=T!$N$2,N85,O85)) -> null hypothesis
M88: várható érték | N88: Erwartungs-wert | O88: expected value
M89: =IF(T!$D$2=T!$M$2,M88,IF(T!$D$2=T!$N$2,N88,O88)) -> expected value
M91: minta t-értéke | N91: t-Wert der Stichprobe | O91: t-value of the sample
M92: =IF(T!$D$2=T!$M$2,M91,IF(T!$D$2=T!$N$2,N91,O91)) -> t-value _x000D_of the sample
M94: minta kétszélű p-értéke | N94: zweiseitiger p-Wert der Stichprobe | O94: two-tailed p-value of the sample
M95: =IF(T!$D$2=T!$M$2,M94,IF(T!$D$2=T!$N$2,N94,O94)) -> two-tailed p-value _x000D_of the sample
M97: 4. Számolás az „adatelemzés” kiegészítő programmal: | N97: 4. Berechnung mit dem "Datenanalyse" Program: | O97: 4. Calculation with the "Data Analysis" program:
M98: Csak PC-n működik, Mac-en nem! | N98: Es funktioniert nur auf PC, auf Mac nicht! | O98: It only works on PC, not on Mac!
M99: –> Adatok –> Adatelemzés –> Kétmintás párosított t-próba a várható értékre | N99: –> Daten –> Datenanalyse –> Zweistichproben t-Test bei abhängigen Stichproben | O99: –> Data –> Data Analysis –> t-Test: Paired Two Sample for Means
M100: Ha nem szerepel az Adatelemzés ikonja a menüben, telepíteni kell (Excel 2010): | N100: Wenn das Symbol der Datenanalyse nicht erscheint, soll das Rpogram installiert werden (Excel 2010): | O100: If the icon of Data Analysis can not be found, the program must be installed (Excel 2010):
M101: –> Fájl –> Beállítások –> Bővítmények –> Excel Bővítmények –> Ugrás… –> Analysis ToolPak –> OK | N101: –> Datei –> Optionen –> Add-Ins –> Excel Add-Ins –> Gehe zu… –> Analysis ToolPak –> OK | O101: –> File –> Options –> Add-Ins –> Excel Add-Ins –> Go… –> Analysis ToolPak –> OK
M104: Kétmintás párosított t-próba a várható értékre | N104: Zweistichproben t-Test bei abhängigen Stichproben (Paarvergleichstest) | O104: t-Test: Paired Two Sample for Means
M107: Várható érték | N107: Mittelwert | O107: Mean
M108: Variancia | N108: Varianz | O108: Variance
M109: Megfigyelések | N109: Beobachtungen | O109: Observations
M110: Pearson-féle korreláció | N110: Pearson Korrelation | O110: Pearson Correlation
M111: Feltételezett átlagos eltérés | N111: Hypothetische Differenz der Mittelwerte | O111: Hypothesized Mean Difference
M112: df | N112: Freiheitsgrade (df) | O112: df
... M123: =T.ELOSZLÁS.2SZ() | N123: =T.VERT.2S() | O123: =T.DIST.2S()
M124: =IF(T!$D$2=T!$M$2,M123,IF(T!$D$2=T!$N$2,N123,O123)) -> =T.DIST.2S()
M126: =T.INVERZ.2SZ() | N126: =T.INV.2S() | O126: =T.INV.2S()
M127: =IF(T!$D$2=T!$M$2,M126,IF(T!$D$2=T!$N$2,N126,O126)) -> =T.INV.2S()
M129: =T.PRÓB() | N129: =T.TEST() | O129: =T.TEST()
M130: =IF(T!$D$2=T!$M$2,M129,IF(T!$D$2=T!$N$2,N129,O129)) -> =T.TEST()
K142: dp/dt | L142: minta
K265: =_xlfn.T.DIST(I265,4,0) -> 0.375
K266: =_xlfn.T.DIST(I266,4,0) -> 0.375
K267: =_xlfn.T.DIST(I267,4,0) -> 0.375
K268: =_xlfn.T.DIST(I268,4,0) -> 0.375
K269: =_xlfn.T.DIST(I269,4,0) -> 0.375
K270: =_xlfn.T.DIST(I270,4,0) -> 0.375
K271: =_xlfn.T.DIST(I271,4,0) -> 0.375
...

Sheet 1m
B2: =IF(T!$D$2=T!$M$2,M2,IF(T!$D$2=T!$N$2,N2,O2)) -> The nominal API content of a pharmaceutical product is 100.0 mg per tablet. | M2: Egy gyógyszerkészítmény névleges hatóanyagtartalma 100,0 mg tablettánként. | N2: Der nominale Wirkstoffgehalt eines Arzneimittels ist 100,0 mg pro Tablette. | O2: The nominal API content of a pharmaceutical product is 100.0 mg per tablet.
B3: =IF(T!$D$2=T!$M$2,M3,IF(T!$D$2=T!$N$2,N3,O3)) -> We checked a lot of the product for the purpose of quality control. | M3: Egy sarzs gyártmányt megvizsgáltunk minőségellenőrzés céljából. | N3: Wir untersuchten eine Charge des Produktes zwecks Qualitätskontrolle. | O3: We checked a lot of the product for the purpose of quality control.
B4: =IF(T!$D$2=T!$M$2,M4,IF(T!$D$2=T!$N$2,N4,O4)) -> The API content of five tablets was measuerd: the results are the following: | M4: Öt tablettának mértük meg a hatóanyag-tartalmát, a következő értékeket kaptuk: | N4: Der Wirkstoffgehalt von fünf Tabletten wurde gemessen: man bekam die folgenden Werte: | O4: The API content of five tablets was measuerd: the results are the following:
M5: tabletta sorszáma: | N5: Nummer der Tablette: | O5: number of tablet:
B6: =IF(T!$D$2=T!$M$2,M5,IF(T!$D$2=T!$N$2,N5,O5)) -> number of tablet: | C6: =IF(T!$D$2=T!$M$2,M6,IF(T!$D$2=T!$N$2,N6,O6)) -> measured API-content: | M6: mért hatóanyag-tartalom: | N6: gemessener Wirkstoff-gehalt: | O6: measured API-content:
B7: 1 | C7: 100.5 | M7: Jól van-e a tablettázógép beállítva? | N7: Ist die Tablettenpresse gut eingestellt? | O7: Is the tablet press well adjusted?
B8: 2 | C8: 98.2 | M8: A gépet akkor tekintjük jól beállítottnak, ha a középérték eltérése nem szignifikáns 5%-os szinten tekintve. | N8: Die Presse kann als gut eingestellt angesehen werden wenn die Abweichung des Mittelwertes beim 5% Signifikanzniveau nicht signifikant ist. | O8: The press can be considered well adjusted if the deviation is not significant at 5% significance level.
B9: 3 | C9: 99.1 | M9: Az eltérések eloszlása tekinthető normálisnak. | N9: Die Verteilung kann als normal angesehen werden. | O9: The distribution can be considered normal.
B10: 4 | C10: 101.4 | M10: Milyen hipotézisvizsgálatot alkalmazol? Az általános leírásban szereplő kóddal válaszolj! | N10: Welche Hypothesenprüfung sollte benutzt werden? Antworte mit dem Code in "Intro". | O10: Which hypothesis testing should be used? Answer with the code given in "Intro".
B11: 5 | C11: 96.8 | M11: Mekkora a minta átlaga? | N11: Was ist der Mittelwert der Stichprobe? | O11: What is the mean of the sample?
M12: Mekkora a mintastatisztika? | N12: Wie groß ist die Teststatistik (Prüfgröße) der Stichprobe? | O12: Waht is the test statistic calculated from the sample?
B13: =IF(T!$D$2=T!$M$2,M7,IF(T!$D$2=T!$N$2,N7,O7)) -> Is the tablet press well adjusted? | M13: Mekkora a mintához tartozó kétoldali p-érték? | N13: Gebe den zweiseitigen p-Wert der Stichprobe. | O13: What is the two-tailed-p-value of the sample?
B14: =IF(T!$D$2=T!$M$2,M8,IF(T!$D$2=T!$N$2,N8,O8)) -> The press can be considered well adjusted if the deviation is not significant at 5% significance level. | M14: Megtartod a nullhipotézist? (igen=1, nem=0) | N14: Sollte die Nullhypothese angenommen werden? (Ja=1, Nein=0) | O14: Should we accept the null hypothesis? (yes=1, no=0)
B15: =IF(T!$D$2=T!$M$2,M9,IF(T!$D$2=T!$N$2,N9,O9)) -> The distribution can be considered normal. | M15: Jól van a gép beállítva? (igen=1, nem=0) | N15: Ist die Maschine gut eingestellt? (Ja=1, Nein=0) | O15: Is the machine well adjusted? (yes=1, no=0)
M16: Milyen döntési hiba lehetséges? (elsőfajú=1, másodfajú=2) | N16: Was ist der mögliche Entscheidungsfehler? (Fehler erster Art=1, Fehler zweiter Art=2) | O16: What is the possible decision error? (type I = 1, type II = 2)
B17: =IF(T!$D$2=T!$M$2,M10,IF(T!$D$2=T!$N$2,N10,O10)) -> Which hypothesis testing should be used? Answer with the code given in "Intro". | C17: t1 | M17: ez t-próba esetén a mintából számolt t-értéket jelenti | N17: im Falle von t-Testen, das ist der aus der Stichprobe errechnete t-Wert | O17: in case of a t-test, it is the sample t-value
B18: =IF(T!$D$2=T!$M$2,M11,IF(T!$D$2=T!$N$2,N11,O11)) -> What is the mean of the sample? | C18: =C29 -> 99.2
B19: =IF(T!$D$2=T!$M$2,M12,IF(T!$D$2=T!$N$2,N12,O12)) -> Waht is the test statistic calculated from the sample? | C19: =C32 -> -0.98102294 | D19: =IF(T!$D$2=T!$M$2,M17,IF(T!$D$2=T!$N$2,N17,O17)) -> in case of a t-test, it is the sample t-value | M19: 1. Számolás lépésről lépésre, döntés p-érték alapján: | N19: 1. Berechnung schritt für schritt, Entscheidung auf Grund der p-Werte: | O19: 1. Calculation stepwise, decision based on the p-values:
B20: =IF(T!$D$2=T!$M$2,M13,IF(T!$D$2=T!$N$2,N13,O13)) -> What is the two-tailed-p-value of the sample? | C20: =C44 -> 0.38212579
B21: =IF(T!$D$2=T!$M$2,M14,IF(T!$D$2=T!$N$2,N14,O14)) -> Should we accept the null hypothesis? (yes=1, no=0) | C21: 1 | M21: H_0 szerinti várható érték: | N21: der Erwartungswert anhand der H_0: | O21: the expected value according to the H_0:
B22: =IF(T!$D$2=T!$M$2,M15,IF(T!$D$2=T!$N$2,N15,O15)) -> Is the machine well adjusted? (yes=1, no=0) | C22: 1 | M22: minta elemszáma: | N22: Datenanzahl: | O22: data count:
B23: =IF(T!$D$2=T!$M$2,M16,IF(T!$D$2=T!$N$2,N16,O16)) -> What is the possible decision error? (type I = 1, type II = 2) | C23: 2 | M23: minta átlaga: | N23: Mittelwert der Stichprobe: | O23: mean of the sample:
M24: az elméleti szórás becslése: | N24: Schätzung der theoretischen Streuung: | O24: estimation of the theoretical standard deviation:
B25: =IF(T!$D$2=T!$M$2,M19,IF(T!$D$2=T!$N$2,N19,O19)) -> 1. Calculation stepwise, decision based on the p-values: | M25: az átlag hibája: | N25: Standardfehler: | O25: standard error:
M26: a minta t-értéke: | N26: Stichproben-t-Wert: | O26: sample t-value:
B27: =IF(T!$D$2=T!$M$2,M21,IF(T!$D$2=T!$N$2,N21,O21)) -> the expected value according to the H_0: | C27: 100 | M27: szabadsági fokok száma: | N27: Freihetsgrade: | O27: number of degrees of freedom:
B28: =IF(T!$D$2=T!$M$2,M22,IF(T!$D$2=T!$N$2,N22,O22)) -> data count: | C28: =COUNT(C7:C11) -> 5 | M28: a minta kétszélű p-értéke: | N28: Zweiseitiger p-Wert der Stichprobe: | O28: two-tailed p-value of the sample:
B29: =IF(T!$D$2=T!$M$2,M23,IF(T!$D$2=T!$N$2,N23,O23)) -> mean of the sample: | C29: =AVERAGE(C7:C11) -> 99.2 | M29: döntés: | N29: Entscheidung: | O29: decision:
B30: =IF(T!$D$2=T!$M$2,M24,IF(T!$D$2=T!$N$2,N24,O24)) -> estimation of the theoretical standard deviation: | C30: =_xlfn.STDEV.S(C7:C11) -> 1.8234583 | M30: H_0-t megtartom, mivel p_minta > p_krit (a minta átlagának véletlen előfordulása a H_0 szerint nagy valószínűségű) | N30: H_0 wird angenommen, weil p_Stichprobe > p_krit (das zufällige Auftreten des Stichprobenmittelwerts ist anhand H_0 wahrscheinlich) | O30: H_0 is accepted because p_sample > p_crit (the random occurrence of the sample's mean is probable if H_0 is true)
B31: =IF(T!$D$2=T!$M$2,M25,IF(T!$D$2=T!$N$2,N25,O25)) -> standard error: | C31: =C30/SQRT(C28) -> 0.81547532 | M31: sajnos ez a függvény csak a t abszolútértékét fogadja el | N31: leider akzeptiert diese Funktion nur positive t-Werte | O31: unfortunately this function only accepts positive t-values
B32: =IF(T!$D$2=T!$M$2,M26,IF(T!$D$2=T!$N$2,N26,O26)) -> sample t-value: | C32: =(C29-C27)/C31 -> -0.98102294
B33: =IF(T!$D$2=T!$M$2,M27,IF(T!$D$2=T!$N$2,N27,O27)) -> number of degrees of freedom: | C33: =C28-1 -> 4 | M33: a minta t-értéke és p-értéke a t-eloszláson | N33: der t-Wert und der p-Wert der Stichprobe in der t-Verteilung | O33: the sample's t-value and p-value in the t-distribution
M34: =IF(T!$D$2=T!$M$2,M33,IF(T!$D$2=T!$N$2,N33,O33)) -> the sample's t-value and p-value _x000D_in the t-distribution
M36: t-értékek | N36: t-Werte | O36: t-values
M37: =IF(T!$D$2=T!$M$2,M36,IF(T!$D$2=T!$N$2,N36,O36)) -> t-values
M39: a minta átlaga és p-értéke a lehetséges átlagok H_0 szerinti eloszlásán | N39: der Durchschnitt und der p-Wert der Stichprobe in der Verteilung der möglichen Durchschnitte nach der H_0 | O39: the sample's average and p-value in the H_0 distribution of possible averages
M40: =IF(T!$D$2=T!$M$2,M39,IF(T!$D$2=T!$N$2,N39,O39)) -> the sample's average and p-value _x000D_in the H_0 distribution of possible averages
M42: véletlen minták lehetséges átlagai | N42: die möglichen Durchschnitte der zufälligen Stichproben | O42: the possible averages of the random samples
M43: =IF(T!$D$2=T!$M$2,M42,IF(T!$D$2=T!$N$2,N42,O42)) -> the possible averages of the random samples
B44: =IF(T!$D$2=T!$M$2,M28,IF(T!$D$2=T!$N$2,N28,O28)) -> two-tailed p-value of the sample: | C44: =_xlfn.T.DIST.2T(-C32,C33) -> 0.38212579 | D44: =IF(T!$D$2=T!$M$2,M31,IF(T!$D$2=T!$N$2,N31,O31)) -> unfortunately this function only accepts positive t-values
B45: =IF(T!$D$2=T!$M$2,M29,IF(T!$D$2=T!$N$2,N29,O29)) -> decision: | C45: =IF(T!$D$2=T!$M$2,M30,IF(T!$D$2=T!$N$2,N30,O30)) -> H_0 is accepted because p_sample > p_crit (the random occurrence of the sample's mean is probable if H_0 is true) | M45: dp/d(átlag) | N45: dp/d(Durchschnitt) | O45: dp/d(average)
M46: =IF(T!$D$2=T!$M$2,M45,IF(T!$D$2=T!$N$2,N45,O45)) -> dp/d(average)
B47: =IF(T!$D$2=T!$M$2,M54,IF(T!$D$2=T!$N$2,N54,O54)) -> 2. Calculation stepwise, decision based on t-values:
M48: a konfidenciaintervallum és a szignifikanciaszint a t-eloszláson és a minta t-érték helye | N48: das Konfidenzintervall und das Signifikanzniveau in der t-Verteilung und die Lage des Stichproben-t-Werts | O48: the confidence interval and the significance level in the t-distribution and the position of the sample t-value
B49: =IF(T!$D$2=T!$M$2,M21,IF(T!$D$2=T!$N$2,N21,O21)) -> the expected value according to the H_0: | C49: 100 | M49: =IF(T!$D$2=T!$M$2,M48,IF(T!$D$2=T!$N$2,N48,O48)) -> the confidence interval and the significance level _x000D_in the t-distribution _x000D_and the position of the sample t-value
B50: =IF(T!$D$2=T!$M$2,M22,IF(T!$D$2=T!$N$2,N22,O22)) -> data count: | C50: =COUNT(C7:C11) -> 5
B51: =IF(T!$D$2=T!$M$2,M23,IF(T!$D$2=T!$N$2,N23,O23)) -> mean of the sample: | C51: =AVERAGE(C7:C11) -> 99.2 | M51: a konfidenciaintervallum és a szignifikanciaszint a lehetséges átlagok H_0 szerinti eloszlásán és a mintaátlag a helye | N51: das Konfidenzintervall und das Signifikanzniveau in der Verteilung der möglichen Durchschnitte nach der H_0 und die Lage des Durchschnitts der Stichprobe | O51: the confidence interval and the significance level in the H_0 distribution of possible averages and the position of the sample average
B52: =IF(T!$D$2=T!$M$2,M24,IF(T!$D$2=T!$N$2,N24,O24)) -> estimation of the theoretical standard deviation: | C52: =_xlfn.STDEV.S(C7:C11) -> 1.8234583 | M52: =IF(T!$D$2=T!$M$2,M51,IF(T!$D$2=T!$N$2,N51,O51)) -> the confidence interval and the significance level _x000D_in the H_0 distribution of possible averages _x000D_and the position of the sample average
B53: =IF(T!$D$2=T!$M$2,M25,IF(T!$D$2=T!$N$2,N25,O25)) -> standard error: | C53: =C52/SQRT(C50) -> 0.81547532
B54: =IF(T!$D$2=T!$M$2,M26,IF(T!$D$2=T!$N$2,N26,O26)) -> sample t-value: | C54: =(C51-C49)/C53 -> -0.98102294 | M54: 2. Számolás lépésről lépésre, döntés t-érték alapján: | N54: 2. Berechnung schritt für schritt, Entscheidung auf Grund der t-Werte: | O54: 2. Calculation stepwise, decision based on t-values:
B55: =IF(T!$D$2=T!$M$2,M27,IF(T!$D$2=T!$N$2,N27,O27)) -> number of degrees of freedom: | C55: =C50-1 -> 4 | M55: szignifikanciaszint: | N55: Signifikanzniveau: | O55: significance level:
B56: =IF(T!$D$2=T!$M$2,M55,IF(T!$D$2=T!$N$2,N55,O55)) -> significance level: | C56: 0.05 | M56: kritkus t-érték: | N56: kritischer t-Wert: | O56: critical t-value:
M57: konfidenciaintervallum alsó határa a t-eloszlásban: | N57: untere Grenze des Konfidenzintervalls in der t-Verteilung: | O57: lower limit of the confidence interval of the t-distribution:
M58: konfidenciaintervallum felső határa a t-eloszlásban: | N58: obere Grenze des Konfidenzintervalls in der t-Verteilung: | O58: upper limit of the confidence interval of the t-distribution:
M59: konfidenciaintervallum alsó határa az átlagok H_0 szerinti eloszlásában: | N59: untere Grenze des Konfidenzintervalls in der Verteilung der Mittelwerte nach H_0: | O59: lower limit of the confidence interval of the distribution of the means according to H_0:
M60: konfidenciaintervallum felső határa az átlagok H_0 szerinti eloszlásában: | N60: obere Grenze des Konfidenzintervalls in der Verteilung der Mittelwerte nach H_0: | O60: upper limit of the confidence interval of the distribution of the means according to H_0:
M61: H_0-t megtartom, mivel t_alsó < t_minta < t_felső (t_minta a konfidenciaintervallumba esik) | N61: H_0 wird angenommen, weil t_unter < t_Stichprobe < t_ober (t_Stichprobe liegt im Konfidenzintervall) | O61: H_0 is accepted because t_lower < t_sample < t_upper (t_sample is within the confidence interval)
M62: ezt az értéket régebben táblázatokból keresték ki, így a döntéshozatal viszonylag egyszerű számításokkal elvégezhető volt: | N62: dieser Wert wurde früher in Tabellen nachgesehen, damit braucht das Entscheidungstreffen nur relativ leichte Berechnungen. | O62: earlier, this value was found in look-up tables, so the decision making needed only relatively easy calculations.
M63: (a táblázat csak pozitív t-értékeket és egyszélű p-értékeket tartalmaz!) | N63: (die Tabelle enthält nur positive t-Werte und einseitige p-Werte) | O63: (the table contains only positive t-values and one-tailed p-values)
B65: =IF(T!$D$2=T!$M$2,M56,IF(T!$D$2=T!$N$2,N56,O56)) -> critical t-value: | C65: =_xlfn.T.INV.2T(C56,C55) -> 2.7764451 | D65: =IF(T!$D$2=T!$M$2,M62,IF(T!$D$2=T!$N$2,N62,O62)) -> earlier, this value was found in look-up tables, so the decision making needed only relatively easy calculations. | M65: 3. Számolás a T.PRÓB függvénnyel, döntés p-érték alapján: | N65: 3. Berechnung mit der T.TEST Funktion, Entscheidung auf Grund der p-Werte: | O65: 3. Calculation with the T.TEST function, decision based on the p-values:
D66: =IF(T!$D$2=T!$M$2,M63,IF(T!$D$2=T!$N$2,N63,O63)) -> (the table contains only positive t-values and one-tailed p-values) | M66: A mintaelemek mellé új oszlopba másoljuk be a H_0 szerint elvárt értéket: | N66: Kopieren wir neben die Stichprobenelemente den nach H_0 erwarteten Wert: | O66: Copy the expected value according to the H_0 next to the sample elements:
B67: =IF(T!$D$2=T!$M$2,M57,IF(T!$D$2=T!$N$2,N57,O57)) -> lower limit of the confidence interval of the t-distribution: | C67: =-C65 -> -2.7764451 | M67: minta: | N67: Stichprobe: | O67: sample:
B68: =IF(T!$D$2=T!$M$2,M58,IF(T!$D$2=T!$N$2,N58,O58)) -> upper limit of the confidence interval of the t-distribution: | C68: =+C65 -> 2.7764451 | M68: ezt csak azért számolom ki, mert a példa rákérdez (a t-érték előjele a ZH kiértékelésekor nem számít) | N68: ich berechne das nur weil die Aufgabe danach fragt (das Vorzeichen des t-Werts ist egal bei der Auswertung der Prüfung) | O68: I only calculate this because the tasks ask for it (the sign of the t-value does not matter at the evaluation of theexaminations)
B69: =IF(T!$D$2=T!$M$2,M59,IF(T!$D$2=T!$N$2,N59,O59)) -> lower limit of the confidence interval of the distribution of the means according to H_0: | C69: =C49+C67*C53 -> 97.735878
B70: =IF(T!$D$2=T!$M$2,M60,IF(T!$D$2=T!$N$2,N60,O60)) -> upper limit of the confidence interval of the distribution of the means according to H_0: | C70: =C49+C68*C53 -> 102.26412 | M70: minta | N70: Stichprobe | O70: sample
B71: =IF(T!$D$2=T!$M$2,M29,IF(T!$D$2=T!$N$2,N29,O29)) -> decision: | C71: =IF(T!$D$2=T!$M$2,M61,IF(T!$D$2=T!$N$2,N61,O61)) -> H_0 is accepted because t_lower < t_sample < t_upper (t_sample is within the confidence interval) | M71: =IF(T!$D$2=T!$M$2,M70,IF(T!$D$2=T!$N$2,N70,O70)) -> sample
B73: =IF(T!$D$2=T!$M$2,M65,IF(T!$D$2=T!$N$2,N65,O65)) -> 3. Calculation with the T.TEST function, decision based on the p-values: | M73: átlag | N73: Mittelwert | O73: mean
M74: =IF(T!$D$2=T!$M$2,M73,IF(T!$D$2=T!$N$2,N73,O73)) -> mean
B75: =IF(T!$D$2=T!$M$2,M66,IF(T!$D$2=T!$N$2,N66,O66)) -> Copy the expected value according to the H_0 next to the sample elements:
M76: elméleti szórás becslése | N76: Schätzung der theoretischen Streuung | O76: estimation of the theoretical standard deviation
B77: =IF(T!$D$2=T!$M$2,M67,IF(T!$D$2=T!$N$2,N67,O67)) -> sample: | C77: H_0: | M77: =IF(T!$D$2=T!$M$2,M76,IF(T!$D$2=T!$N$2,N76,O76)) -> estimation of the theoretical standard deviation
B78: 100.5 | C78: 100
B79: 98.2 | C79: 100 | M79: elemszám | N79: Datenanzahl | O79: data count
B80: 99.1 | C80: 100 | M80: =IF(T!$D$2=T!$M$2,M79,IF(T!$D$2=T!$N$2,N79,O79)) -> data count
B81: 101.4 | C81: 100
B82: 96.8 | C82: 100 | M82: standard hiba (átlag szórása) | N82: Standardfehler (Streuung des Mittelwertes) | O82: standard error (standard deviation of the mean)
M83: =IF(T!$D$2=T!$M$2,M82,IF(T!$D$2=T!$N$2,N82,O82)) -> standard error _x000D_(standard deviation of the mean)
B84: =IF(T!$D$2=T!$M$2,M28,IF(T!$D$2=T!$N$2,N28,O28)) -> two-tailed p-value of the sample: | C84: =_xlfn.T.TEST(B78:B82,C78:C82,2,1) -> 0.38212579
B85: =IF(T!$D$2=T!$M$2,M26,IF(T!$D$2=T!$N$2,N26,O26)) -> sample t-value: | C85: =_xlfn.T.INV.2T(C84,4) -> 0.98102294 | D85: =IF(T!$D$2=T!$M$2,M68,IF(T!$D$2=T!$N$2,N68,O68)) -> I only calculate this because the tasks ask for it (the sign of the t-value does not matter at the evaluation of theexaminations) | M85: nullhipotézis | N85: Nullhypothese | O85: null hypothesis
B86: =IF(T!$D$2=T!$M$2,M29,IF(T!$D$2=T!$N$2,N29,O29)) -> decision: | C86: =IF(T!$D$2=T!$M$2,M30,IF(T!$D$2=T!$N$2,N30,O30)) -> H_0 is accepted because p_sample > p_crit (the random occurrence of the sample's mean is probable if H_0 is true) | M86: =IF(T!$D$2=T!$M$2,M85,IF(T!$D$2=T!$N$2,N85,O85)) -> null hypothesis
B88: =IF(T!$D$2=T!$M$2,M97,IF(T!$D$2=T!$N$2,N97,O97)) -> 4. Calculation with the "Data Analysis" program: | M88: várható érték | N88: Erwartungs-wert | O88: expected value
M89: =IF(T!$D$2=T!$M$2,M88,IF(T!$D$2=T!$N$2,N88,O88)) -> expected value
B90: =IF(T!$D$2=T!$M$2,M98,IF(T!$D$2=T!$N$2,N98,O98)) -> It only works on PC, not on Mac!
M91: minta t-értéke | N91: t-Wert der Stichprobe | O91: t-value of the sample
B92: =IF(T!$D$2=T!$M$2,M66,IF(T!$D$2=T!$N$2,N66,O66)) -> Copy the expected value according to the H_0 next to the sample elements: | M92: =IF(T!$D$2=T!$M$2,M91,IF(T!$D$2=T!$N$2,N91,O91)) -> t-value _x000D_of the sample
B94: =IF(T!$D$2=T!$M$2,M67,IF(T!$D$2=T!$N$2,N67,O67)) -> sample: | C94: H_0: | M94: minta kétszélű p-értéke | N94: zweiseitiger p-Wert der Stichprobe | O94: two-tailed p-value of the sample
B95: 100.5 | C95: 100 | M95: =IF(T!$D$2=T!$M$2,M94,IF(T!$D$2=T!$N$2,N94,O94)) -> two-tailed p-value _x000D_of the sample
B96: 98.2 | C96: 100
B97: 99.1 | C97: 100 | M97: 4. Számolás az „adatelemzés” kiegészítő programmal: | N97: 4. Berechnung mit dem "Datenanalyse" Program: | O97: 4. Calculation with the "Data Analysis" program:
B98: 101.4 | C98: 100 | M98: Csak PC-n működik, Mac-en nem! | N98: Es funktioniert nur auf PC, auf Mac nicht! | O98: It only works on PC, not on Mac!
B99: 96.8 | C99: 100 | M99: –> Adatok –> Adatelemzés –> Kétmintás párosított t-próba a várható értékre | N99: –> Daten –> Datenanalyse –> Zweistichproben t-Test bei abhängigen Stichproben | O99: –> Data –> Data Analysis –> t-Test: Paired Two Sample for Means
M100: Ha nem szerepel az Adatelemzés ikonja a menüben, telepíteni kell (Excel 2010): | N100: Wenn das Symbol der Datenanalyse nicht erscheint, soll das Rpogram installiert werden (Excel 2010): | O100: If the icon of Data Analysis can not be found, the program must be installed (Excel 2010):
B101: =IF(T!$D$2=T!$M$2,M99,IF(T!$D$2=T!$N$2,N99,O99)) -> –> Data _x000D_ –> Data Analysis _x000D_ –> t-Test: Paired Two Sample _x000D_ for Means | M101: –> Fájl –> Beállítások –> Bővítmények –> Excel Bővítmények –> Ugrás… –> Analysis ToolPak –> OK | N101: –> Datei –> Optionen –> Add-Ins –> Excel Add-Ins –> Gehe zu… –> Analysis ToolPak –> OK | O101: –> File –> Options –> Add-Ins –> Excel Add-Ins –> Go… –> Analysis ToolPak –> OK
B102: =IF(T!$D$2=T!$M$2,M100,IF(T!$D$2=T!$N$2,N100,O100)) -> If the icon of Data Analysis can not be found, the program must be installed (Excel 2010):
B103: =IF(T!$D$2=T!$M$2,M101,IF(T!$D$2=T!$N$2,N101,O101)) -> –> File _x000D_ –> Options _x000D_ –> Add-Ins _x000D_ –> Excel Add-Ins _x000D_ –> Go… _x000D_ –> Analysis ToolPak _x000D_ –> OK
M104: Kétmintás párosított t-próba a várható értékre | N104: Zweistichproben t-Test bei abhängigen Stichproben (Paarvergleichstest) | O104: t-Test: Paired Two Sample for Means
B106: =IF(T!$D$2=T!$M$2,M104,IF(T!$D$2=T!$N$2,N104,O104)) -> t-Test: Paired Two Sample for Means
M107: Várható érték | N107: Mittelwert | O107: Mean
C108: =IF(T!$D$2=T!$M$2,M119,IF(T!$D$2=T!$N$2,N119,O119)) -> Variable 1 | D108: =IF(T!$D$2=T!$M$2,M120,IF(T!$D$2=T!$N$2,N120,O120)) -> Variable 2 | M108: Variancia | N108: Varianz | O108: Variance
B109: =IF(T!$D$2=T!$M$2,M107,IF(T!$D$2=T!$N$2,N107,O107)) -> Mean | C109: 99.2 | D109: 100 | M109: Megfigyelések | N109: Beobachtungen | O109: Observations
...

Sheet 2
B2: =IF(T!$D$2=T!$M$2,M2,IF(T!$D$2=T!$N$2,N2,O2)) -> During the trial of a new drug the side effects were also examined. | M2: Egy új gyógyszer kipróbálásakor vizsgálták a mellékhatásokat. | N2: Während der Prüfung eines Arzneimittels wurden die Nebenwirkungen untersucht. | O2: During the trial of a new drug the side effects were also examined.
B3: =IF(T!$D$2=T!$M$2,M3,IF(T!$D$2=T!$N$2,N3,O3)) -> It was also checked whether the drug influences the fasting blood sugar level. | M3: Azt is ellenőrizni szerették volna, hogy a gyógyszer befolyásolja-e az éhomi vércukorszintet. | N3: Wir wollten auch untersuchen, ob das Arzneimittel den Nüchternblutzuckerspiegel beeinflußt. | O3: It was also checked whether the drug influences the fasting blood sugar level.
B4: =IF(T!$D$2=T!$M$2,M4,IF(T!$D$2=T!$N$2,N4,O4)) -> We took blood sample from ten treated patients: | M4: Vérmintát vettek tíz kezelt pácienstől: | N4: Von zehn Patienten wurde Blutprobe genommen: | O4: We took blood sample from ten treated patients:
M5: páciens sorszáma: | N5: Nummer des Patienten: | O5: patient number:
B6: =IF(T!$D$2=T!$M$2,M5,IF(T!$D$2=T!$N$2,N5,O5)) -> patient number: | C6: =IF(T!$D$2=T!$M$2,M6,IF(T!$D$2=T!$N$2,N6,O6)) -> fasting blood sugar level (mM): | M6: éhomi vércukor-szint (mM): | N6: Nüchtern-blutzucker-spiegel (mM): | O6: fasting blood sugar level (mM):
B7: 1 | C7: 4.6 | M7: Van-e szignifikáns eltérés a normális 5,0 mM értéktől 10%-os szignifikanciaszinten? | N7: Gibt es eine signifikante Abweichung vom 5,0 mM Normalwert beim 10% Signifikanzniveau? | O7: Is there a significant deviation from the 5.0 mM normal value at 10% level of significance?
B8: 2 | C8: 5.1 | M8: Az eloszlást tekintsük normálisnak. | N8: Es ist angenommen, dass die Verteilung normal ist. | O8: Consider the distribution as normal.
B9: 3 | C9: 4.4
B10: 4 | C10: 4.1 | M10: Milyen próbát kell használni? Az általános leírásban szereplő kóddal válaszolj! | N10: Welcher Test muss benutzt werden? Antworte mit dem in der Beschreibung stehenden Kode. | O10: What test should be used? Answer with the code given in the description.
B11: 5 | C11: 4.7 | M11: Mekkora a mintából számolt próbastatisztika? | N11: Was ist die aus der Stichbrobe errechnete Teststatistik? | O11: Find the test statistic calculated from the sample.
B12: 6 | C12: 4.2 | M12: Add meg a H_0 szerinti eloszlás létrehozásakor használandó szabadsági fokok számát. | N12: Gib die bei der Erstellung der H_0 Verteilung zu benutzende Anzahl der Freihetsgrade. | O12: Give the number of degrees of freedom used during the generation of the H_0 distribution.
B13: 7 | C13: 4.1 | M13: Add meg a minta kétszélű p-értékét. | N13: Gib den zweiseitigen Stichproben-p-Wert. | O13: Give the two-tailed sample p-value.
B14: 8 | C14: 5.1 | M14: Elvetendő a nullhipotézist? (igen=1, nem=0) | N14: Sollte die Nullhypothese abgelehnt werden? (ja=1, nein=0) | O14: Should the null hypothesis be rejected? (yes=1, no=0)
B15: 9 | C15: 4.5 | M15: Van szignifikáns mellékhatás? (igen=1, nem=0) | N15: Gibt es eine signifikante Nebenwirkung? (ja=1, nein=0) | O15: Is there a significant side effect? (yes=1, no=0)
B16: 10 | C16: 4.4 | M16: Milyen döntési hiba lehetséges? (α=1, β=2) | N16: Was ist der mögliche Entscheidungsfehler? (α=1, β=2) | O16: What is the possible decision error? (α=1, β=2)
M17: kritikus t-érték: | N17: kritischer t-Wert: | O17: critical t-value:
B18: =IF(T!$D$2=T!$M$2,M7,IF(T!$D$2=T!$N$2,N7,O7)) -> Is there a significant deviation from the 5.0 mM normal value at 10% level of significance? | M18: A H_0 szerinti t-eloszlás a konfidenciaintervallummal és a minta t-értékkel (nyíl) | N18: Die t-Verteilung nach der H_0 mit dem Konfidenzinterval und dem Stichproben-t-Wert (Pfeil) | O18: The t-distribution for the H_0 with the confidence interval and the sample t-value (arrow)
B19: =IF(T!$D$2=T!$M$2,M8,IF(T!$D$2=T!$N$2,N8,O8)) -> Consider the distribution as normal. | M19: =IF(T!$D$2=T!$M$2,M18,IF(T!$D$2=T!$N$2,N18,O18)) -> The t-distribution for the H_0 _x000D_with the confidence interval and _x000D_the sample t-value (arrow)
B21: =IF(T!$D$2=T!$M$2,M10,IF(T!$D$2=T!$N$2,N10,O10)) -> What test should be used? Answer with the code given in the description. | M21: t-érték | N21: t-Wert | O21: t-value
B22: =IF(T!$D$2=T!$M$2,M11,IF(T!$D$2=T!$N$2,N11,O11)) -> Find the test statistic calculated from the sample. | M22: =IF(T!$D$2=T!$M$2,M21,IF(T!$D$2=T!$N$2,N21,O21)) -> t-value
B23: =IF(T!$D$2=T!$M$2,M12,IF(T!$D$2=T!$N$2,N12,O12)) -> Give the number of degrees of freedom used during the generation of the H_0 distribution.
B24: =IF(T!$D$2=T!$M$2,M13,IF(T!$D$2=T!$N$2,N13,O13)) -> Give the two-tailed sample p-value.
B25: =IF(T!$D$2=T!$M$2,M14,IF(T!$D$2=T!$N$2,N14,O14)) -> Should the null hypothesis be rejected? (yes=1, no=0)
B26: =IF(T!$D$2=T!$M$2,M15,IF(T!$D$2=T!$N$2,N15,O15)) -> Is there a significant side effect? (yes=1, no=0)
B27: =IF(T!$D$2=T!$M$2,M16,IF(T!$D$2=T!$N$2,N16,O16)) -> What is the possible decision error? (α=1, β=2)

Sheet 2m
B2: =IF(T!$D$2=T!$M$2,M2,IF(T!$D$2=T!$N$2,N2,O2)) -> During the trial of a new drug the side effects were also examined. | M2: Egy új gyógyszer kipróbálásakor vizsgálták a mellékhatásokat. | N2: Während der Prüfung eines Arzneimittels wurden die Nebenwirkungen untersucht. | O2: During the trial of a new drug the side effects were also examined.
B3: =IF(T!$D$2=T!$M$2,M3,IF(T!$D$2=T!$N$2,N3,O3)) -> It was also checked whether the drug influences the fasting blood sugar level. | M3: Azt is ellenőrizni szerették volna, hogy a gyógyszer befolyásolja-e az éhomi vércukorszintet. | N3: Wir wollten auch untersuchen, ob das Arzneimittel den Nüchternblutzuckerspiegel beeinflußt. | O3: It was also checked whether the drug influences the fasting blood sugar level.
B4: =IF(T!$D$2=T!$M$2,M4,IF(T!$D$2=T!$N$2,N4,O4)) -> We took blood sample from ten treated patients: | M4: Vérmintát vettek tíz kezelt pácienstől: | N4: Von zehn Patienten wurde Blutprobe genommen: | O4: We took blood sample from ten treated patients:
M5: páciens sorszáma: | N5: Nummer des Patienten: | O5: patient number:
B6: =IF(T!$D$2=T!$M$2,M5,IF(T!$D$2=T!$N$2,N5,O5)) -> patient number: | C6: =IF(T!$D$2=T!$M$2,M6,IF(T!$D$2=T!$N$2,N6,O6)) -> fasting blood sugar level (mM): | D6: H_0 | M6: éhomi vércukor-szint (mM): | N6: Nüchtern-blutzucker-spiegel (mM): | O6: fasting blood sugar level (mM):
B7: 1 | C7: 4.6 | D7: 5 | M7: Van-e szignifikáns eltérés a normális 5,0 mM értéktől 10%-os szignifikanciaszinten? | N7: Gibt es eine signifikante Abweichung vom 5,0 mM Normalwert beim 10% Signifikanzniveau? | O7: Is there a significant deviation from the 5.0 mM normal value at 10% level of significance?
B8: 2 | C8: 5.1 | D8: 5 | M8: Az eloszlást tekintsük normálisnak. | N8: Es ist angenommen, dass die Verteilung normal ist. | O8: Consider the distribution as normal.
B9: 3 | C9: 4.4 | D9: 5
B10: 4 | C10: 4.1 | D10: 5 | M10: Milyen próbát kell használni? Az általános leírásban szereplő kóddal válaszolj! | N10: Welcher Test muss benutzt werden? Antworte mit dem in der Beschreibung stehenden Kode. | O10: What test should be used? Answer with the code given in the description.
B11: 5 | C11: 4.7 | D11: 5 | M11: Mekkora a mintából számolt próbastatisztika? | N11: Was ist die aus der Stichbrobe errechnete Teststatistik? | O11: Find the test statistic calculated from the sample.
B12: 6 | C12: 4.2 | D12: 5 | M12: Add meg a H_0 szerinti eloszlás létrehozásakor használandó szabadsági fokok számát. | N12: Gib die bei der Erstellung der H_0 Verteilung zu benutzende Anzahl der Freihetsgrade. | O12: Give the number of degrees of freedom used during the generation of the H_0 distribution.
B13: 7 | C13: 4.1 | D13: 5 | M13: Add meg a minta kétszélű p-értékét. | N13: Gib den zweiseitigen Stichproben-p-Wert. | O13: Give the two-tailed sample p-value.
B14: 8 | C14: 5.1 | D14: 5 | M14: Elvetendő a nullhipotézist? (igen=1, nem=0) | N14: Sollte die Nullhypothese abgelehnt werden? (ja=1, nein=0) | O14: Should the null hypothesis be rejected? (yes=1, no=0)
B15: 9 | C15: 4.5 | D15: 5 | M15: Van szignifikáns mellékhatás? (igen=1, nem=0) | N15: Gibt es eine signifikante Nebenwirkung? (ja=1, nein=0) | O15: Is there a significant side effect? (yes=1, no=0)
B16: 10 | C16: 4.4 | D16: 5 | M16: Milyen döntési hiba lehetséges? (α=1, β=2) | N16: Was ist der mögliche Entscheidungsfehler? (α=1, β=2) | O16: What is the possible decision error? (α=1, β=2)
M17: kritikus t-érték: | N17: kritischer t-Wert: | O17: critical t-value:
B18: =IF(T!$D$2=T!$M$2,M7,IF(T!$D$2=T!$N$2,N7,O7)) -> Is there a significant deviation from the 5.0 mM normal value at 10% level of significance? | M18: A H_0 szerinti t-eloszlás a konfidenciaintervallummal és a minta t-értékkel (nyíl) | N18: Die t-Verteilung nach der H_0 mit dem Konfidenzinterval und dem Stichproben-t-Wert (Pfeil) | O18: The t-distribution for the H_0 with the confidence interval and the sample t-value (arrow)
B19: =IF(T!$D$2=T!$M$2,M8,IF(T!$D$2=T!$N$2,N8,O8)) -> Consider the distribution as normal. | M19: =IF(T!$D$2=T!$M$2,M18,IF(T!$D$2=T!$N$2,N18,O18)) -> The t-distribution for the H_0 _x000D_with the confidence interval and _x000D_the sample t-value (arrow)
B21: =IF(T!$D$2=T!$M$2,M10,IF(T!$D$2=T!$N$2,N10,O10)) -> What test should be used? Answer with the code given in the description. | C21: t1 | M21: t-érték | N21: t-Wert | O21: t-value
B22: =IF(T!$D$2=T!$M$2,M11,IF(T!$D$2=T!$N$2,N11,O11)) -> Find the test statistic calculated from the sample. | C22: =_xlfn.T.INV.2T(C24,C23) -> 4.1638675 | M22: =IF(T!$D$2=T!$M$2,M21,IF(T!$D$2=T!$N$2,N21,O21)) -> t-value
B23: =IF(T!$D$2=T!$M$2,M12,IF(T!$D$2=T!$N$2,N12,O12)) -> Give the number of degrees of freedom used during the generation of the H_0 distribution. | C23: 9
B24: =IF(T!$D$2=T!$M$2,M13,IF(T!$D$2=T!$N$2,N13,O13)) -> Give the two-tailed sample p-value. | C24: =_xlfn.T.TEST(C7:C16,D7:D16,2,1) -> 0.0024336857
B25: =IF(T!$D$2=T!$M$2,M14,IF(T!$D$2=T!$N$2,N14,O14)) -> Should the null hypothesis be rejected? (yes=1, no=0) | C25: 1
B26: =IF(T!$D$2=T!$M$2,M15,IF(T!$D$2=T!$N$2,N15,O15)) -> Is there a significant side effect? (yes=1, no=0) | C26: 1
B27: =IF(T!$D$2=T!$M$2,M16,IF(T!$D$2=T!$N$2,N16,O16)) -> What is the possible decision error? (α=1, β=2) | C27: 1
B29: =IF(T!$D$2=T!$M$2,M17,IF(T!$D$2=T!$N$2,N17,O17)) -> critical t-value: | C29: =_xlfn.T.INV.2T(10%,C23) -> 1.8331129
B50: t | C50: dp/dt | D50: dp/dt | E50: dp/dt
B51: -5 | C51: =_xlfn.T.DIST(B51,9,0) -> 0.00050429976
B52: -4.99 | C52: =_xlfn.T.DIST(B52,9,0) -> 0.00051177427
B53: -4.98 | C53: =_xlfn.T.DIST(B53,9,0) -> 0.00051936675
B54: -4.97 | C54: =_xlfn.T.DIST(B54,9,0) -> 0.00052707917
B55: -4.96 | C55: =_xlfn.T.DIST(B55,9,0) -> 0.0005349135
B56: -4.95 | C56: =_xlfn.T.DIST(B56,9,0) -> 0.00054287178
B57: -4.94 | C57: =_xlfn.T.DIST(B57,9,0) -> 0.00055095607
B58: -4.93 | C58: =_xlfn.T.DIST(B58,9,0) -> 0.00055916847
B59: -4.92 | C59: =_xlfn.T.DIST(B59,9,0) -> 0.00056751111
B60: -4.91 | C60: =_xlfn.T.DIST(B60,9,0) -> 0.00057598617
B61: -4.9 | C61: =_xlfn.T.DIST(B61,9,0) -> 0.00058459584
B62: -4.89 | C62: =_xlfn.T.DIST(B62,9,0) -> 0.00059334239
... B367: -1.84 | C367: =_xlfn.T.DIST(B367,9,0) -> 0.078613674
B368: -1.83 | D368: =_xlfn.T.DIST(B368,9,0) -> 0.079788808
B369: -1.82 | D369: =_xlfn.T.DIST(B369,9,0) -> 0.080978507
B370: -1.81 | D370: =_xlfn.T.DIST(B370,9,0) -> 0.082182861
B371: -1.8 | D371: =_xlfn.T.DIST(B371,9,0) -> 0.08340196
B372: -1.79 | D372: =_xlfn.T.DIST(B372,9,0) -> 0.084635888
B373: -1.78 | D373: =_xlfn.T.DIST(B373,9,0) -> 0.085884731
B374: -1.77 | D374: =_xlfn.T.DIST(B374,9,0) -> 0.087148568
B375: -1.76 | D375: =_xlfn.T.DIST(B375,9,0) -> 0.088427479
B376: -1.75 | D376: =_xlfn.T.DIST(B376,9,0) -> 0.089721539
B377: -1.74 | D377: =_xlfn.T.DIST(B377,9,0) -> 0.091030822
B378: -1.73 | D378: =_xlfn.T.DIST(B378,9,0) -> 0.092355398
B379: -1.72 | D379: =_xlfn.T.DIST(B379,9,0) -> 0.093695334
... B734: 1.83 | D734: =_xlfn.T.DIST(B734,9,0) -> 0.079788808
B735: 1.84 | C735: =_xlfn.T.DIST(B735,9,0) -> 0.078613674
B736: 1.85 | C736: =_xlfn.T.DIST(B736,9,0) -> 0.077453013
B737: 1.86 | C737: =_xlfn.T.DIST(B737,9,0) -> 0.07630673
B738: 1.87 | C738: =_xlfn.T.DIST(B738,9,0) -> 0.075174729
B739: 1.88 | C739: =_xlfn.T.DIST(B739,9,0) -> 0.074056911
B740: 1.89 | C740: =_xlfn.T.DIST(B740,9,0) -> 0.072953177
B741: 1.9 | C741: =_xlfn.T.DIST(B741,9,0) -> 0.071863425
B742: 1.91 | C742: =_xlfn.T.DIST(B742,9,0) -> 0.070787552
B743: 1.92 | C743: =_xlfn.T.DIST(B743,9,0) -> 0.069725453
B744: 1.93 | C744: =_xlfn.T.DIST(B744,9,0) -> 0.068677022
B745: 1.94 | C745: =_xlfn.T.DIST(B745,9,0) -> 0.067642152
B746: 1.95 | C746: =_xlfn.T.DIST(B746,9,0) -> 0.066620735
... B965: 4.14 | C965: =_xlfn.T.DIST(B965,9,0) -> 0.0018775377
B966: 4.15 | E966: =_xlfn.T.DIST(B966,9,0) -> 0.0018480464
B967: 4.16 | E967: =_xlfn.T.DIST(B967,9,0) -> 0.0018190402
B968: 4.17 | E968: =_xlfn.T.DIST(B968,9,0) -> 0.0017905106
B969: 4.18 | C969: =_xlfn.T.DIST(B969,9,0) -> 0.0017624498
B970: 4.19 | C970: =_xlfn.T.DIST(B970,9,0) -> 0.0017348498
B971: 4.2 | C971: =_xlfn.T.DIST(B971,9,0) -> 0.0017077026
B972: 4.21 | C972: =_xlfn.T.DIST(B972,9,0) -> 0.0016810007
B973: 4.22 | C973: =_xlfn.T.DIST(B973,9,0) -> 0.0016547366
B974: 4.23 | C974: =_xlfn.T.DIST(B974,9,0) -> 0.0016289028
B975: 4.24 | C975: =_xlfn.T.DIST(B975,9,0) -> 0.001603492
B976: 4.25 | C976: =_xlfn.T.DIST(B976,9,0) -> 0.0015784971
B977: 4.26 | C977: =_xlfn.T.DIST(B977,9,0) -> 0.001553911
B978: 4.27 | C978: =_xlfn.T.DIST(B978,9,0) -> 0.0015297268
B979: 4.28 | C979: =_xlfn.T.DIST(B979,9,0) -> 0.0015059378
B980: 4.29 | C980: =_xlfn.T.DIST(B980,9,0) -> 0.0014825373
... B1051: 5 | C1051: =_xlfn.T.DIST(B1051,9,0) -> 0.00050429976

Sheet 3
B2: =IF(T!$D$2=T!$M$2,M2,IF(T!$D$2=T!$N$2,N2,O2)) -> The two sections in the image have the same length. | M2: Az ábrán látható két szakasz egyforma hosszúságú. | N2: Die zwei Strecken in der Abbieldung haben die gleiche Länge. | O2: The two sections in the image have the same length.
B3: =IF(T!$D$2=T!$M$2,M3,IF(T!$D$2=T!$N$2,N3,O3)) -> However, because of optical illusion, for many people they seem to have different length. | M3: Azonban optikai csalódás miatt az emberek eltérő hosszúságúnak látják őket. | N3: Aber wegen optischer Täuschung, scheinen sie für meiste Leute unterschiedlich lang sein. | O3: However, because of optical illusion, for many people they seem to have different length.
B4: =IF(T!$D$2=T!$M$2,M4,IF(T!$D$2=T!$N$2,N4,O4)) -> To examine this we asked 7 people by how many mm does the lower section seem to be longer (+) or shorter (-) than the upper. | M4: Ezt vizsgálandó megkérdeztünk 7 embert, hogy hány mm-rel látja hosszabbnak (+) vagy rövidebbnek (-) az alsó szakaszt a felsőnél. | N4: Um diese Behauptung zu untersuchen, haben wir 7 Personen gefragt, wie viel mm länger (+) oder kürzer (-) finden sie die untere Strecke als die obere. | O4: To examine this we asked 7 people by how many mm does the lower section seem to be longer (+) or shorter (-) than the upper.
M5: személy sorszáma: | N5: Nummer der Person: | O5: number of the person:
B6: =IF(T!$D$2=T!$M$2,M5,IF(T!$D$2=T!$N$2,N5,O5)) -> number of the person: | C6: =IF(T!$D$2=T!$M$2,M6,IF(T!$D$2=T!$N$2,N6,O6)) -> How much does the lower section deviate from the upper one? (mm) | M6: mennyivel tér el az alsó a felsőtől? (mm) | N6: Mit wie viel mm abweicht die untere Strecke von der obere? | O6: How much does the lower section deviate from the upper one? (mm)
B7: 1 | C7: 2 | M7: Van-e szignifikáns eltérés 3% szignifikanciaszinten? | N7: Gibt es eine signifikante Abweichung beim 3% Signifikanzniveau? | O7: Is there a significant deviation at 3% level of significance?
B8: 2 | C8: 1 | M8: Tegyük fel, hogy az eloszlás normális. | N8: Es ist angenommen, dass die Verteilung normal ist. | O8: Take the distribution as normal.
B9: 3 | C9: 2.5 | M9: Milyen hipotézisvizsgálatot alkalmazol? Az általános leírásban szereplő kóddal válaszolj! | N9: Welcher Test muss benutzt werden? Antworte mit dem in der Beschreibung stehenden Kode. | O9: What test should be used? Answer with the code given in the description.
B10: 4 | C10: 0 | M10: Mekkora a mintából számolt próbastatisztika? | N10: Was ist die aus der Stichbrobe errechnete Teststatistik? | O10: Find the test statistic calculated from the sample.
B11: 5 | C11: 1 | M11: Add meg a minta kétszélű p-értékét. | N11: Gib den zweiseitigen Stichproben-p-Wert. | O11: Give the two-tailed sample p-value.
B12: 6 | C12: 0.5 | M12: Elfogadhatjuk az alternatív hipotézist? (igen=1, nem=0) | N12: Sollte die alternative Hypothese angenommen werden? (ja=1, nein=0) | O12: Should the alternative hypothesis be accepted? (yes=1, no=0)
B13: 7 | C13: 1.5 | M13: Van szignifikáns optikai csalódás? (igen=1, nem=0) | N13: Gibt es eine signifikante optische Täuschung? (ja=1, nein=0) | O13: Is there a significant optical illusion? (yes=1, no=0)
M14: Milyen döntési hiba lehetséges? (α=1, β=2) | N14: Was ist der mögliche Entscheidungsfehler? (α=1, β=2) | O14: What is the possible decision error? (α=1, β=2)
B15: =IF(T!$D$2=T!$M$2,M7,IF(T!$D$2=T!$N$2,N7,O7)) -> Is there a significant deviation at 3% level of significance? | M15: kritikus t-érték: | N15: kritischer t-Wert: | O15: critical t-value:
B16: =IF(T!$D$2=T!$M$2,M8,IF(T!$D$2=T!$N$2,N8,O8)) -> Take the distribution as normal.
B18: =IF(T!$D$2=T!$M$2,M9,IF(T!$D$2=T!$N$2,N9,O9)) -> What test should be used? Answer with the code given in the description. | M18: A H_0 szerinti t-eloszlás a konfidenciaintervallummal és a minta t-értékkel (nyíl) | N18: Die t-Verteilung nach der H_0 mit dem Konfidenzinterval und dem Stichproben-t-Wert (Pfeil) | O18: The t-distribution for the H_0 with the confidence interval and the sample t-value (arrow)
B19: =IF(T!$D$2=T!$M$2,M10,IF(T!$D$2=T!$N$2,N10,O10)) -> Find the test statistic calculated from the sample. | M19: =IF(T!$D$2=T!$M$2,M18,IF(T!$D$2=T!$N$2,N18,O18)) -> The t-distribution for the H_0 _x000D_with the confidence interval and _x000D_the sample t-value (arrow)
B20: =IF(T!$D$2=T!$M$2,M11,IF(T!$D$2=T!$N$2,N11,O11)) -> Give the two-tailed sample p-value.
B21: =IF(T!$D$2=T!$M$2,M12,IF(T!$D$2=T!$N$2,N12,O12)) -> Should the alternative hypothesis be accepted? (yes=1, no=0) | M21: t-érték | N21: t-Wert | O21: t-value
B22: =IF(T!$D$2=T!$M$2,M13,IF(T!$D$2=T!$N$2,N13,O13)) -> Is there a significant optical illusion? (yes=1, no=0) | M22: =IF(T!$D$2=T!$M$2,M21,IF(T!$D$2=T!$N$2,N21,O21)) -> t-value
B23: =IF(T!$D$2=T!$M$2,M14,IF(T!$D$2=T!$N$2,N14,O14)) -> What is the possible decision error? (α=1, β=2)

Sheet 3m
B2: =IF(T!$D$2=T!$M$2,M2,IF(T!$D$2=T!$N$2,N2,O2)) -> The two sections in the image have the same length. | M2: Az ábrán látható két szakasz egyforma hosszúságú. | N2: Die zwei Strecken in der Abbieldung haben die gleiche Länge. | O2: The two sections in the image have the same length.
B3: =IF(T!$D$2=T!$M$2,M3,IF(T!$D$2=T!$N$2,N3,O3)) -> However, because of optical illusion, for many people they seem to have different length. | M3: Azonban optikai csalódás miatt az emberek eltérő hosszúságúnak látják őket. | N3: Aber wegen optischer Täuschung, scheinen sie für meiste Leute unterschiedlich lang sein. | O3: However, because of optical illusion, for many people they seem to have different length.
B4: =IF(T!$D$2=T!$M$2,M4,IF(T!$D$2=T!$N$2,N4,O4)) -> To examine this we asked 7 people by how many mm does the lower section seem to be longer (+) or shorter (-) than the upper. | M4: Ezt vizsgálandó megkérdeztünk 7 embert, hogy hány mm-rel látja hosszabbnak (+) vagy rövidebbnek (-) az alsó szakaszt a felsőnél. | N4: Um diese Behauptung zu untersuchen, haben wir 7 Personen gefragt, wie viel mm länger (+) oder kürzer (-) finden sie die untere Strecke als die obere. | O4: To examine this we asked 7 people by how many mm does the lower section seem to be longer (+) or shorter (-) than the upper.
M5: személy sorszáma: | N5: Nummer der Person: | O5: number of the person:
B6: =IF(T!$D$2=T!$M$2,M5,IF(T!$D$2=T!$N$2,N5,O5)) -> number of the person: | C6: =IF(T!$D$2=T!$M$2,M6,IF(T!$D$2=T!$N$2,N6,O6)) -> How much does the lower section deviate from the upper one? (mm) | D6: H_0 | M6: mennyivel tér el az alsó a felsőtől? (mm) | N6: Mit wie viel mm abweicht die untere Strecke von der obere? | O6: How much does the lower section deviate from the upper one? (mm)
B7: 1 | C7: 2 | D7: 0 | M7: Van-e szignifikáns eltérés 3% szignifikanciaszinten? | N7: Gibt es eine signifikante Abweichung beim 3% Signifikanzniveau? | O7: Is there a significant deviation at 3% level of significance?
B8: 2 | C8: 1 | D8: 0 | M8: Tegyük fel, hogy az eloszlás normális. | N8: Es ist angenommen, dass die Verteilung normal ist. | O8: Take the distribution as normal.
B9: 3 | C9: 2.5 | D9: 0 | M9: Milyen hipotézisvizsgálatot alkalmazol? Az általános leírásban szereplő kóddal válaszolj! | N9: Welcher Test muss benutzt werden? Antworte mit dem in der Beschreibung stehenden Kode. | O9: What test should be used? Answer with the code given in the description.
B10: 4 | C10: 0 | D10: 0 | M10: Mekkora a mintából számolt próbastatisztika? | N10: Was ist die aus der Stichbrobe errechnete Teststatistik? | O10: Find the test statistic calculated from the sample.
B11: 5 | C11: 1 | D11: 0 | M11: Add meg a minta kétszélű p-értékét. | N11: Gib den zweiseitigen Stichproben-p-Wert. | O11: Give the two-tailed sample p-value.
B12: 6 | C12: 0.5 | D12: 0 | M12: Elfogadhatjuk az alternatív hipotézist? (igen=1, nem=0) | N12: Sollte die alternative Hypothese angenommen werden? (ja=1, nein=0) | O12: Should the alternative hypothesis be accepted? (yes=1, no=0)
B13: 7 | C13: 1.5 | D13: 0 | M13: Van szignifikáns optikai csalódás? (igen=1, nem=0) | N13: Gibt es eine signifikante optische Täuschung? (ja=1, nein=0) | O13: Is there a significant optical illusion? (yes=1, no=0)
M14: Milyen döntési hiba lehetséges? (α=1, β=2) | N14: Was ist der mögliche Entscheidungsfehler? (α=1, β=2) | O14: What is the possible decision error? (α=1, β=2)
B15: =IF(T!$D$2=T!$M$2,M7,IF(T!$D$2=T!$N$2,N7,O7)) -> Is there a significant deviation at 3% level of significance? | M15: kritikus t-érték: | N15: kritischer t-Wert: | O15: critical t-value:
B16: =IF(T!$D$2=T!$M$2,M8,IF(T!$D$2=T!$N$2,N8,O8)) -> Take the distribution as normal.
B18: =IF(T!$D$2=T!$M$2,M9,IF(T!$D$2=T!$N$2,N9,O9)) -> What test should be used? Answer with the code given in the description. | C18: t1 | M18: A H_0 szerinti t-eloszlás a konfidenciaintervallummal és a minta t-értékkel (nyíl) | N18: Die t-Verteilung nach der H_0 mit dem Konfidenzinterval und dem Stichproben-t-Wert (Pfeil) | O18: The t-distribution for the H_0 with the confidence interval and the sample t-value (arrow)
B19: =IF(T!$D$2=T!$M$2,M10,IF(T!$D$2=T!$N$2,N10,O10)) -> Find the test statistic calculated from the sample. | C19: =_xlfn.T.INV.2T(C20,6) -> 3.7395014 | M19: =IF(T!$D$2=T!$M$2,M18,IF(T!$D$2=T!$N$2,N18,O18)) -> The t-distribution for the H_0 _x000D_with the confidence interval and _x000D_the sample t-value (arrow)
B20: =IF(T!$D$2=T!$M$2,M11,IF(T!$D$2=T!$N$2,N11,O11)) -> Give the two-tailed sample p-value. | C20: =_xlfn.T.TEST(C7:C13,D7:D13,2,1) -> 0.0096281337
B21: =IF(T!$D$2=T!$M$2,M12,IF(T!$D$2=T!$N$2,N12,O12)) -> Should the alternative hypothesis be accepted? (yes=1, no=0) | C21: 1 | M21: t-érték | N21: t-Wert | O21: t-value
B22: =IF(T!$D$2=T!$M$2,M13,IF(T!$D$2=T!$N$2,N13,O13)) -> Is there a significant optical illusion? (yes=1, no=0) | C22: 1 | M22: =IF(T!$D$2=T!$M$2,M21,IF(T!$D$2=T!$N$2,N21,O21)) -> t-value
B23: =IF(T!$D$2=T!$M$2,M14,IF(T!$D$2=T!$N$2,N14,O14)) -> What is the possible decision error? (α=1, β=2) | C23: 1
B25: =IF(T!$D$2=T!$M$2,M15,IF(T!$D$2=T!$N$2,N15,O15)) -> critical t-value: | C25: =_xlfn.T.INV.2T(3%,6) -> 2.8289279
B41: t | C41: dp/dt | D41: dp/dt | E41: dp/dt
B42: -5 | C42: =_xlfn.T.DIST(B42,6,0) -> 0.001220841
B43: -4.99 | C43: =_xlfn.T.DIST(B43,6,0) -> 0.0012347113
B44: -4.98 | C44: =_xlfn.T.DIST(B44,6,0) -> 0.0012487566
B45: -4.97 | C45: =_xlfn.T.DIST(B45,6,0) -> 0.0012629791
B46: -4.96 | C46: =_xlfn.T.DIST(B46,6,0) -> 0.0012773813
B47: -4.95 | C47: =_xlfn.T.DIST(B47,6,0) -> 0.0012919658
B48: -4.94 | C48: =_xlfn.T.DIST(B48,6,0) -> 0.0013067349
B49: -4.93 | C49: =_xlfn.T.DIST(B49,6,0) -> 0.0013216913
B50: -4.92 | C50: =_xlfn.T.DIST(B50,6,0) -> 0.0013368375
B51: -4.91 | C51: =_xlfn.T.DIST(B51,6,0) -> 0.0013521762
B52: -4.9 | C52: =_xlfn.T.DIST(B52,6,0) -> 0.0013677101
B53: -4.89 | C53: =_xlfn.T.DIST(B53,6,0) -> 0.0013834417
... B258: -2.84 | C258: =_xlfn.T.DIST(B258,6,0) -> 0.019403099
B259: -2.83 | D259: =_xlfn.T.DIST(B259,6,0) -> 0.019679357
B260: -2.82 | D260: =_xlfn.T.DIST(B260,6,0) -> 0.019959691
B261: -2.81 | D261: =_xlfn.T.DIST(B261,6,0) -> 0.02024416
B262: -2.8 | D262: =_xlfn.T.DIST(B262,6,0) -> 0.020532825
B263: -2.79 | D263: =_xlfn.T.DIST(B263,6,0) -> 0.020825746
B264: -2.78 | D264: =_xlfn.T.DIST(B264,6,0) -> 0.021122985
B265: -2.77 | D265: =_xlfn.T.DIST(B265,6,0) -> 0.021424604
B266: -2.76 | D266: =_xlfn.T.DIST(B266,6,0) -> 0.021730665
B267: -2.75 | D267: =_xlfn.T.DIST(B267,6,0) -> 0.022041234
B268: -2.74 | D268: =_xlfn.T.DIST(B268,6,0) -> 0.022356374
B269: -2.73 | D269: =_xlfn.T.DIST(B269,6,0) -> 0.02267615
B270: -2.72 | D270: =_xlfn.T.DIST(B270,6,0) -> 0.02300063
... B358: -1.84 | D358: =_xlfn.T.DIST(B358,6,0) -> 0.079948051
B359: -1.83 | D359: =_xlfn.T.DIST(B359,9,0) -> 0.079788808
B360: -1.82 | D360: =_xlfn.T.DIST(B360,9,0) -> 0.080978507
B361: -1.81 | D361: =_xlfn.T.DIST(B361,9,0) -> 0.082182861
B362: -1.8 | D362: =_xlfn.T.DIST(B362,9,0) -> 0.08340196
B363: -1.79 | D363: =_xlfn.T.DIST(B363,9,0) -> 0.084635888
B364: -1.78 | D364: =_xlfn.T.DIST(B364,9,0) -> 0.085884731
B365: -1.77 | D365: =_xlfn.T.DIST(B365,9,0) -> 0.087148568
B366: -1.76 | D366: =_xlfn.T.DIST(B366,9,0) -> 0.088427479
B367: -1.75 | D367: =_xlfn.T.DIST(B367,9,0) -> 0.089721539
B368: -1.74 | D368: =_xlfn.T.DIST(B368,9,0) -> 0.091030822
B369: -1.73 | D369: =_xlfn.T.DIST(B369,9,0) -> 0.092355398
B370: -1.72 | D370: =_xlfn.T.DIST(B370,9,0) -> 0.093695334
... B825: 2.83 | D825: =_xlfn.T.DIST(B825,9,0) -> 0.016095416
B826: 2.84 | C826: =_xlfn.T.DIST(B826,9,0) -> 0.015829804
B827: 2.85 | C827: =_xlfn.T.DIST(B827,9,0) -> 0.015568525
B828: 2.86 | C828: =_xlfn.T.DIST(B828,9,0) -> 0.015311513
B829: 2.87 | C829: =_xlfn.T.DIST(B829,9,0) -> 0.015058702
B830: 2.88 | C830: =_xlfn.T.DIST(B830,9,0) -> 0.014810027
B831: 2.89 | C831: =_xlfn.T.DIST(B831,9,0) -> 0.014565424
B832: 2.9 | C832: =_xlfn.T.DIST(B832,9,0) -> 0.01432483
B833: 2.91 | C833: =_xlfn.T.DIST(B833,9,0) -> 0.014088183
B834: 2.92 | C834: =_xlfn.T.DIST(B834,9,0) -> 0.013855422
B835: 2.93 | C835: =_xlfn.T.DIST(B835,9,0) -> 0.013626485
B836: 2.94 | C836: =_xlfn.T.DIST(B836,9,0) -> 0.013401312
B837: 2.95 | C837: =_xlfn.T.DIST(B837,9,0) -> 0.013179846
... B914: 3.72 | C914: =_xlfn.T.DIST(B914,9,0) -> 0.0036876948
B915: 3.73 | E915: =_xlfn.T.DIST(B915,9,0) -> 0.0036281317
B916: 3.74 | E916: =_xlfn.T.DIST(B916,9,0) -> 0.0035695641
B917: 3.75 | E917: =_xlfn.T.DIST(B917,9,0) -> 0.0035119751
B918: 3.76 | C918: =_xlfn.T.DIST(B918,9,0) -> 0.0034553481
B919: 3.77 | C919: =_xlfn.T.DIST(B919,9,0) -> 0.0033996667
B920: 3.78 | C920: =_xlfn.T.DIST(B920,9,0) -> 0.003344915
B921: 3.79 | C921: =_xlfn.T.DIST(B921,9,0) -> 0.0032910771
B922: 3.8 | C922: =_xlfn.T.DIST(B922,9,0) -> 0.0032381377
B923: 3.81 | C923: =_xlfn.T.DIST(B923,9,0) -> 0.0031860813
B924: 3.82 | C924: =_xlfn.T.DIST(B924,9,0) -> 0.0031348931
B925: 3.83 | C925: =_xlfn.T.DIST(B925,9,0) -> 0.0030845582
B926: 3.84 | C926: =_xlfn.T.DIST(B926,9,0) -> 0.0030350623
B927: 3.85 | C927: =_xlfn.T.DIST(B927,9,0) -> 0.002986391
B928: 3.86 | C928: =_xlfn.T.DIST(B928,9,0) -> 0.0029385304
B929: 3.87 | C929: =_xlfn.T.DIST(B929,9,0) -> 0.0028914666
... B1042: 5 | C1042: =_xlfn.T.DIST(B1042,9,0) -> 0.00050429976

Sheet 4
B2: =IF(T!$D$2=T!$M$2,M2,IF(T!$D$2=T!$N$2,N2,O2)) -> We examined in a group whether making ten squats affects the pulse rate. | M2: Egy csoportban megvizsgáltuk, hogy van e hatása a pulzusszámra 10 guggolásnak. | N2: Wir untersuchten in einer Gruppe, ob zehn Kniebeugen machen einen Einfluss auf die Pulsfrequenz hat. | O2: We examined in a group whether making ten squats affects the pulse rate.
B3: =IF(T!$D$2=T!$M$2,M3,IF(T!$D$2=T!$N$2,N3,O3)) -> First, all the 17 students of the group determined the pulse rate. | M3: Először a csoport mind a 17 hallgatója megszámolta a percenkénti pulzust. | N3: Zuerst, alle die 17 Studenten der Gruppe bestimmten die Pulsfrequenz. | O3: First, all the 17 students of the group determined the pulse rate.
B4: =IF(T!$D$2=T!$M$2,M4,IF(T!$D$2=T!$N$2,N4,O4)) -> Then everyone made ten squats, and determined the pulse rate again. | M4: Miután mindenki csinált 10 guggolást, ismét megszámoltuk a percenkénti pulzust. | N4: Dann machten sie zehn Kniebeugen, und bestimmten sie die Pulsfrequenz wieder. | O4: Then everyone made ten squats, and determined the pulse rate again.
M5: Hallgató sorszáma: | N5: Nummer des Students: | O5: Student No.:
B6: =IF(T!$D$2=T!$M$2,M5,IF(T!$D$2=T!$N$2,N5,O5)) -> Student No.: | C6: =IF(T!$D$2=T!$M$2,M6,IF(T!$D$2=T!$N$2,N6,O6)) -> Original pulse rate (1/min): | D6: =IF(T!$D$2=T!$M$2,M7,IF(T!$D$2=T!$N$2,N7,O7)) -> Pulse rate after 10 squats (1/min): | M6: Eredeti pulzusszám (1/min): | N6: Ursprüngliche Pulszahl (1/min): | O6: Original pulse rate (1/min):
B7: 1 | C7: 65 | D7: 78 | M7: Pulzusszám 10 guggolás után (1/min): | N7: Pulszahl nach zehn Kniebeugen (1/min): | O7: Pulse rate after 10 squats (1/min):
B8: 2 | C8: 73 | D8: 90 | M8: Van szignifikáns változás 1‰ szignifikancia szinten? | N8: Gibt es eine signifikante Änderung beim 1‰ Signifikanzniveau? | O8: Is there a significant change at 1‰ significance level?
B9: 3 | C9: 66 | D9: 88 | M9: A normalis eloszlásra végzett illeszkedésvizsgálat számolt p-értéke 0,93. | N9: Der errechnete p-Wert des Anpassungstests für die Normalverteilung ist 0,93. | O9: The calculated p-value of the test for fit for normality is 0.93.
B10: 4 | C10: 77 | D10: 79 | M10: Milyen hipotézisvizsgálatot alkalmazol? Az általános leírásban szereplő kóddal válaszolj! | N10: Welcher Test muss benutzt werden? Antworte mit dem in der Beschreibung stehenden Kode. | O10: What test should be used? Answer with the code given in the description.
B11: 5 | C11: 60 | D11: 87 | M11: Mekkora a mintából számolt próbastatisztika? | N11: Was ist die aus der Stichbrobe errechnete Teststatistik (Prüfgröße)? | O11: Find the test statistic calculated from the sample.
B12: 6 | C12: 64 | D12: 85 | M12: Add meg a minta kétszélű p-értékét. | N12: Gib den zweiseitigen Stichproben-p-Wert. | O12: Give the two-tailed sample p-value.
B13: 7 | C13: 75 | D13: 103 | M13: Elfogadhatjuk az alternatív hipotézist? (igen=1, nem=0) | N13: Sollte die alternative Hypothese angenommen werden? (ja=1, nein=0) | O13: Should the alternative hypothesis be accepted? (yes=1, no=0)
B14: 8 | C14: 81 | D14: 100 | M14: Van szignifikáns pulzusváltozás? (igen=1, nem=0) | N14: Gibt es eine signifikante Pulszahländerung? (ja=1, nein=0) | O14: Is there a significant pulse rate change? (yes=1, no=0)
B15: 9 | C15: 78 | D15: 105 | M15: Milyen döntési hiba lehetséges? (α=1, β=2) | N15: Was ist der mögliche Entscheidungsfehler? (α=1, β=2) | O15: What is the possible decision error? (α=1, β=2)
B16: 10 | C16: 75 | D16: 99 | M16: mivel az illeszkedésvizsgálat során p_minta > p_krit (átalában 5%), NINCS szignifikáns eltérés a normális eloszlástól | N16: weil der p-Wert des Anpassungtests > p_krit (gewöhnlich 5%), es gibt KEINE signifikante abweichung von der Normalverteilung. | O16: because during the test for fit p_sample > p_crit (usually 5%), there is NO significant deviation from the normal distribution.
B17: 11 | C17: 69 | D17: 85
B18: 12 | C18: 60 | D18: 81
B19: 13 | C19: 82 | D19: 97
B20: 14 | C20: 86 | D20: 102
B21: 15 | C21: 90 | D21: 110
B22: 16 | C22: 75 | D22: 89
B23: 17 | C23: 77 | D23: 83
B25: =IF(T!$D$2=T!$M$2,M8,IF(T!$D$2=T!$N$2,N8,O8)) -> Is there a significant change at 1‰ significance level?
B26: =IF(T!$D$2=T!$M$2,M9,IF(T!$D$2=T!$N$2,N9,O9)) -> The calculated p-value of the test for fit for normality is 0.93.
B28: =IF(T!$D$2=T!$M$2,M10,IF(T!$D$2=T!$N$2,N10,O10)) -> What test should be used? Answer with the code given in the description.
B29: =IF(T!$D$2=T!$M$2,M11,IF(T!$D$2=T!$N$2,N11,O11)) -> Find the test statistic calculated from the sample.
B30: =IF(T!$D$2=T!$M$2,M12,IF(T!$D$2=T!$N$2,N12,O12)) -> Give the two-tailed sample p-value.
B31: =IF(T!$D$2=T!$M$2,M13,IF(T!$D$2=T!$N$2,N13,O13)) -> Should the alternative hypothesis be accepted? (yes=1, no=0)
B32: =IF(T!$D$2=T!$M$2,M14,IF(T!$D$2=T!$N$2,N14,O14)) -> Is there a significant pulse rate change? (yes=1, no=0)
B33: =IF(T!$D$2=T!$M$2,M15,IF(T!$D$2=T!$N$2,N15,O15)) -> What is the possible decision error? (α=1, β=2)

Sheet 4m
B2: =IF(T!$D$2=T!$M$2,M2,IF(T!$D$2=T!$N$2,N2,O2)) -> We examined in a group whether making ten squats affects the pulse rate. | M2: Egy csoportban megvizsgáltuk, hogy van e hatása a pulzusszámra 10 guggolásnak. | N2: Wir untersuchten in einer Gruppe, ob zehn Kniebeugen machen einen Einfluss auf die Pulsfrequenz hat. | O2: We examined in a group whether making ten squats affects the pulse rate.
B3: =IF(T!$D$2=T!$M$2,M3,IF(T!$D$2=T!$N$2,N3,O3)) -> First, all the 17 students of the group determined the pulse rate. | M3: Először a csoport mind a 17 hallgatója megszámolta a percenkénti pulzust. | N3: Zuerst, alle die 17 Studenten der Gruppe bestimmten die Pulsfrequenz. | O3: First, all the 17 students of the group determined the pulse rate.
B4: =IF(T!$D$2=T!$M$2,M4,IF(T!$D$2=T!$N$2,N4,O4)) -> Then everyone made ten squats, and determined the pulse rate again. | M4: Miután mindenki csinált 10 guggolást, ismét megszámoltuk a percenkénti pulzust. | N4: Dann machten sie zehn Kniebeugen, und bestimmten sie die Pulsfrequenz wieder. | O4: Then everyone made ten squats, and determined the pulse rate again.
M5: Hallgató sorszáma: | N5: Nummer des Students: | O5: Student No.:
B6: =IF(T!$D$2=T!$M$2,M5,IF(T!$D$2=T!$N$2,N5,O5)) -> Student No.: | C6: =IF(T!$D$2=T!$M$2,M6,IF(T!$D$2=T!$N$2,N6,O6)) -> Original pulse rate (1/min): | D6: =IF(T!$D$2=T!$M$2,M7,IF(T!$D$2=T!$N$2,N7,O7)) -> Pulse rate after 10 squats (1/min): | M6: Eredeti pulzusszám (1/min): | N6: Ursprüngliche Pulszahl (1/min): | O6: Original pulse rate (1/min):
B7: 1 | C7: 65 | D7: 78 | M7: Pulzusszám 10 guggolás után (1/min): | N7: Pulszahl nach zehn Kniebeugen (1/min): | O7: Pulse rate after 10 squats (1/min):
B8: 2 | C8: 73 | D8: 90 | M8: Van szignifikáns változás 1‰ szignifikancia szinten? | N8: Gibt es eine signifikante Änderung beim 1‰ Signifikanzniveau? | O8: Is there a significant change at 1‰ significance level?
B9: 3 | C9: 66 | D9: 88 | M9: A normalis eloszlásra végzett illeszkedésvizsgálat számolt p-értéke 0,93. | N9: Der errechnete p-Wert des Anpassungstests für die Normalverteilung ist 0,93. | O9: The calculated p-value of the test for fit for normality is 0.93.
B10: 4 | C10: 77 | D10: 79 | M10: Milyen hipotézisvizsgálatot alkalmazol? Az általános leírásban szereplő kóddal válaszolj! | N10: Welcher Test muss benutzt werden? Antworte mit dem in der Beschreibung stehenden Kode. | O10: What test should be used? Answer with the code given in the description.
B11: 5 | C11: 60 | D11: 87 | M11: Mekkora a mintából számolt próbastatisztika? | N11: Was ist die aus der Stichbrobe errechnete Teststatistik (Prüfgröße)? | O11: Find the test statistic calculated from the sample.
B12: 6 | C12: 64 | D12: 85 | M12: Add meg a minta kétszélű p-értékét. | N12: Gib den zweiseitigen Stichproben-p-Wert. | O12: Give the two-tailed sample p-value.
B13: 7 | C13: 75 | D13: 103 | M13: Elfogadhatjuk az alternatív hipotézist? (igen=1, nem=0) | N13: Sollte die alternative Hypothese angenommen werden? (ja=1, nein=0) | O13: Should the alternative hypothesis be accepted? (yes=1, no=0)
B14: 8 | C14: 81 | D14: 100 | M14: Van szignifikáns pulzusváltozás? (igen=1, nem=0) | N14: Gibt es eine signifikante Pulszahländerung? (ja=1, nein=0) | O14: Is there a significant pulse rate change? (yes=1, no=0)
B15: 9 | C15: 78 | D15: 105 | M15: Milyen döntési hiba lehetséges? (α=1, β=2) | N15: Was ist der mögliche Entscheidungsfehler? (α=1, β=2) | O15: What is the possible decision error? (α=1, β=2)
B16: 10 | C16: 75 | D16: 99 | M16: mivel az illeszkedésvizsgálat során p_minta > p_krit (átalában 5%), NINCS szignifikáns eltérés a normális eloszlástól | N16: weil der p-Wert des Anpassungtests > p_krit (gewöhnlich 5%), es gibt KEINE signifikante abweichung von der Normalverteilung. | O16: because during the test for fit p_sample > p_crit (usually 5%), there is NO significant deviation from the normal distribution.
B17: 11 | C17: 69 | D17: 85
B18: 12 | C18: 60 | D18: 81
B19: 13 | C19: 82 | D19: 97
B20: 14 | C20: 86 | D20: 102
B21: 15 | C21: 90 | D21: 110
B22: 16 | C22: 75 | D22: 89
B23: 17 | C23: 77 | D23: 83
B25: =IF(T!$D$2=T!$M$2,M8,IF(T!$D$2=T!$N$2,N8,O8)) -> Is there a significant change at 1‰ significance level?
B26: =IF(T!$D$2=T!$M$2,M9,IF(T!$D$2=T!$N$2,N9,O9)) -> The calculated p-value of the test for fit for normality is 0.93.
B28: =IF(T!$D$2=T!$M$2,M10,IF(T!$D$2=T!$N$2,N10,O10)) -> What test should be used? Answer with the code given in the description. | C28: t1 | D28: =IF(T!$D$2=T!$M$2,M16,IF(T!$D$2=T!$N$2,N16,O16)) -> because during the test for fit p_sample > p_crit (usually 5%), there is NO significant deviation from the normal distribution.
B29: =IF(T!$D$2=T!$M$2,M11,IF(T!$D$2=T!$N$2,N11,O11)) -> Find the test statistic calculated from the sample. | C29: =_xlfn.T.INV.2T(C30,16) -> 10.592389
B30: =IF(T!$D$2=T!$M$2,M12,IF(T!$D$2=T!$N$2,N12,O12)) -> Give the two-tailed sample p-value. | C30: =_xlfn.T.TEST(C7:C23,D7:D23,2,1) -> 1.226182e-08
B31: =IF(T!$D$2=T!$M$2,M13,IF(T!$D$2=T!$N$2,N13,O13)) -> Should the alternative hypothesis be accepted? (yes=1, no=0) | C31: 1
B32: =IF(T!$D$2=T!$M$2,M14,IF(T!$D$2=T!$N$2,N14,O14)) -> Is there a significant pulse rate change? (yes=1, no=0) | C32: 1
B33: =IF(T!$D$2=T!$M$2,M15,IF(T!$D$2=T!$N$2,N15,O15)) -> What is the possible decision error? (α=1, β=2) | C33: 1

Sheet 5
B2: =IF(T!$D$2=T!$M$2,M2,IF(T!$D$2=T!$N$2,N2,O2)) -> We are examining the effect of a new hypertension medicine on 5 persons. | M2: Egy új vérnyomáscsökkentő hatását vizsgáljuk 5 emberen. | N2: Wir Prüfen den Effekt eines blutdrucksenkenden Arzneistoffes auf 5 Personen. | O2: We are examining the effect of a new hypertension medicine on 5 persons.
B3: =IF(T!$D$2=T!$M$2,M3,IF(T!$D$2=T!$N$2,N3,O3)) -> We measured the systolic blood pressure before and after administering the drug. | M3: Megmértük a gyógyszer szedése előtti és utáni szisztolés vérnyomást. | N3: Wir maßen den systolischen Blutdruck vor und nach der Einnahme des Arneistoffes. | O3: We measured the systolic blood pressure before and after administering the drug.
M4: Pácins sorszáma | N4: Zahl des Patienten: | O4: Patient No.
B5: =IF(T!$D$2=T!$M$2,M4,IF(T!$D$2=T!$N$2,N4,O4)) -> Patient No. | C5: =IF(T!$D$2=T!$M$2,M5,IF(T!$D$2=T!$N$2,N5,O5)) -> Systolic blood pressure before treatment (mmHg) | D5: =IF(T!$D$2=T!$M$2,M6,IF(T!$D$2=T!$N$2,N6,O6)) -> Systolic blood pressure after treatment (mmHg) | M5: Szisztolés vérnyomás a kezelés előtt (mmHg) | N5: Systolischer Blutdruck vor der Behandlung (mmHg) | O5: Systolic blood pressure before treatment (mmHg)
B6: 1 | C6: 191 | D6: 163 | M6: Szisztolés vérnyomás a kezelés után (mmHg) | N6: Systolischer Blutdruck nach der Behandlung (mmHg) | O6: Systolic blood pressure after treatment (mmHg)
B7: 2 | C7: 175 | D7: 172 | M7: Van szignifikáns eltérés 25‰-es szignifikanciaszinten? | N7: Gibt es eine signifikante Abweichung bei einem 25‰ Signifikanzniveau? | O7: Is there a significant deviation at 25‰ significance level?
B8: 3 | C8: 170 | D8: 173 | M8: A normalis eloszlásra végzett illeszkedésvizsgálat eredményeként kapott p-érték: 0,86. | N8: Der p-Wert, den wir als Ergebnis eines Anpassungtests für Normalität bekamen, ist 0,86. | O8: The p-value we got as a result of a test for fit for normality was 0.86.
B9: 4 | C9: 189 | D9: 184 | M9: Milyen hipotézisvizsgálatot alkalmazol? Az általános leírásban szereplő kóddal válaszolj! | N9: Welcher Test muss benutzt werden? Antworte mit dem in der "Intro" stehenden Kode. | O9: What test should be used? Answer with the code given in the "Intro".
B10: 5 | C10: 183 | D10: 188 | M10: Mekkora a mintából számolt próbastatisztika? | N10: Was ist die aus der Stichprobe errechnete Teststatistik (Prüfgröße)? | O10: Find the test statistic calculated from the sample.
M11: Add meg a minta kétszélű p-értékét. | N11: Gib den zweiseitigen p-Wert der Stichprobe. | O11: Give the two-tailed p-value of the sample.
B12: =IF(T!$D$2=T!$M$2,M7,IF(T!$D$2=T!$N$2,N7,O7)) -> Is there a significant deviation at 25‰ significance level? | M12: Elvetjük az alternatív hipotézist? (igen=1, nem=0) | N12: Sollte die Alternativhypothese abgelehnt werden? (ja=1, nein=0) | O12: Should the alternative hypothesis be rejected? (yes=1, no=0)
B13: =IF(T!$D$2=T!$M$2,M8,IF(T!$D$2=T!$N$2,N8,O8)) -> The p-value we got as a result of a test for fit for normality was 0.86. | M13: Van szignifikáns hatás? (igen=1, nem=0) | N13: Gibt es eine signifikante Wirkung? (ja=1, nein=0) | O13: Is there a significant effect? (yes=1, no=0)
M14: Milyen döntési hiba lehetséges? (α=1, β=2) | N14: Was ist der mögliche Entscheidungsfehler? (α=1, β=2) | O14: What is the possible decision error? (α=1, β=2)
B15: =IF(T!$D$2=T!$M$2,M9,IF(T!$D$2=T!$N$2,N9,O9)) -> What test should be used? Answer with the code given in the "Intro". | M15: mivel az illeszkedésvizsgálat során p_minta > p_krit (átalában 5%), NINCS szignifikáns eltérés a normális eloszlástól | N15: weil der p-Wert des Anpassungtests > p_krit (gewöhnlich 5%), es gibt KEINE signifikante abweichung von der Normalverteilung. | O15: because during the test for fit p_sample > p_crit (usually 5%), there is NO significant deviation from the normal distribution.
B16: =IF(T!$D$2=T!$M$2,M10,IF(T!$D$2=T!$N$2,N10,O10)) -> Find the test statistic calculated from the sample.
B17: =IF(T!$D$2=T!$M$2,M11,IF(T!$D$2=T!$N$2,N11,O11)) -> Give the two-tailed p-value of the sample.
B18: =IF(T!$D$2=T!$M$2,M12,IF(T!$D$2=T!$N$2,N12,O12)) -> Should the alternative hypothesis be rejected? (yes=1, no=0)
B19: =IF(T!$D$2=T!$M$2,M13,IF(T!$D$2=T!$N$2,N13,O13)) -> Is there a significant effect? (yes=1, no=0)
B20: =IF(T!$D$2=T!$M$2,M14,IF(T!$D$2=T!$N$2,N14,O14)) -> What is the possible decision error? (α=1, β=2)

Sheet 5m
B2: =IF(T!$D$2=T!$M$2,M2,IF(T!$D$2=T!$N$2,N2,O2)) -> We are examining the effect of a new hypertension medicine on 5 persons. | M2: Egy új vérnyomáscsökkentő hatását vizsgáljuk 5 emberen. | N2: Wir Prüfen den Effekt eines blutdrucksenkenden Arzneistoffes auf 5 Personen. | O2: We are examining the effect of a new hypertension medicine on 5 persons.
B3: =IF(T!$D$2=T!$M$2,M3,IF(T!$D$2=T!$N$2,N3,O3)) -> We measured the systolic blood pressure before and after administering the drug. | M3: Megmértük a gyógyszer szedése előtti és utáni szisztolés vérnyomást. | N3: Wir maßen den systolischen Blutdruck vor und nach der Einnahme des Arneistoffes. | O3: We measured the systolic blood pressure before and after administering the drug.
M4: Pácins sorszáma | N4: Zahl des Patienten: | O4: Patient No.
B5: =IF(T!$D$2=T!$M$2,M4,IF(T!$D$2=T!$N$2,N4,O4)) -> Patient No. | C5: =IF(T!$D$2=T!$M$2,M5,IF(T!$D$2=T!$N$2,N5,O5)) -> Systolic blood pressure before treatment (mmHg) | D5: =IF(T!$D$2=T!$M$2,M6,IF(T!$D$2=T!$N$2,N6,O6)) -> Systolic blood pressure after treatment (mmHg) | M5: Szisztolés vérnyomás a kezelés előtt (mmHg) | N5: Systolischer Blutdruck vor der Behandlung (mmHg) | O5: Systolic blood pressure before treatment (mmHg)
B6: 1 | C6: 191 | D6: 163 | M6: Szisztolés vérnyomás a kezelés után (mmHg) | N6: Systolischer Blutdruck nach der Behandlung (mmHg) | O6: Systolic blood pressure after treatment (mmHg)
B7: 2 | C7: 175 | D7: 172 | M7: Van szignifikáns eltérés 25‰-es szignifikanciaszinten? | N7: Gibt es eine signifikante Abweichung bei einem 25‰ Signifikanzniveau? | O7: Is there a significant deviation at 25‰ significance level?
B8: 3 | C8: 170 | D8: 173 | M8: A normalis eloszlásra végzett illeszkedésvizsgálat eredményeként kapott p-érték: 0,86. | N8: Der p-Wert, den wir als Ergebnis eines Anpassungtests für Normalität bekamen, ist 0,86. | O8: The p-value we got as a result of a test for fit for normality was 0.86.
B9: 4 | C9: 189 | D9: 184 | M9: Milyen hipotézisvizsgálatot alkalmazol? Az általános leírásban szereplő kóddal válaszolj! | N9: Welcher Test muss benutzt werden? Antworte mit dem in der "Intro" stehenden Kode. | O9: What test should be used? Answer with the code given in the "Intro".
B10: 5 | C10: 183 | D10: 188 | M10: Mekkora a mintából számolt próbastatisztika? | N10: Was ist die aus der Stichprobe errechnete Teststatistik (Prüfgröße)? | O10: Find the test statistic calculated from the sample.
M11: Add meg a minta kétszélű p-értékét. | N11: Gib den zweiseitigen p-Wert der Stichprobe. | O11: Give the two-tailed p-value of the sample.
B12: =IF(T!$D$2=T!$M$2,M7,IF(T!$D$2=T!$N$2,N7,O7)) -> Is there a significant deviation at 25‰ significance level? | M12: Elvetjük az alternatív hipotézist? (igen=1, nem=0) | N12: Sollte die Alternativhypothese abgelehnt werden? (ja=1, nein=0) | O12: Should the alternative hypothesis be rejected? (yes=1, no=0)
B13: =IF(T!$D$2=T!$M$2,M8,IF(T!$D$2=T!$N$2,N8,O8)) -> The p-value we got as a result of a test for fit for normality was 0.86. | M13: Van szignifikáns hatás? (igen=1, nem=0) | N13: Gibt es eine signifikante Wirkung? (ja=1, nein=0) | O13: Is there a significant effect? (yes=1, no=0)
M14: Milyen döntési hiba lehetséges? (α=1, β=2) | N14: Was ist der mögliche Entscheidungsfehler? (α=1, β=2) | O14: What is the possible decision error? (α=1, β=2)
B15: =IF(T!$D$2=T!$M$2,M9,IF(T!$D$2=T!$N$2,N9,O9)) -> What test should be used? Answer with the code given in the "Intro". | C15: t1 | D15: =IF(T!$D$2=T!$M$2,M15,IF(T!$D$2=T!$N$2,N15,O15)) -> because during the test for fit p_sample > p_crit (usually 5%), there is NO significant deviation from the normal distribution. | M15: mivel az illeszkedésvizsgálat során p_minta > p_krit (átalában 5%), NINCS szignifikáns eltérés a normális eloszlástól | N15: weil der p-Wert des Anpassungtests > p_krit (gewöhnlich 5%), es gibt KEINE signifikante abweichung von der Normalverteilung. | O15: because during the test for fit p_sample > p_crit (usually 5%), there is NO significant deviation from the normal distribution.
B16: =IF(T!$D$2=T!$M$2,M10,IF(T!$D$2=T!$N$2,N10,O10)) -> Find the test statistic calculated from the sample. | C16: =_xlfn.T.INV.2T(C17,4) -> 0.94983494
B17: =IF(T!$D$2=T!$M$2,M11,IF(T!$D$2=T!$N$2,N11,O11)) -> Give the two-tailed p-value of the sample. | C17: =_xlfn.T.TEST(C6:C10,D6:D10,2,1) -> 0.3959817
B18: =IF(T!$D$2=T!$M$2,M12,IF(T!$D$2=T!$N$2,N12,O12)) -> Should the alternative hypothesis be rejected? (yes=1, no=0) | C18: 1
B19: =IF(T!$D$2=T!$M$2,M13,IF(T!$D$2=T!$N$2,N13,O13)) -> Is there a significant effect? (yes=1, no=0) | C19: 0
B20: =IF(T!$D$2=T!$M$2,M14,IF(T!$D$2=T!$N$2,N14,O14)) -> What is the possible decision error? (α=1, β=2) | C20: 2

Sheet 6
B2: =IF(T!$D$2=T!$M$2,M2,IF(T!$D$2=T!$N$2,N2,O2)) -> We would like to examine, whether a food additve increases the LDL-level. | M2: Vizsgálni szeretnénk, hogy egy élelmiszeradalék növeli-e az LDL-szintet. | N2: Wir würden mal gerne untersuchen, ob ein Lebensmittelzusatzstoff den LDL-Spiegel erhöht. | O2: We would like to examine, whether a food additve increases the LDL-level.
B3: =IF(T!$D$2=T!$M$2,M3,IF(T!$D$2=T!$N$2,N3,O3)) -> We measured the LDL-level of 6 persons. | M3: 6 személynek mértük meg az LDL-szintjét. | N3: Wir maßen den LDL-Spiegel von 6 Personen. | O3: We measured the LDL-level of 6 persons.
B4: =IF(T!$D$2=T!$M$2,M4,IF(T!$D$2=T!$N$2,N4,O4)) -> Then we kept them on a diet containing 0.1 g/day of the additive in question for a month. | M4: Ezután egy hónapig olyan diétán tartottuk őket, amelyben napi 0,1 g-ot vittek be a kérdéses élelmiszeradalékból. | N4: Dann hielten wir sie auf eine Diät für einen Monat, die 0,1 g pro die aus dem fraglichen Zusatzstoff enthält. | O4: Then we kept them on a diet containing 0.1 g/day of the additive in question for a month.
B5: =IF(T!$D$2=T!$M$2,M5,IF(T!$D$2=T!$N$2,N5,O5)) -> After a month we measured the LDL-level again. | M5: Az egy hónap letelte után ismét megmértük az LDL-szintet. | N5: Nach einem Monat maßen wir den LDL-Spiegel wieder. | O5: After a month we measured the LDL-level again.
B7: =IF(T!$D$2=T!$M$2,M7,IF(T!$D$2=T!$N$2,N7,O7)) -> Number of examined person: | C7: =IF(T!$D$2=T!$M$2,M8,IF(T!$D$2=T!$N$2,N8,O8)) -> LDL-level (mg/dL) before the diet: | D7: =IF(T!$D$2=T!$M$2,M9,IF(T!$D$2=T!$N$2,N9,O9)) -> LDL-level (mg/dL) after the diet: | M7: Viszgálati személy sorszáma: | N7: Nummer des Untersuchten: | O7: Number of examined person:
B8: 1 | C8: 110 | D8: 123 | M8: LDL szint (mg/dL) a diéta előtt: | N8: LDL-Spiegel (mg/dL) vor dem Diät: | O8: LDL-level (mg/dL) before the diet:
B9: 2 | C9: 101 | D9: 104 | M9: LDL szint (mg/dL) a diéta után: | N9: LDL-Spiegel (mg/dL) nach dem Diät: | O9: LDL-level (mg/dL) after the diet:
B10: 3 | C10: 87 | D10: 92
B11: 4 | C11: 83 | D11: 88 | M11: Van-e szignifikáns hatása az adaléknak az LDL-szintre? | N11: Hat das Zusatzstoff einen signifikanten Effekt auf den LDL-Spiegel? | O11: Does the additive have a signifikant effect on the LDL-level?
B12: 5 | C12: 98 | D12: 96 | M12: Legyen a konfidenciaszint 99%. | N12: Sei das Konfidenzniveau dei 99%. | O12: Be the confidence level 99%.
B13: 6 | C13: 104 | D13: 102 | M13: Az eloszlást tekinthetjük normálisnak. | N13: Die Verteilung kann als normal angesehen werden. | O13: The distribution can be considered normal.
B15: =IF(T!$D$2=T!$M$2,M11,IF(T!$D$2=T!$N$2,N11,O11)) -> Does the additive have a signifikant effect on the LDL-level? | M15: Milyen hipotézisvizsgálatot alkalmazol? Az általános leírásban szereplő kóddal válaszolj! | N15: Welcher Test muss benutzt werden? Antworte mit dem in der "Intro" stehenden Kode. | O15: What test should be used? Answer with the code given in the "Intro".
B16: =IF(T!$D$2=T!$M$2,M12,IF(T!$D$2=T!$N$2,N12,O12)) -> Be the confidence level 99%. | M16: Mekkora a mintából számolt próbastatisztika? | N16: Was ist die aus der Stichprobe errechnete Teststatistik (Prüfgröße)? | O16: Find the test statistic calculated from the sample.
B17: =IF(T!$D$2=T!$M$2,M13,IF(T!$D$2=T!$N$2,N13,O13)) -> The distribution can be considered normal. | M17: Mekkora a kritikus próbastatisztika? | N17: Gib die kritische Prüfgröße. | O17: Give the critical test statistic.
M18: Elvetjük a nullhipotézist? (igen=1, nem=0) | N18: Sollte die Nullhypothese abgelehnt werden? (ja=1, nein=0) | O18: Should the null hypothesis be rejected? (yes=1, no=0)
B19: =IF(T!$D$2=T!$M$2,M15,IF(T!$D$2=T!$N$2,N15,O15)) -> What test should be used? Answer with the code given in the "Intro". | M19: Van szignifikáns LDL-változás? (igen=1, nem=0) | N19: Gibt es eine signifikante LDL-Änderung? (ja=1, nein=0) | O19: Is there a significant LDL change? (yes=1, no=0)
B20: =IF(T!$D$2=T!$M$2,M16,IF(T!$D$2=T!$N$2,N16,O16)) -> Find the test statistic calculated from the sample. | M20: Milyen döntési hiba lehetséges? (α=1, β=2) | N20: Was ist der mögliche Entscheidungsfehler? (α=1, β=2) | O20: What is the possible decision error? (α=1, β=2)
B21: =IF(T!$D$2=T!$M$2,M17,IF(T!$D$2=T!$N$2,N17,O17)) -> Give the critical test statistic. | M21: ez a mintából számolt t-érték | N21: das ist der aus der Stichprobe errechnete t-Wert | O21: this is the sample t-value
B22: =IF(T!$D$2=T!$M$2,M18,IF(T!$D$2=T!$N$2,N18,O18)) -> Should the null hypothesis be rejected? (yes=1, no=0) | M22: ez a kritikus t-érték | N22: das ist der kritische t-Wert | O22: this is the critical t-value
B23: =IF(T!$D$2=T!$M$2,M19,IF(T!$D$2=T!$N$2,N19,O19)) -> Is there a significant LDL change? (yes=1, no=0) | M23: minta p-érték (2 szél) | N23: sample p-value (2-seitig) | O23: sample p-value (2 tail)
B24: =IF(T!$D$2=T!$M$2,M20,IF(T!$D$2=T!$N$2,N20,O20)) -> What is the possible decision error? (α=1, β=2)

Sheet 6m
B2: =IF(T!$D$2=T!$M$2,M2,IF(T!$D$2=T!$N$2,N2,O2)) -> We would like to examine, whether a food additve increases the LDL-level. | M2: Vizsgálni szeretnénk, hogy egy élelmiszeradalék növeli-e az LDL-szintet. | N2: Wir würden mal gerne untersuchen, ob ein Lebensmittelzusatzstoff den LDL-Spiegel erhöht. | O2: We would like to examine, whether a food additve increases the LDL-level.
B3: =IF(T!$D$2=T!$M$2,M3,IF(T!$D$2=T!$N$2,N3,O3)) -> We measured the LDL-level of 6 persons. | M3: 6 személynek mértük meg az LDL-szintjét. | N3: Wir maßen den LDL-Spiegel von 6 Personen. | O3: We measured the LDL-level of 6 persons.
B4: =IF(T!$D$2=T!$M$2,M4,IF(T!$D$2=T!$N$2,N4,O4)) -> Then we kept them on a diet containing 0.1 g/day of the additive in question for a month. | M4: Ezután egy hónapig olyan diétán tartottuk őket, amelyben napi 0,1 g-ot vittek be a kérdéses élelmiszeradalékból. | N4: Dann hielten wir sie auf eine Diät für einen Monat, die 0,1 g pro die aus dem fraglichen Zusatzstoff enthält. | O4: Then we kept them on a diet containing 0.1 g/day of the additive in question for a month.
B5: =IF(T!$D$2=T!$M$2,M5,IF(T!$D$2=T!$N$2,N5,O5)) -> After a month we measured the LDL-level again. | M5: Az egy hónap letelte után ismét megmértük az LDL-szintet. | N5: Nach einem Monat maßen wir den LDL-Spiegel wieder. | O5: After a month we measured the LDL-level again.
B7: =IF(T!$D$2=T!$M$2,M7,IF(T!$D$2=T!$N$2,N7,O7)) -> Number of examined person: | C7: =IF(T!$D$2=T!$M$2,M8,IF(T!$D$2=T!$N$2,N8,O8)) -> LDL-level (mg/dL) before the diet: | D7: =IF(T!$D$2=T!$M$2,M9,IF(T!$D$2=T!$N$2,N9,O9)) -> LDL-level (mg/dL) after the diet: | M7: Viszgálati személy sorszáma: | N7: Nummer des Untersuchten: | O7: Number of examined person:
B8: 1 | C8: 110 | D8: 123 | M8: LDL szint (mg/dL) a diéta előtt: | N8: LDL-Spiegel (mg/dL) vor dem Diät: | O8: LDL-level (mg/dL) before the diet:
B9: 2 | C9: 101 | D9: 104 | M9: LDL szint (mg/dL) a diéta után: | N9: LDL-Spiegel (mg/dL) nach dem Diät: | O9: LDL-level (mg/dL) after the diet:
B10: 3 | C10: 87 | D10: 92
B11: 4 | C11: 83 | D11: 88 | M11: Van-e szignifikáns hatása az adaléknak az LDL-szintre? | N11: Hat das Zusatzstoff einen signifikanten Effekt auf den LDL-Spiegel? | O11: Does the additive have a signifikant effect on the LDL-level?
B12: 5 | C12: 98 | D12: 96 | M12: Legyen a konfidenciaszint 99%. | N12: Sei das Konfidenzniveau dei 99%. | O12: Be the confidence level 99%.
B13: 6 | C13: 104 | D13: 102 | M13: Az eloszlást tekinthetjük normálisnak. | N13: Die Verteilung kann als normal angesehen werden. | O13: The distribution can be considered normal.
B15: =IF(T!$D$2=T!$M$2,M11,IF(T!$D$2=T!$N$2,N11,O11)) -> Does the additive have a signifikant effect on the LDL-level? | M15: Milyen hipotézisvizsgálatot alkalmazol? Az általános leírásban szereplő kóddal válaszolj! | N15: Welcher Test muss benutzt werden? Antworte mit dem in der "Intro" stehenden Kode. | O15: What test should be used? Answer with the code given in the "Intro".
B16: =IF(T!$D$2=T!$M$2,M12,IF(T!$D$2=T!$N$2,N12,O12)) -> Be the confidence level 99%. | M16: Mekkora a mintából számolt próbastatisztika? | N16: Was ist die aus der Stichprobe errechnete Teststatistik (Prüfgröße)? | O16: Find the test statistic calculated from the sample.
B17: =IF(T!$D$2=T!$M$2,M13,IF(T!$D$2=T!$N$2,N13,O13)) -> The distribution can be considered normal. | M17: Mekkora a kritikus próbastatisztika? | N17: Gib die kritische Prüfgröße. | O17: Give the critical test statistic.
M18: Elvetjük a nullhipotézist? (igen=1, nem=0) | N18: Sollte die Nullhypothese abgelehnt werden? (ja=1, nein=0) | O18: Should the null hypothesis be rejected? (yes=1, no=0)
B19: =IF(T!$D$2=T!$M$2,M15,IF(T!$D$2=T!$N$2,N15,O15)) -> What test should be used? Answer with the code given in the "Intro". | C19: t1 | M19: Van szignifikáns LDL-változás? (igen=1, nem=0) | N19: Gibt es eine signifikante LDL-Änderung? (ja=1, nein=0) | O19: Is there a significant LDL change? (yes=1, no=0)
B20: =IF(T!$D$2=T!$M$2,M16,IF(T!$D$2=T!$N$2,N16,O16)) -> Find the test statistic calculated from the sample. | C20: =_xlfn.T.INV.2T(C27,5) -> 1.6113865 | D20: =IF(T!$D$2=T!$M$2,M21,IF(T!$D$2=T!$N$2,N21,O21)) -> this is the sample t-value | M20: Milyen döntési hiba lehetséges? (α=1, β=2) | N20: Was ist der mögliche Entscheidungsfehler? (α=1, β=2) | O20: What is the possible decision error? (α=1, β=2)
B21: =IF(T!$D$2=T!$M$2,M17,IF(T!$D$2=T!$N$2,N17,O17)) -> Give the critical test statistic. | C21: =_xlfn.T.INV.2T(1%,5) -> 4.032143 | D21: =IF(T!$D$2=T!$M$2,M22,IF(T!$D$2=T!$N$2,N22,O22)) -> this is the critical t-value | M21: ez a mintából számolt t-érték | N21: das ist der aus der Stichprobe errechnete t-Wert | O21: this is the sample t-value
B22: =IF(T!$D$2=T!$M$2,M18,IF(T!$D$2=T!$N$2,N18,O18)) -> Should the null hypothesis be rejected? (yes=1, no=0) | C22: 0 | M22: ez a kritikus t-érték | N22: das ist der kritische t-Wert | O22: this is the critical t-value
B23: =IF(T!$D$2=T!$M$2,M19,IF(T!$D$2=T!$N$2,N19,O19)) -> Is there a significant LDL change? (yes=1, no=0) | C23: 0 | M23: minta p-érték (2 szél) | N23: sample p-value (2-seitig) | O23: sample p-value (2 tail)
B24: =IF(T!$D$2=T!$M$2,M20,IF(T!$D$2=T!$N$2,N20,O20)) -> What is the possible decision error? (α=1, β=2) | C24: 2
B27: =IF(T!$D$2=T!$M$2,M23,IF(T!$D$2=T!$N$2,N23,O23)) -> sample p-value (2 tail) | C27: =_xlfn.T.TEST(C8:C13,D8:D13,2,1) -> 0.16801232

Sheet 7
B2: =IF(T!$D$2=T!$M$2,M2,IF(T!$D$2=T!$N$2,N2,O2)) -> We would like to know if the body height of Down syndrome patients deviates from the 175 cm mean height of the non-affected population? | M2: Meg szeretnénk tudni, hogy a Down-kórosok testmagassága eltér-e a nem érintett népesség 175 cm-es átlagától? | N2: Wir würden gerne herausfinden ob die Körperhöhe von Down-Syndrome-Patienten vom 175 cm Mittelwert der normalen Bevölkerung abweicht. | O2: We would like to know if the body height of Down syndrome patients deviates from the 175 cm mean height of the non-affected population?
B3: =IF(T!$D$2=T!$M$2,M3,IF(T!$D$2=T!$N$2,N3,O3)) -> We measured the height of 9 Down syndrome patients. | M3: 9 Down-kóros ember magasságát mértük meg. | N3: Wir maßen die Körperhöhe von 9 Down-Syndrome-Patienten. | O3: We measured the height of 9 Down syndrome patients.
B5: =IF(T!$D$2=T!$M$2,M5,IF(T!$D$2=T!$N$2,N5,O5)) -> the data we got after evaluation of the sample: | M5: A minta kiértékelésekor kapott adatok: | N5: Die Daten die wir bei der Auswertung der Stichprobe bekamen: | O5: the data we got after evaluation of the sample:
B6: =IF(T!$D$2=T!$M$2,M6,IF(T!$D$2=T!$N$2,N6,O6)) -> mean (cm): | C6: 163 | M6: átlag (cm): | N6: Mittelwert (cm): | O6: mean (cm):
B7: =IF(T!$D$2=T!$M$2,M7,IF(T!$D$2=T!$N$2,N7,O7)) -> empirical variance (cm^2): | C7: 121 | M7: tapasztalati variancia (cm^2): | N7: empirische Standardabweichung (cm^2): | O7: empirical variance (cm^2):
B9: =IF(T!$D$2=T!$M$2,M9,IF(T!$D$2=T!$N$2,N9,O9)) -> Is there a significant deviation at 4! significance level? | M9: Van jelentős eltérés 4%-os szignifikanciaszinten? | N9: Gibt es eine signifikante Abweichung beim 4% Signifikanzniveau? | O9: Is there a significant deviation at 4! significance level?
B10: =IF(T!$D$2=T!$M$2,M10,IF(T!$D$2=T!$N$2,N10,O10)) -> Consider the variable normally distributed. | M10: Tekintsük a változót normális eloszlásúnak. | N10: Die Variable kann als normalverteilt angesehen werden. | O10: Consider the variable normally distributed.
B12: =IF(T!$D$2=T!$M$2,M12,IF(T!$D$2=T!$N$2,N12,O12)) -> What test should be used? Answer with the code given in the "Intro". | M12: Milyen hipotézisvizsgálatot alkalmazol? Az általános leírásban (Intro) szereplő kóddal válaszolj! | N12: Welcher Test muss benutzt werden? Antworte mit dem in der "Intro" stehenden Kode. | O12: What test should be used? Answer with the code given in the "Intro".
B13: =IF(T!$D$2=T!$M$2,M13,IF(T!$D$2=T!$N$2,N13,O13)) -> Find the test statistic calculated from the sample. | M13: Mekkora a mintából számolt próbastatisztika? | N13: Was ist die aus der Stichprobe errechnete Teststatistik (Prüfgröße)? | O13: Find the test statistic calculated from the sample.
B14: =IF(T!$D$2=T!$M$2,M14,IF(T!$D$2=T!$N$2,N14,O14)) -> Give the critical test statistic. | M14: Mekkora a kritikus próbastatisztika? | N14: Gib die kritische Prüfgröße. | O14: Give the critical test statistic.
B15: =IF(T!$D$2=T!$M$2,M15,IF(T!$D$2=T!$N$2,N15,O15)) -> Should the null hypothesis be rejected? (yes=1, no=0) | M15: Elvetjük a nullhipotézist? (igen=1, nem=0) | N15: Sollte die Nullhypothese abgelehnt werden? (ja=1, nein=0) | O15: Should the null hypothesis be rejected? (yes=1, no=0)
B16: =IF(T!$D$2=T!$M$2,M16,IF(T!$D$2=T!$N$2,N16,O16)) -> Is there a significant deviation? (yes=1, no=0) | M16: Van szignifikáns eltérés? (igen=1, nem=0) | N16: Gibt es eine signifikante Abweichung? (ja=1, nein=0) | O16: Is there a significant deviation? (yes=1, no=0)
B17: =IF(T!$D$2=T!$M$2,M17,IF(T!$D$2=T!$N$2,N17,O17)) -> What is the possible decision error? (α=1, β=2) | M17: Milyen döntési hiba lehetséges? (α=1, β=2) | N17: Was ist der mögliche Entscheidungsfehler? (α=1, β=2) | O17: What is the possible decision error? (α=1, β=2)
M19: H_0 szerinti várható érték: | N19: der Erwartungswert nach H_0: | O19: the expected value according to the null hypothesis:
M20: elemszám: | N20: Umfang: | O20: count:
M21: mintaátlag: | N21: Mittelwert der Stichprobe: | O21: sample mean:
M22: variancia becslése: | N22: Schätzung der Varianz: | O22: estimation of the variance:
M23: szórás becslése: | N23: Schätzung der theoretischen Streuung: | O23: estimation of the theoretical standard deviation:
M24: átlag szórása: | N24: Standardfehler: | O24: standard error:
M25: minta t-értéke: | N25: Stichproben-t-Wert: | O25: sample t-value:
M26: szab. fokok száma: | N26: Anzahl der Freiheitsgrade: | O26: number of degrees of freedom:
M27: kritikus t-érték: | N27: kritischer t-Wert: | O27: critical t-value:
M29: A konfidenciaintervallum és a szignifikanciaszint | N29: Das Konfidenzintervall und das Signifikanzniveau | O29: The Confidence Interval and the Significance Level
M30: =IF(T!$D$2=T!$M$2,M29,IF(T!$D$2=T!$N$2,N29,O29)) -> The Confidence Interval and the Significance Level
M32: próbastatisztika, t | N32: Prüfgröße, t | O32: test statistic, t
M33: =IF(T!$D$2=T!$M$2,M32,IF(T!$D$2=T!$N$2,N32,O32)) -> test statistic, t
M35: valószínűségsűrűség, dp/dt | N35: Wahrscheinlichkeitsdichte, dp/dt | O35: probability density, dp/dt
M36: =IF(T!$D$2=T!$M$2,M35,IF(T!$D$2=T!$N$2,N35,O35)) -> probability density, dp/dt
M38: A minta t-értéke és p-értéke | N38: Der t-Wert und der p-Wert der Stichprobe | O38: The t-value and p-value of the Sample
M39: =IF(T!$D$2=T!$M$2,M38,IF(T!$D$2=T!$N$2,N38,O38)) -> The t-value and p-value of the Sample

Sheet 7m
B2: =IF(T!$D$2=T!$M$2,M2,IF(T!$D$2=T!$N$2,N2,O2)) -> We would like to know if the body height of Down syndrome patients deviates from the 175 cm mean height of the non-affected population? | M2: Meg szeretnénk tudni, hogy a Down-kórosok testmagassága eltér-e a nem érintett népesség 175 cm-es átlagától? | N2: Wir würden gerne herausfinden ob die Körperhöhe von Down-Syndrome-Patienten vom 175 cm Mittelwert der normalen Bevölkerung abweicht. | O2: We would like to know if the body height of Down syndrome patients deviates from the 175 cm mean height of the non-affected population?
B3: =IF(T!$D$2=T!$M$2,M3,IF(T!$D$2=T!$N$2,N3,O3)) -> We measured the height of 9 Down syndrome patients. | M3: 9 Down-kóros ember magasságát mértük meg. | N3: Wir maßen die Körperhöhe von 9 Down-Syndrome-Patienten. | O3: We measured the height of 9 Down syndrome patients.
B5: =IF(T!$D$2=T!$M$2,M5,IF(T!$D$2=T!$N$2,N5,O5)) -> the data we got after evaluation of the sample: | M5: A minta kiértékelésekor kapott adatok: | N5: Die Daten die wir bei der Auswertung der Stichprobe bekamen: | O5: the data we got after evaluation of the sample:
B6: =IF(T!$D$2=T!$M$2,M6,IF(T!$D$2=T!$N$2,N6,O6)) -> mean (cm): | C6: 163 | M6: átlag (cm): | N6: Mittelwert (cm): | O6: mean (cm):
B7: =IF(T!$D$2=T!$M$2,M7,IF(T!$D$2=T!$N$2,N7,O7)) -> empirical variance (cm^2): | C7: 121 | M7: tapasztalati variancia (cm^2): | N7: empirische Standardabweichung (cm^2): | O7: empirical variance (cm^2):
B9: =IF(T!$D$2=T!$M$2,M9,IF(T!$D$2=T!$N$2,N9,O9)) -> Is there a significant deviation at 4! significance level? | M9: Van jelentős eltérés 4%-os szignifikanciaszinten? | N9: Gibt es eine signifikante Abweichung beim 4% Signifikanzniveau? | O9: Is there a significant deviation at 4! significance level?
B10: =IF(T!$D$2=T!$M$2,M10,IF(T!$D$2=T!$N$2,N10,O10)) -> Consider the variable normally distributed. | M10: Tekintsük a változót normális eloszlásúnak. | N10: Die Variable kann als normalverteilt angesehen werden. | O10: Consider the variable normally distributed.
B12: =IF(T!$D$2=T!$M$2,M12,IF(T!$D$2=T!$N$2,N12,O12)) -> What test should be used? Answer with the code given in the "Intro". | C12: t1 | M12: Milyen hipotézisvizsgálatot alkalmazol? Az általános leírásban (Intro) szereplő kóddal válaszolj! | N12: Welcher Test muss benutzt werden? Antworte mit dem in der "Intro" stehenden Kode. | O12: What test should be used? Answer with the code given in the "Intro".
B13: =IF(T!$D$2=T!$M$2,M13,IF(T!$D$2=T!$N$2,N13,O13)) -> Find the test statistic calculated from the sample. | C13: =C25 -> -3.2727273 | M13: Mekkora a mintából számolt próbastatisztika? | N13: Was ist die aus der Stichprobe errechnete Teststatistik (Prüfgröße)? | O13: Find the test statistic calculated from the sample.
B14: =IF(T!$D$2=T!$M$2,M14,IF(T!$D$2=T!$N$2,N14,O14)) -> Give the critical test statistic. | C14: =C27 -> 2.448985 | M14: Mekkora a kritikus próbastatisztika? | N14: Gib die kritische Prüfgröße. | O14: Give the critical test statistic.
B15: =IF(T!$D$2=T!$M$2,M15,IF(T!$D$2=T!$N$2,N15,O15)) -> Should the null hypothesis be rejected? (yes=1, no=0) | C15: 1 | M15: Elvetjük a nullhipotézist? (igen=1, nem=0) | N15: Sollte die Nullhypothese abgelehnt werden? (ja=1, nein=0) | O15: Should the null hypothesis be rejected? (yes=1, no=0)
B16: =IF(T!$D$2=T!$M$2,M16,IF(T!$D$2=T!$N$2,N16,O16)) -> Is there a significant deviation? (yes=1, no=0) | C16: 1 | M16: Van szignifikáns eltérés? (igen=1, nem=0) | N16: Gibt es eine signifikante Abweichung? (ja=1, nein=0) | O16: Is there a significant deviation? (yes=1, no=0)
B17: =IF(T!$D$2=T!$M$2,M17,IF(T!$D$2=T!$N$2,N17,O17)) -> What is the possible decision error? (α=1, β=2) | C17: 1 | M17: Milyen döntési hiba lehetséges? (α=1, β=2) | N17: Was ist der mögliche Entscheidungsfehler? (α=1, β=2) | O17: What is the possible decision error? (α=1, β=2)
B19: =IF(T!$D$2=T!$M$2,M19,IF(T!$D$2=T!$N$2,N19,O19)) -> the expected value according to the null hypothesis: | C19: 175 | M19: H_0 szerinti várható érték: | N19: der Erwartungswert nach H_0: | O19: the expected value according to the null hypothesis:
B20: =IF(T!$D$2=T!$M$2,M20,IF(T!$D$2=T!$N$2,N20,O20)) -> count: | C20: 9 | M20: elemszám: | N20: Umfang: | O20: count:
B21: =IF(T!$D$2=T!$M$2,M21,IF(T!$D$2=T!$N$2,N21,O21)) -> sample mean: | C21: 163 | M21: mintaátlag: | N21: Mittelwert der Stichprobe: | O21: sample mean:
B22: =IF(T!$D$2=T!$M$2,M22,IF(T!$D$2=T!$N$2,N22,O22)) -> estimation of the variance: | C22: 121 | M22: variancia becslése: | N22: Schätzung der Varianz: | O22: estimation of the variance:
B23: =IF(T!$D$2=T!$M$2,M23,IF(T!$D$2=T!$N$2,N23,O23)) -> estimation of the theoretical standard deviation: | C23: =SQRT(C22) -> 11 | M23: szórás becslése: | N23: Schätzung der theoretischen Streuung: | O23: estimation of the theoretical standard deviation:
B24: =IF(T!$D$2=T!$M$2,M24,IF(T!$D$2=T!$N$2,N24,O24)) -> standard error: | C24: =C23/SQRT(C20) -> 3.6666667 | M24: átlag szórása: | N24: Standardfehler: | O24: standard error:
B25: =IF(T!$D$2=T!$M$2,M25,IF(T!$D$2=T!$N$2,N25,O25)) -> sample t-value: | C25: =(C21-C19)/C24 -> -3.2727273 | M25: minta t-értéke: | N25: Stichproben-t-Wert: | O25: sample t-value:
B26: =IF(T!$D$2=T!$M$2,M26,IF(T!$D$2=T!$N$2,N26,O26)) -> number of degrees of freedom: | C26: =C20-1 -> 8 | M26: szab. fokok száma: | N26: Anzahl der Freiheitsgrade: | O26: number of degrees of freedom:
B27: =IF(T!$D$2=T!$M$2,M27,IF(T!$D$2=T!$N$2,N27,O27)) -> critical t-value: | C27: =_xlfn.T.INV.2T(4%,C26) -> 2.448985 | M27: kritikus t-érték: | N27: kritischer t-Wert: | O27: critical t-value:
M29: A konfidenciaintervallum és a szignifikanciaszint | N29: Das Konfidenzintervall und das Signifikanzniveau | O29: The Confidence Interval and the Significance Level
M30: =IF(T!$D$2=T!$M$2,M29,IF(T!$D$2=T!$N$2,N29,O29)) -> The Confidence Interval and the Significance Level
M32: próbastatisztika, t | N32: Prüfgröße, t | O32: test statistic, t
M33: =IF(T!$D$2=T!$M$2,M32,IF(T!$D$2=T!$N$2,N32,O32)) -> test statistic, t
M35: valószínűségsűrűség, dp/dt | N35: Wahrscheinlichkeitsdichte, dp/dt | O35: probability density, dp/dt
M36: =IF(T!$D$2=T!$M$2,M35,IF(T!$D$2=T!$N$2,N35,O35)) -> probability density, dp/dt
M38: A minta t-értéke és p-értéke | N38: Der t-Wert und der p-Wert der Stichprobe | O38: The t-value and p-value of the Sample
M39: =IF(T!$D$2=T!$M$2,M38,IF(T!$D$2=T!$N$2,N38,O38)) -> The t-value and p-value of the Sample
B42: t | C42: dp/dt | D42: dp/dt | F42: t | G42: dp/dt | H42: dp/dt
B43: -4 | C43: =_xlfn.T.DIST(B43,$C$26,0) -> 0.002756306 | F43: -4 | G43: 0.002756306
B44: -3.99 | C44: =_xlfn.T.DIST(B44,$C$26,0) -> 0.0027979797 | F44: -3.99 | G44: 0.0027979797
B45: -3.98 | C45: =_xlfn.T.DIST(B45,$C$26,0) -> 0.0028403188 | F45: -3.98 | G45: 0.0028403188
B46: -3.97 | C46: =_xlfn.T.DIST(B46,$C$26,0) -> 0.0028833345 | F46: -3.97 | G46: 0.0028833345
B47: -3.96 | C47: =_xlfn.T.DIST(B47,$C$26,0) -> 0.0029270378 | F47: -3.96 | G47: 0.0029270378
B48: -3.95 | C48: =_xlfn.T.DIST(B48,$C$26,0) -> 0.0029714401 | F48: -3.95 | G48: 0.0029714401
B49: -3.94 | C49: =_xlfn.T.DIST(B49,$C$26,0) -> 0.0030165531 | F49: -3.94 | G49: 0.0030165531
B50: -3.93 | C50: =_xlfn.T.DIST(B50,$C$26,0) -> 0.0030623885 | F50: -3.93 | G50: 0.0030623885
B51: -3.92 | C51: =_xlfn.T.DIST(B51,$C$26,0) -> 0.0031089582 | F51: -3.92 | G51: 0.0031089582
B52: -3.91 | C52: =_xlfn.T.DIST(B52,$C$26,0) -> 0.0031562744 | F52: -3.91 | G52: 0.0031562744
B53: -3.9 | C53: =_xlfn.T.DIST(B53,$C$26,0) -> 0.0032043495 | F53: -3.9 | G53: 0.0032043495
B54: -3.89 | C54: =_xlfn.T.DIST(B54,$C$26,0) -> 0.0032531961 | F54: -3.89 | G54: 0.0032531961
... B115: -3.28 | C115: =_xlfn.T.DIST(B115,$C$26,0) -> 0.0083540477 | F115: -3.28 | G115: 0.0083540477
B116: -3.27 | C116: =_xlfn.T.DIST(B116,$C$26,0) -> 0.0084865845 | F116: -3.27 | H116: 0.0084865845
B117: -3.26 | C117: =_xlfn.T.DIST(B117,$C$26,0) -> 0.0086212839 | F117: -3.26 | H117: 0.0086212839
B118: -3.25 | C118: =_xlfn.T.DIST(B118,$C$26,0) -> 0.008758181 | F118: -3.25 | H118: 0.008758181
B119: -3.24 | C119: =_xlfn.T.DIST(B119,$C$26,0) -> 0.0088973113 | F119: -3.24 | H119: 0.0088973113
B120: -3.23 | C120: =_xlfn.T.DIST(B120,$C$26,0) -> 0.0090387112 | F120: -3.23 | H120: 0.0090387112
B121: -3.22 | C121: =_xlfn.T.DIST(B121,$C$26,0) -> 0.0091824175 | F121: -3.22 | H121: 0.0091824175
B122: -3.21 | C122: =_xlfn.T.DIST(B122,$C$26,0) -> 0.0093284675 | F122: -3.21 | H122: 0.0093284675
B123: -3.2 | C123: =_xlfn.T.DIST(B123,$C$26,0) -> 0.0094768992 | F123: -3.2 | H123: 0.0094768992
B124: -3.19 | C124: =_xlfn.T.DIST(B124,$C$26,0) -> 0.009627751 | F124: -3.19 | H124: 0.009627751
B125: -3.18 | C125: =_xlfn.T.DIST(B125,$C$26,0) -> 0.009781062 | F125: -3.18 | H125: 0.009781062
B126: -3.17 | C126: =_xlfn.T.DIST(B126,$C$26,0) -> 0.0099368719 | F126: -3.17 | H126: 0.0099368719
B127: -3.16 | C127: =_xlfn.T.DIST(B127,$C$26,0) -> 0.010095221 | F127: -3.16 | H127: 0.010095221
... B197: -2.46 | C197: =_xlfn.T.DIST(B197,$C$26,0) -> 0.030655755 | F197: -2.46 | H197: 0.030655755
B198: -2.45 | D198: =_xlfn.T.DIST(B198,$C$26,0) -> 0.031142459 | F198: -2.45 | H198: 0.031142459
B199: -2.44 | D199: =_xlfn.T.DIST(B199,$C$26,0) -> 0.0316366 | F199: -2.44 | H199: 0.0316366
B200: -2.43 | D200: =_xlfn.T.DIST(B200,$C$26,0) -> 0.032138278 | F200: -2.43 | H200: 0.032138278
B201: -2.42 | D201: =_xlfn.T.DIST(B201,$C$26,0) -> 0.032647592 | F201: -2.42 | H201: 0.032647592
B202: -2.41 | D202: =_xlfn.T.DIST(B202,$C$26,0) -> 0.033164645 | F202: -2.41 | H202: 0.033164645
B203: -2.4 | D203: =_xlfn.T.DIST(B203,$C$26,0) -> 0.033689538 | F203: -2.4 | H203: 0.033689538
B204: -2.39 | D204: =_xlfn.T.DIST(B204,$C$26,0) -> 0.034222375 | F204: -2.39 | H204: 0.034222375
B205: -2.38 | D205: =_xlfn.T.DIST(B205,$C$26,0) -> 0.034763257 | F205: -2.38 | H205: 0.034763257
B206: -2.37 | D206: =_xlfn.T.DIST(B206,$C$26,0) -> 0.035312291 | F206: -2.37 | H206: 0.035312291
B207: -2.36 | D207: =_xlfn.T.DIST(B207,$C$26,0) -> 0.035869581 | F207: -2.36 | H207: 0.035869581
B208: -2.35 | D208: =_xlfn.T.DIST(B208,$C$26,0) -> 0.036435234 | F208: -2.35 | H208: 0.036435234
B209: -2.34 | D209: =_xlfn.T.DIST(B209,$C$26,0) -> 0.037009355 | F209: -2.34 | H209: 0.037009355
... B688: 2.45 | D688: =_xlfn.T.DIST(B688,$C$26,0) -> 0.031142459 | F688: 2.45 | H688: 0.031142459
B689: 2.46 | C689: =_xlfn.T.DIST(B689,$C$26,0) -> 0.030655755 | F689: 2.46 | H689: 0.030655755
B690: 2.47 | C690: =_xlfn.T.DIST(B690,$C$26,0) -> 0.030176389 | F690: 2.47 | H690: 0.030176389
B691: 2.48 | C691: =_xlfn.T.DIST(B691,$C$26,0) -> 0.029704264 | F691: 2.48 | H691: 0.029704264
B692: 2.49 | C692: =_xlfn.T.DIST(B692,$C$26,0) -> 0.029239282 | F692: 2.49 | H692: 0.029239282
B693: 2.5 | C693: =_xlfn.T.DIST(B693,$C$26,0) -> 0.028781348 | F693: 2.5 | H693: 0.028781348
B694: 2.51 | C694: =_xlfn.T.DIST(B694,$C$26,0) -> 0.028330366 | F694: 2.51 | H694: 0.028330366
B695: 2.52 | C695: =_xlfn.T.DIST(B695,$C$26,0) -> 0.027886241 | F695: 2.52 | H695: 0.027886241
B696: 2.53 | C696: =_xlfn.T.DIST(B696,$C$26,0) -> 0.027448882 | F696: 2.53 | H696: 0.027448882
B697: 2.54 | C697: =_xlfn.T.DIST(B697,$C$26,0) -> 0.027018194 | F697: 2.54 | H697: 0.027018194
B698: 2.55 | C698: =_xlfn.T.DIST(B698,$C$26,0) -> 0.026594087 | F698: 2.55 | H698: 0.026594087
B699: 2.56 | C699: =_xlfn.T.DIST(B699,$C$26,0) -> 0.026176469 | F699: 2.56 | H699: 0.026176469
B700: 2.57 | C700: =_xlfn.T.DIST(B700,$C$26,0) -> 0.025765251 | F700: 2.57 | H700: 0.025765251
... B770: 3.27 | C770: =_xlfn.T.DIST(B770,$C$26,0) -> 0.0084865845 | F770: 3.27 | H770: 0.0084865845
B771: 3.28 | C771: =_xlfn.T.DIST(B771,$C$26,0) -> 0.0083540477 | F771: 3.28 | G771: 0.0083540477
B772: 3.29 | C772: =_xlfn.T.DIST(B772,$C$26,0) -> 0.0082236386 | F772: 3.29 | G772: 0.0082236386
B773: 3.3 | C773: =_xlfn.T.DIST(B773,$C$26,0) -> 0.0080953234 | F773: 3.3 | G773: 0.0080953234
B774: 3.31 | C774: =_xlfn.T.DIST(B774,$C$26,0) -> 0.0079690684 | F774: 3.31 | G774: 0.0079690684
B775: 3.32 | C775: =_xlfn.T.DIST(B775,$C$26,0) -> 0.0078448405 | F775: 3.32 | G775: 0.0078448405
B776: 3.33 | C776: =_xlfn.T.DIST(B776,$C$26,0) -> 0.0077226073 | F776: 3.33 | G776: 0.0077226073
B777: 3.34 | C777: =_xlfn.T.DIST(B777,$C$26,0) -> 0.0076023366 | F777: 3.34 | G777: 0.0076023366
B778: 3.35 | C778: =_xlfn.T.DIST(B778,$C$26,0) -> 0.0074839969 | F778: 3.35 | G778: 0.0074839969
B779: 3.36 | C779: =_xlfn.T.DIST(B779,$C$26,0) -> 0.0073675572 | F779: 3.36 | G779: 0.0073675572
B780: 3.37 | C780: =_xlfn.T.DIST(B780,$C$26,0) -> 0.0072529868 | F780: 3.37 | G780: 0.0072529868
B781: 3.38 | C781: =_xlfn.T.DIST(B781,$C$26,0) -> 0.0071402556 | F781: 3.38 | G781: 0.0071402556
B782: 3.39 | C782: =_xlfn.T.DIST(B782,$C$26,0) -> 0.0070293339 | F782: 3.39 | G782: 0.0070293339
... B843: 4 | C843: =_xlfn.T.DIST(B843,$C$26,0) -> 0.002756306 | F843: 4 | G843: 0.002756306

Sheet 8
B2: =IF(T!$D$2=T!$M$2,M2,IF(T!$D$2=T!$N$2,N2,O2)) -> We would like to know if the average blood sugar level of Hungarian people differs significantly from the 4.7 mM world average. | M2: Meg szeretnénk tudni, hogy a magyar emberek átlagos vércukorszintje szignifikánsan eltér-e a 4,7 mM-os világátlagtól. | N2: Wir würden mal gerne herausfinden, ob der durchschnittliche Blutzuckerspiegel der ungarischen Bevölkerung vom 4,7 mM Weltmittelwert abweicht. | O2: We would like to know if the average blood sugar level of Hungarian people differs significantly from the 4.7 mM world average.
B3: =IF(T!$D$2=T!$M$2,M3,IF(T!$D$2=T!$N$2,N3,O3)) -> Therefore, we measured the blood sugar level of 45 Hungarians. | M3: Ezért megmértük 45 magyar ember vércukrát. | N3: Deshalb maßen wir den Blutzuckerspiegel von 45 Ungaren. | O3: Therefore, we measured the blood sugar level of 45 Hungarians.
B4: =IF(T!$D$2=T!$M$2,M4,IF(T!$D$2=T!$N$2,N4,O4)) -> The results are shown in the following frequency table: | M4: Az eredményeket az alábbi gyakorisági tábla tartalmazza: | N4: Die Ergebnisse lassen sich in der folgenden Häufigkeitstabelle finden: | O4: The results are shown in the following frequency table:
B6: =IF(T!$D$2=T!$M$2,M6,IF(T!$D$2=T!$N$2,N6,O6)) -> Blood sugar level _x000D_(mM) | C6: =IF(T!$D$2=T!$M$2,M7,IF(T!$D$2=T!$N$2,N7,O7)) -> Frequency | M6: Vércukorszintérték (mM) | N6: Blutzuckerspiegel (mM) | O6: Blood sugar level (mM)
B7: 3.7 | C7: 1 | M7: Gyakoriság | N7: Häufigkeit | O7: Frequency
B8: 3.8 | C8: 0
B9: 3.9 | C9: 1 | M9: Van szignifikáns eltérés 99%-os konfidenciaszinten? | N9: Gibt es eine signifikante Differenz bei einem 99% Konfidenzniveau? | O9: Is there a significant difference at 99% confidence level?
B10: 4 | C10: 0 | M10: A mintaeloszlásra végzett normalitási illeszkedésvizsgálat számolt p-értéke 84,3%. | N10: Der errechnete p-Wert eines Anpassungtestes für Normalverteilung der Stichprobe ist 84,3%. | O10: The calculated p-value of the test for fit for normality executed for the sample distribution is 84.3%.
B11: 4.1 | C11: 2
B12: 4.2 | C12: 3 | M12: Milyen hipotézisvizsgálatot alkalmazol? Az általános leírásban szereplő kóddal válaszolj! | N12: Welcher Test muss benutzt werden? Antworte mit dem in der "Intro" stehenden Kode. | O12: What test should be used? Answer with the code given in the "Intro".
B13: 4.3 | C13: 3 | M13: Mekkora a mintából számolt próbastatisztika? | N13: Was ist die aus der Stichprobe errechnete Teststatistik (Prüfgröße)? | O13: Find the test statistic calculated from the sample.
B14: 4.4 | C14: 1 | M14: Mekkora a minta kétszélű p-értéke? | N14: Was ist der zweiseitige p-Wert der Stichprobe? | O14: What is the two-tailed p-value of the sample?
B15: 4.5 | C15: 4 | M15: Mekkora a kritikus próbastatisztika? | N15: Gib die kritische Teststatistik (kritische Prüfgröße). | O15: Give the critical test statistic.
B16: 4.6 | C16: 5 | M16: Elvetjük a nullhipotézist? (igen=1, nem=0) | N16: Sollte die Nullhypothese abgelehnt werden? (ja=1, nein=0) | O16: Should the null hypothesis be rejected? (yes=1, no=0)
B17: 4.7 | C17: 3 | M17: Van szignifikáns eltérés? (igen=1, nem=0) | N17: Gibt es eine signifikante Differenz? (ja=1, nein=0) | O17: Is there a significant difference? (yes=1, no=0)
B18: 4.8 | C18: 5 | M18: Milyen döntési hiba lehetséges? (α=1, β=2) | N18: Was ist der mögliche Entscheidungsfehler? (α=1, β=2) | O18: What is the possible decision error? (α=1, β=2)
B19: 4.9 | C19: 4
B20: 5 | C20: 3 | M20: átlag (xm): | N20: Mittelwert (xm): | O20: mean (xm):
B21: 5.1 | C21: 2 | M21: variancia becslése: | N21: Schätzung der Varianz: | O21: estimation of the variance:
B22: 5.2 | C22: 2 | M22: szórás becslése: | N22: Schätzung der Standardabweichung: | O22: estimation of the standard deviation:
B23: 5.3 | C23: 3 | M23: átlag szórása: | N23: Standardfehler: | O23: standard error:
B24: 5.4 | C24: 1 | M24: minta t-érték: | N24: Stichproben-t-Wert: | O24: sample t-value:
B25: 5.5 | C25: 1 | M25: minta p-értéke (2 szél): | N25: Stichproben-p-Wert (2-Seitig): | O25: sample p-value (2 tail):
B26: 5.6 | C26: 0
B27: 5.7 | C27: 0
B28: 5.8 | C28: 1
B32: =IF(T!$D$2=T!$M$2,M9,IF(T!$D$2=T!$N$2,N9,O9)) -> Is there a significant difference at 99% confidence level?
B33: =IF(T!$D$2=T!$M$2,M10,IF(T!$D$2=T!$N$2,N10,O10)) -> The calculated p-value of the test for fit for normality executed for the sample distribution is 84.3%.
B35: =IF(T!$D$2=T!$M$2,M12,IF(T!$D$2=T!$N$2,N12,O12)) -> What test should be used? Answer with the code given in the "Intro".
B36: =IF(T!$D$2=T!$M$2,M13,IF(T!$D$2=T!$N$2,N13,O13)) -> Find the test statistic calculated from the sample.
B37: =IF(T!$D$2=T!$M$2,M14,IF(T!$D$2=T!$N$2,N14,O14)) -> What is the two-tailed p-value of the sample?
B38: =IF(T!$D$2=T!$M$2,M15,IF(T!$D$2=T!$N$2,N15,O15)) -> Give the critical test statistic.
B39: =IF(T!$D$2=T!$M$2,M16,IF(T!$D$2=T!$N$2,N16,O16)) -> Should the null hypothesis be rejected? (yes=1, no=0)
B40: =IF(T!$D$2=T!$M$2,M17,IF(T!$D$2=T!$N$2,N17,O17)) -> Is there a significant difference? (yes=1, no=0)
B41: =IF(T!$D$2=T!$M$2,M18,IF(T!$D$2=T!$N$2,N18,O18)) -> What is the possible decision error? (α=1, β=2)

Sheet 8m
B2: =IF(T!$D$2=T!$M$2,M2,IF(T!$D$2=T!$N$2,N2,O2)) -> We would like to know if the average blood sugar level of Hungarian people differs significantly from the 4.7 mM world average. | M2: Meg szeretnénk tudni, hogy a magyar emberek átlagos vércukorszintje szignifikánsan eltér-e a 4,7 mM-os világátlagtól. | N2: Wir würden mal gerne herausfinden, ob der durchschnittliche Blutzuckerspiegel der ungarischen Bevölkerung vom 4,7 mM Weltmittelwert abweicht. | O2: We would like to know if the average blood sugar level of Hungarian people differs significantly from the 4.7 mM world average.
B3: =IF(T!$D$2=T!$M$2,M3,IF(T!$D$2=T!$N$2,N3,O3)) -> Therefore, we measured the blood sugar level of 45 Hungarians. | M3: Ezért megmértük 45 magyar ember vércukrát. | N3: Deshalb maßen wir den Blutzuckerspiegel von 45 Ungaren. | O3: Therefore, we measured the blood sugar level of 45 Hungarians.
B4: =IF(T!$D$2=T!$M$2,M4,IF(T!$D$2=T!$N$2,N4,O4)) -> The results are shown in the following frequency table: | M4: Az eredményeket az alábbi gyakorisági tábla tartalmazza: | N4: Die Ergebnisse lassen sich in der folgenden Häufigkeitstabelle finden: | O4: The results are shown in the following frequency table:
B6: =IF(T!$D$2=T!$M$2,M6,IF(T!$D$2=T!$N$2,N6,O6)) -> Blood sugar level _x000D_(mM) | C6: =IF(T!$D$2=T!$M$2,M7,IF(T!$D$2=T!$N$2,N7,O7)) -> Frequency | F6: ni*xi | G6: ni*(xi-xm)^2 | M6: Vércukorszintérték (mM) | N6: Blutzuckerspiegel (mM) | O6: Blood sugar level (mM)
B7: 3.7 | C7: 1 | F7: =C7*B7 -> 3.7 | G7: =C7*(B7-$G$32)^2 -> 1.0494864 | M7: Gyakoriság | N7: Häufigkeit | O7: Frequency
B8: 3.8 | C8: 0 | F8: =C8*B8 -> 0 | G8: =C8*(B8-$G$32)^2 -> 0
B9: 3.9 | C9: 1 | F9: =C9*B9 -> 3.9 | G9: =C9*(B9-$G$32)^2 -> 0.67970864 | M9: Van szignifikáns eltérés 99%-os konfidenciaszinten? | N9: Gibt es eine signifikante Differenz bei einem 99% Konfidenzniveau? | O9: Is there a significant difference at 99% confidence level?
B10: 4 | C10: 0 | F10: =C10*B10 -> 0 | G10: =C10*(B10-$G$32)^2 -> 0 | M10: A mintaeloszlásra végzett normalitási illeszkedésvizsgálat számolt p-értéke 84,3%. | N10: Der errechnete p-Wert eines Anpassungtestes für Normalverteilung der Stichprobe ist 84,3%. | O10: The calculated p-value of the test for fit for normality executed for the sample distribution is 84.3%.
B11: 4.1 | C11: 2 | F11: =C11*B11 -> 8.2 | G11: =C11*(B11-$G$32)^2 -> 0.77986173
B12: 4.2 | C12: 3 | F12: =C12*B12 -> 12.6 | G12: =C12*(B12-$G$32)^2 -> 0.82512593 | M12: Milyen hipotézisvizsgálatot alkalmazol? Az általános leírásban szereplő kóddal válaszolj! | N12: Welcher Test muss benutzt werden? Antworte mit dem in der "Intro" stehenden Kode. | O12: What test should be used? Answer with the code given in the "Intro".
B13: 4.3 | C13: 3 | F13: =C13*B13 -> 12.9 | G13: =C13*(B13-$G$32)^2 -> 0.54045926 | M13: Mekkora a mintából számolt próbastatisztika? | N13: Was ist die aus der Stichprobe errechnete Teststatistik (Prüfgröße)? | O13: Find the test statistic calculated from the sample.
B14: 4.4 | C14: 1 | F14: =C14*B14 -> 4.4 | G14: =C14*(B14-$G$32)^2 -> 0.1052642 | M14: Mekkora a minta kétszélű p-értéke? | N14: Was ist der zweiseitige p-Wert der Stichprobe? | O14: What is the two-tailed p-value of the sample?
B15: 4.5 | C15: 4 | F15: =C15*B15 -> 18 | G15: =C15*(B15-$G$32)^2 -> 0.20150123 | M15: Mekkora a kritikus próbastatisztika? | N15: Gib die kritische Teststatistik (kritische Prüfgröße). | O15: Give the critical test statistic.
B16: 4.6 | C16: 5 | F16: =C16*B16 -> 23 | G16: =C16*(B16-$G$32)^2 -> 0.077432099 | M16: Elvetjük a nullhipotézist? (igen=1, nem=0) | N16: Sollte die Nullhypothese abgelehnt werden? (ja=1, nein=0) | O16: Should the null hypothesis be rejected? (yes=1, no=0)
B17: 4.7 | C17: 3 | F17: =C17*B17 -> 14.1 | G17: =C17*(B17-$G$32)^2 -> 0.0017925926 | M17: Van szignifikáns eltérés? (igen=1, nem=0) | N17: Gibt es eine signifikante Differenz? (ja=1, nein=0) | O17: Is there a significant difference? (yes=1, no=0)
B18: 4.8 | C18: 5 | F18: =C18*B18 -> 24 | G18: =C18*(B18-$G$32)^2 -> 0.02854321 | M18: Milyen döntési hiba lehetséges? (α=1, β=2) | N18: Was ist der mögliche Entscheidungsfehler? (α=1, β=2) | O18: What is the possible decision error? (α=1, β=2)
B19: 4.9 | C19: 4 | F19: =C19*B19 -> 19.6 | G19: =C19*(B19-$G$32)^2 -> 0.12327901
B20: 5 | C20: 3 | F20: =C20*B20 -> 15 | G20: =C20*(B20-$G$32)^2 -> 0.22779259 | M20: átlag (xm): | N20: Mittelwert (xm): | O20: mean (xm):
B21: 5.1 | C21: 2 | F21: =C21*B21 -> 10.2 | G21: =C21*(B21-$G$32)^2 -> 0.28208395 | M21: variancia becslése: | N21: Schätzung der Varianz: | O21: estimation of the variance:
B22: 5.2 | C22: 2 | F22: =C22*B22 -> 10.4 | G22: =C22*(B22-$G$32)^2 -> 0.45230617 | M22: szórás becslése: | N22: Schätzung der Standardabweichung: | O22: estimation of the standard deviation:
B23: 5.3 | C23: 3 | F23: =C23*B23 -> 15.9 | G23: =C23*(B23-$G$32)^2 -> 0.99379259 | M23: átlag szórása: | N23: Standardfehler: | O23: standard error:
B24: 5.4 | C24: 1 | F24: =C24*B24 -> 5.4 | G24: =C24*(B24-$G$32)^2 -> 0.45637531 | M24: minta t-érték: | N24: Stichproben-t-Wert: | O24: sample t-value:
B25: 5.5 | C25: 1 | F25: =C25*B25 -> 5.5 | G25: =C25*(B25-$G$32)^2 -> 0.60148642 | M25: minta p-értéke (2 szél): | N25: Stichproben-p-Wert (2-Seitig): | O25: sample p-value (2 tail):
B26: 5.6 | C26: 0 | F26: =C26*B26 -> 0 | G26: =C26*(B26-$G$32)^2 -> 0
B27: 5.7 | C27: 0 | F27: =C27*B27 -> 0 | G27: =C27*(B27-$G$32)^2 -> 0
B28: 5.8 | C28: 1 | F28: =C28*B28 -> 5.8 | G28: =C28*(B28-$G$32)^2 -> 1.1568198
C30: =SUM(C7:C28) -> 45 | F30: =SUM(F7:F28) -> 212.6 | G30: =SUM(G7:G28) -> 8.5831111
B32: =IF(T!$D$2=T!$M$2,M9,IF(T!$D$2=T!$N$2,N9,O9)) -> Is there a significant difference at 99% confidence level? | F32: =IF(T!$D$2=T!$M$2,M20,IF(T!$D$2=T!$N$2,N20,O20)) -> mean (xm): | G32: =F30/C30 -> 4.7244444
B33: =IF(T!$D$2=T!$M$2,M10,IF(T!$D$2=T!$N$2,N10,O10)) -> The calculated p-value of the test for fit for normality executed for the sample distribution is 84.3%. | F33: =IF(T!$D$2=T!$M$2,M21,IF(T!$D$2=T!$N$2,N21,O21)) -> estimation of the variance: | G33: =G30/(C30-1) -> 0.19507071
F34: =IF(T!$D$2=T!$M$2,M22,IF(T!$D$2=T!$N$2,N22,O22)) -> estimation of the standard deviation: | G34: =SQRT(G33) -> 0.4416681
B35: =IF(T!$D$2=T!$M$2,M12,IF(T!$D$2=T!$N$2,N12,O12)) -> What test should be used? Answer with the code given in the "Intro". | C35: t1 | F35: =IF(T!$D$2=T!$M$2,M23,IF(T!$D$2=T!$N$2,N23,O23)) -> standard error: | G35: =G34/SQRT(C30) -> 0.065839992
B36: =IF(T!$D$2=T!$M$2,M13,IF(T!$D$2=T!$N$2,N13,O13)) -> Find the test statistic calculated from the sample. | C36: =G36 -> 0.37127046 | F36: =IF(T!$D$2=T!$M$2,M24,IF(T!$D$2=T!$N$2,N24,O24)) -> sample t-value: | G36: =(G32-4.7)/G35 -> 0.37127046
B37: =IF(T!$D$2=T!$M$2,M14,IF(T!$D$2=T!$N$2,N14,O14)) -> What is the two-tailed p-value of the sample? | C37: =G37 -> 0.71221788 | F37: =IF(T!$D$2=T!$M$2,M25,IF(T!$D$2=T!$N$2,N25,O25)) -> sample p-value (2 tail): | G37: =_xlfn.T.DIST.2T(G36,C30-1) -> 0.71221788
B38: =IF(T!$D$2=T!$M$2,M15,IF(T!$D$2=T!$N$2,N15,O15)) -> Give the critical test statistic. | C38: =_xlfn.T.INV.2T(1%,C30-1) -> 2.6922783
B39: =IF(T!$D$2=T!$M$2,M16,IF(T!$D$2=T!$N$2,N16,O16)) -> Should the null hypothesis be rejected? (yes=1, no=0) | C39: 0
B40: =IF(T!$D$2=T!$M$2,M17,IF(T!$D$2=T!$N$2,N17,O17)) -> Is there a significant difference? (yes=1, no=0) | C40: 0
B41: =IF(T!$D$2=T!$M$2,M18,IF(T!$D$2=T!$N$2,N18,O18)) -> What is the possible decision error? (α=1, β=2) | C41: 2
