Workbook
Name ab: '[1]3.2m'!$C$3:$C$202
Name bloodgroup: '[1]3.1m'!$C$3:$C$202
Name nyelv: T!$M$2:$O$2
Name rh: '[1]3.2m'!$D$3:$D$202
Name Rotblutzelle: #REF!
Name Rotblutzelle: #REF!
Name Rotblutzelle: #REF!
Name Rotblutzelle: #REF!
Name Rotblutzelle: #REF!
Name Rotblutzelle: #REF!
Name Rotblutzelle: #REF!
Name Rotblutzelle: #REF!
Name Rotblutzelle: #REF!
Name values5: '[2]exam like.m'!$E$4:$E$404
Name vvs: #REF!
Name vvs: #REF!
Name vvs: #REF!
Name vvs: #REF!
Name vvs: #REF!
Name vvs: #REF!
Name vvs: #REF!
Name vvs: #REF!
Name vvs: #REF!
Name vvt: [2]mikroszkóp.m!$A$2:$A$51

Sheet T
B2: Válassz a legördülő listából egy nyelvet! Wahl eine Sprache aus der herunterrollenden Liste! Choose a language from the drop-down list. | D2: English | M2: magyar | N2: deutsch | O2: English
C3: =IF($D$2=$M$2,M3,IF($D$2=$N$2,N3,O3)) -> Created by: Gergely AGÓCS PhD (Please send comments and reflections (e.g. on possible errors) to: gergelyagocs at gmail com) | M3: Készítette: dr. Agócs Gergely (Észrevételeket (pl. esetleges hibákról, hiányosságokról) kérlek ide írd meg: gergelyagocs kukac gmail com) | N3: Erarbeitet von: Gergely AGÓCS PhD (Bemerkungen (z.B. zu eventuellen Fehler) bitte an: gergelyagocs Klammeraffe gmail com) | O3: Created by: Gergely AGÓCS PhD (Please send comments and reflections (e.g. on possible errors) to: gergelyagocs at gmail com)
M4: Tartalomjegyzék | N4: Inhalt | O4: Contents
M5: Excelfüggvények használata | N5: Anwendung der Excelfunktionen | O5: How to use Excel functions
M6: Függvények ábrázolása, függvény illesztése mérési adatokra, korreláció és regresszió | N6: Darstellung von Funktionen, Anpassung von Funktionen an gemessenen Daten, Korrelation und Regression | O6: Displaying functions, fitting a function to measured data, correlation and regression
M7: Gyakoriságok meghatározása és ábrázolása | N7: Bestimmung und Darstellung von Häufigkeiten | O7: Determining and displaying frequencies
M8: Minta paramétereinek meghatározása teljes mintából | N8: Bestimmung von Stichprobenparametern aus gesamter Stichprobe. | O8: Determining sample parameters from whole sample
M9: Minta paramétereinek meghatározása gyakorisági eloszlásból | N9: Bestimmung von Stichprobenparametern aus Häufigkeitsverteilung | O9: Determining sample parameters from frequency distribution
M10: Valószínűségi eloszlás paramétereinek meghatározása | N10: Bestimmung der Parameter von Wahrscheinlichkeitsverteilungen | O10: Determining the parameters of probability distributions
M11: Elméleti eloszlás paramétereinek és intervallumainak becslése teljes mintából | N11: Schätzung der Parameter und Intervallen von Wahrscheinlichkeitsverteilungen aus gesamter Stichprobe | O11: Estimating the parameters and intervals of theoretical distributions from whole sample
M12: Elméleti eloszlás paramétereinek és intervallumainak becslése minta gyakorisági eloszlása alapján | N12: Schätzung der Parameter und Intervallen von theoretische Verteilungen aus der Häufigkeitsverteilung einer Stichprobe | O12: Estimating the parameters and intervals of theoretical distributions from frequency distribution of a sample
M13: Valószínűségszámítás diszkrét eloszlású valószínűségi változókkal | N13: Wahrscheinlichkeitsrechnung mit diskreten Zufallsvariablen | O13: Probability calculus with discrete random variables
M14: Student-féle t-próba (1 és 2 mintás, korrelációs) | N14: Student t-Test (1 und 2 Stichproben, Korrelation) | O14: Student's t-test (for 1 and 2 samples, correlation)
M15: Varianciaanalízis (ANOVA) | N15: Varianzanalyse (ANOVA) | O15: Analysis of variance (ANOVA)
... M19: Diagnosztikai módszerek értékelése | N19: Erwertund von diagnostische Mathoden | O19: Evaluation of diagnostic methods

Sheet Intro
B2: =IF(T!$D$2=T!$M$2,M2,IF(T!$D$2=T!$N$2,N2,O2)) -> The name(s) of the test: | C2: =IF(T!$D$2=T!$M$2,M12,IF(T!$D$2=T!$N$2,N12,O12)) -> The code to be given as answer:_x000D_(letter case does not matter) | M2: A próba elnevezése(i): | N2: Name(n) des Tests: | O2: The name(s) of the test:
B3: =IF(T!$D$2=T!$M$2,M3,IF(T!$D$2=T!$N$2,N3,O3)) -> (Student's) t-test for significance of correlation_x000D_(Student's) t-test for the correlation coefficient_x000D_(Student's) t-test for correlation_x000D_(Student's) correlation t-test | C3: tr | M3: korrelációs (Student-) t-próba (Student-) t-próba korrelációs együtthatóra (Student-) t-próba a korrelációs együttható szignifikanciájára | N3: Student-t-Test für die Signifikanz der Korrelationskoeffizient Student-t-Test für Korrelation Korrelations-(Student)-t-Test | O3: (Student's) t-test for significance of correlation (Student's) t-test for the correlation coefficient (Student's) t-test for correlation (Student's) correlation t-test
B4: =IF(T!$D$2=T!$M$2,M4,IF(T!$D$2=T!$N$2,N4,O4)) -> (Student's) t-test for one sample_x000D_(Student's) two sample t-test for two paired samples_x000D_(Student's) two sample t-test for dependent samples_x000D_(Student's) paired t-test | C4: t1 | M4: egymintás (Student-) t-próba párosított (Student-) t-próba kétmintás (Student-) t-próba két párosított mintára kétmintás (Student-) t-próba két függő mintára | N4: Einstichproben-(Student)-t-Test (Student)-t-Test für eine Stichprobe (Student)-t-Test für zwei gepaarte Stichproben (Student)-t-Test für zwei abhängige Stichproben | O4: (Student's) t-test for one sample (Student's) two sample t-test for two paired samples (Student's) two sample t-test for dependent samples (Student's) paired t-test
B5: =IF(T!$D$2=T!$M$2,M5,IF(T!$D$2=T!$N$2,N5,O5)) -> (Student's) t-test for two samples_x000D_(Student's) two sample t-test for unpaired samples_x000D_(Student's) two sample t-test for independent samples | C5: t2 | M5: kétmintás (Student-) t-próba kétmintás (Student-) t-próba két független mintára | N5: Zweistichproben-(Student)-t-Test (Student)-t-Test für zwei Stichproben (Student)-t-Test für zwei ungepaarte Stichproben (Student)-t-Test für zwei unabhängige Stichproben | O5: (Student's) t-test for two samples (Student's) two sample t-test for unpaired samples (Student's) two sample t-test for independent samples
B6: =IF(T!$D$2=T!$M$2,M6,IF(T!$D$2=T!$N$2,N6,O6)) -> F-test_x000D_F-test for the sample variances | C6: F | M6: F-próba F-próba a varianciákra | N6: F-Test F-Test für die Varianzen | O6: F-test F-test for the sample variances
B7: =IF(T!$D$2=T!$M$2,M7,IF(T!$D$2=T!$N$2,N7,O7)) -> Wilcoxon's test_x000D_Wilcoxon's signed rank test | C7: W | M7: Wilcoxon-próba Wilcoxon előjelesrang-próba | N7: Wilcoxon-Vorzeichen-Rang-Test Wilcoxon-Test | O7: Wilcoxon's test Wilcoxon's signed rank test
B8: =IF(T!$D$2=T!$M$2,M8,IF(T!$D$2=T!$N$2,N8,O8)) -> Mann-Whitney U-test _x000D_Mann-Whitney U-test for the rank sums | C8: U | M8: Mann-Whitney U-próba Mann-Whitney U-próba a rangösszegekre | N8: Mann-Whitney-U-Test Mann-Whitney-Rangsummentest | O8: Mann-Whitney U-test Mann-Whitney U-test for the rank sums
B9: =IF(T!$D$2=T!$M$2,M9,IF(T!$D$2=T!$N$2,N9,O9)) -> ANOVA_x000D_ANalysis Of VAriance | C9: V | M9: ANOVA varianciaanalízis | N9: ANOVA Varianzanalyse | O9: ANOVA ANalysis Of VAriance
B10: =IF(T!$D$2=T!$M$2,M10,IF(T!$D$2=T!$N$2,N10,O10)) -> Kruskal-Wallis test | C10: K | M10: Kruskal-Wallis próba | N10: Kruskal-Wallis-Test | O10: Kruskal-Wallis test
B11: =IF(T!$D$2=T!$M$2,M11,IF(T!$D$2=T!$N$2,N11,O11)) -> chi squared test_x000D_χ2-test | C11: K2 | M11: khínégyzetpróba khi2-próba χ2-próba | N11: Chi-Quadrat-Test chi^2-Test χ2-Test | O11: chi squared test χ2-test
M12: Válaszként megadandó kód: (kisbetű/nagybetű nem számít) | N12: Der als Antwort zu gebende Code: (Groß- und Kleinschreibung spielt keine Rolle) | O12: The code to be given as answer: (letter case does not matter)

Sheet 1
B2: =IF(T!$D$2=T!$M$2,M2,IF(T!$D$2=T!$N$2,N2,O2)) -> The nominal API content of a pharmaceutical product is 100.0 mg per tablet. | M2: Egy gyógyszerkészítmény névleges hatóanyagtartalma 100,0 mg tablettánként. | N2: Der nominale Wirkstoffgehalt eines Arzneimittels ist 100,0 mg pro Tablette. | O2: The nominal API content of a pharmaceutical product is 100.0 mg per tablet.
B3: =IF(T!$D$2=T!$M$2,M3,IF(T!$D$2=T!$N$2,N3,O3)) -> We checked a lot of the product for the purpose of quality control. | M3: Egy sarzs gyártmányt megvizsgáltunk minőségellenőrzés céljából. | N3: Wir untersuchten eine Charge des Produktes zwecks Qualitätskontrolle. | O3: We checked a lot of the product for the purpose of quality control.
B4: =IF(T!$D$2=T!$M$2,M4,IF(T!$D$2=T!$N$2,N4,O4)) -> The API content of five tablets was measuerd: the results are the following: | M4: Öt tablettának mértük meg a hatóanyag-tartalmát, a következő értékeket kaptuk: | N4: Der Wirkstoffgehalt von fünf Tabletten wurde gemessen: man bekam die folgenden Werte: | O4: The API content of five tablets was measuerd: the results are the following:
M5: tabletta sorszáma: | N5: Nummer der Tablette: | O5: number of tablet:
B6: =IF(T!$D$2=T!$M$2,M5,IF(T!$D$2=T!$N$2,N5,O5)) -> number of tablet: | C6: =IF(T!$D$2=T!$M$2,M6,IF(T!$D$2=T!$N$2,N6,O6)) -> measured API-content: | M6: mért hatóanyag-tartalom: | N6: gemessener Wirkstoff-gehalt: | O6: measured API-content:
B7: 1 | C7: 100.5 | M7: Jól van-e a tablettázógép beállítva? | N7: Ist die Tablettenpresse gut eingestellt? | O7: Is the tablet press well adjusted?
B8: 2 | C8: 98.2 | M8: A gépet akkor tekintjük jól beállítottnak, ha a középérték eltérése nem szignifikáns 5%-os szinten tekintve. | N8: Die Presse kann als gut eingestellt angesehen werden wenn die Abweichung des Mittelwertes beim 5% Signifikanzniveau nicht signifikant ist. | O8: The press can be considered well adjusted if the deviation is not significant at 5% significance level.
B9: 3 | C9: 99.1 | M9: Az eltérések eloszlása tekinthető normálisnak. | N9: Die Verteilung kann als normal angesehen werden. | O9: The distribution can be considered normal.
B10: 4 | C10: 101.4 | M10: Milyen hipotézisvizsgálatot alkalmazol? Az általános leírásban szereplő kóddal válaszolj! | N10: Welche Hypothesenprüfung sollte benutzt werden? Antworte mit dem Code in "Intro". | O10: Which hypothesis testing should be used? Answer with the code given in "Intro".
B11: 5 | C11: 96.8 | M11: Mekkora a minta átlaga? | N11: Was ist der Mittelwert der Stichprobe? | O11: What is the mean of the sample?
M12: Mekkora a mintastatisztika? | N12: Wie groß ist die Teststatistik (Prüfgröße) der Stichprobe? | O12: Waht is the test statistic calculated from the sample?
B13: =IF(T!$D$2=T!$M$2,M7,IF(T!$D$2=T!$N$2,N7,O7)) -> Is the tablet press well adjusted? | M13: Mekkora a mintához tartozó kétoldali p-érték? | N13: Gebe den zweiseitigen p-Wert der Stichprobe. | O13: What is the two-tailed-p-value of the sample?
B14: =IF(T!$D$2=T!$M$2,M8,IF(T!$D$2=T!$N$2,N8,O8)) -> The press can be considered well adjusted if the deviation is not significant at 5% significance level. | M14: Megtartod a nullhipotézist? (igen=1, nem=0) | N14: Sollte die Nullhypothese angenommen werden? (Ja=1, Nein=0) | O14: Should we accept the null hypothesis? (yes=1, no=0)
B15: =IF(T!$D$2=T!$M$2,M9,IF(T!$D$2=T!$N$2,N9,O9)) -> The distribution can be considered normal. | M15: Jól van a gép beállítva? (igen=1, nem=0) | N15: Ist die Maschine gut eingestellt? (Ja=1, Nein=0) | O15: Is the machine well adjusted? (yes=1, no=0)
M16: Milyen döntési hiba lehetséges? (elsőfajú=1, másodfajú=2) | N16: Was ist der mögliche Entscheidungsfehler? (Fehler erster Art=1, Fehler zweiter Art=2) | O16: What is the possible decision error? (type I = 1, type II = 2)
B17: =IF(T!$D$2=T!$M$2,M10,IF(T!$D$2=T!$N$2,N10,O10)) -> Which hypothesis testing should be used? Answer with the code given in "Intro". | C17: t1 | M17: ez t-próba esetén a mintából számolt t-értéket jelenti | N17: im Falle von t-Testen, das ist der aus der Stichprobe errechnete t-Wert | O17: in case of a t-test, it is the sample t-value
B18: =IF(T!$D$2=T!$M$2,M11,IF(T!$D$2=T!$N$2,N11,O11)) -> What is the mean of the sample? | C18: =C29 -> 0
B19: =IF(T!$D$2=T!$M$2,M12,IF(T!$D$2=T!$N$2,N12,O12)) -> Waht is the test statistic calculated from the sample? | C19: =C32 -> 0 | D19: =IF(T!$D$2=T!$M$2,M17,IF(T!$D$2=T!$N$2,N17,O17)) -> in case of a t-test, it is the sample t-value | M19: 1. Számolás lépésről lépésre, döntés p-érték alapján: | N19: 1. Berechnung schritt für schritt, Entscheidung auf Grund der p-Werte: | O19: 1. Calculation stepwise, decision based on the p-values:
B20: =IF(T!$D$2=T!$M$2,M13,IF(T!$D$2=T!$N$2,N13,O13)) -> What is the two-tailed-p-value of the sample? | C20: =C44 -> 0
B21: =IF(T!$D$2=T!$M$2,M14,IF(T!$D$2=T!$N$2,N14,O14)) -> Should we accept the null hypothesis? (yes=1, no=0) | C21: 1 | M21: H_0 szerinti várható érték: | N21: der Erwartungswert anhand der H_0: | O21: the expected value according to the H_0:
B22: =IF(T!$D$2=T!$M$2,M15,IF(T!$D$2=T!$N$2,N15,O15)) -> Is the machine well adjusted? (yes=1, no=0) | C22: 1 | M22: minta elemszáma: | N22: Datenanzahl: | O22: data count:
B23: =IF(T!$D$2=T!$M$2,M16,IF(T!$D$2=T!$N$2,N16,O16)) -> What is the possible decision error? (type I = 1, type II = 2) | C23: 2 | M23: minta átlaga: | N23: Mittelwert der Stichprobe: | O23: mean of the sample:
M24: az elméleti szórás becslése: | N24: Schätzung der theoretischen Streuung: | O24: estimation of the theoretical standard deviation:
M25: az átlag hibája: | N25: Standardfehler: | O25: standard error:
M26: a minta t-értéke: | N26: Stichproben-t-Wert: | O26: sample t-value:
M27: szabadsági fokok száma: | N27: Freihetsgrade: | O27: number of degrees of freedom:
M28: a minta kétszélű p-értéke: | N28: Zweiseitiger p-Wert der Stichprobe: | O28: two-tailed p-value of the sample:
M29: döntés: | N29: Entscheidung: | O29: decision:
M30: H_0-t megtartom, mivel p_minta > p_krit (a minta átlagának véletlen előfordulása a H_0 szerint nagy valószínűségű) | N30: H_0 wird angenommen, weil p_Stichprobe > p_krit (das zufällige Auftreten des Stichprobenmittelwerts ist anhand H_0 wahrscheinlich) | O30: H_0 is accepted because p_sample > p_crit (the random occurrence of the sample's mean is probable if H_0 is true)
M31: sajnos ez a függvény csak a t abszolútértékét fogadja el | N31: leider akzeptiert diese Funktion nur positive t-Werte | O31: unfortunately this function only accepts positive t-values
M33: a minta t-értéke és p-értéke a t-eloszláson | N33: der t-Wert und der p-Wert der Stichprobe in der t-Verteilung | O33: the sample's t-value and p-value in the t-distribution
M34: =IF(T!$D$2=T!$M$2,M33,IF(T!$D$2=T!$N$2,N33,O33)) -> the sample's t-value and p-value _x000D_in the t-distribution
M36: t-értékek | N36: t-Werte | O36: t-values
M37: =IF(T!$D$2=T!$M$2,M36,IF(T!$D$2=T!$N$2,N36,O36)) -> t-values
M39: a minta átlaga és p-értéke a lehetséges átlagok H_0 szerinti eloszlásán | N39: der Durchschnitt und der p-Wert der Stichprobe in der Verteilung der möglichen Durchschnitte nach der H_0 | O39: the sample's average and p-value in the H_0 distribution of possible averages
M40: =IF(T!$D$2=T!$M$2,M39,IF(T!$D$2=T!$N$2,N39,O39)) -> the sample's average and p-value _x000D_in the H_0 distribution of possible averages
M42: véletlen minták lehetséges átlagai | N42: die möglichen Durchschnitte der zufälligen Stichproben | O42: the possible averages of the random samples
M43: =IF(T!$D$2=T!$M$2,M42,IF(T!$D$2=T!$N$2,N42,O42)) -> the possible averages of the random samples
M45: dp/d(átlag) | N45: dp/d(Durchschnitt) | O45: dp/d(average)
M46: =IF(T!$D$2=T!$M$2,M45,IF(T!$D$2=T!$N$2,N45,O45)) -> dp/d(average)
...

Sheet 1m
B2: =IF(T!$D$2=T!$M$2,M2,IF(T!$D$2=T!$N$2,N2,O2)) -> The nominal API content of a pharmaceutical product is 100.0 mg per tablet. | M2: Egy gyógyszerkészítmény névleges hatóanyagtartalma 100,0 mg tablettánként. | N2: Der nominale Wirkstoffgehalt eines Arzneimittels ist 100,0 mg pro Tablette. | O2: The nominal API content of a pharmaceutical product is 100.0 mg per tablet.
B3: =IF(T!$D$2=T!$M$2,M3,IF(T!$D$2=T!$N$2,N3,O3)) -> We checked a lot of the product for the purpose of quality control. | M3: Egy sarzs gyártmányt megvizsgáltunk minőségellenőrzés céljából. | N3: Wir untersuchten eine Charge des Produktes zwecks Qualitätskontrolle. | O3: We checked a lot of the product for the purpose of quality control.
B4: =IF(T!$D$2=T!$M$2,M4,IF(T!$D$2=T!$N$2,N4,O4)) -> The API content of five tablets was measuerd: the results are the following: | M4: Öt tablettának mértük meg a hatóanyag-tartalmát, a következő értékeket kaptuk: | N4: Der Wirkstoffgehalt von fünf Tabletten wurde gemessen: man bekam die folgenden Werte: | O4: The API content of five tablets was measuerd: the results are the following:
M5: tabletta sorszáma: | N5: Nummer der Tablette: | O5: number of tablet:
B6: =IF(T!$D$2=T!$M$2,M5,IF(T!$D$2=T!$N$2,N5,O5)) -> number of tablet: | C6: =IF(T!$D$2=T!$M$2,M6,IF(T!$D$2=T!$N$2,N6,O6)) -> measured API-content: | M6: mért hatóanyag-tartalom: | N6: gemessener Wirkstoff-gehalt: | O6: measured API-content:
B7: 1 | C7: 100.5 | M7: Jól van-e a tablettázógép beállítva? | N7: Ist die Tablettenpresse gut eingestellt? | O7: Is the tablet press well adjusted?
B8: 2 | C8: 98.2 | M8: A gépet akkor tekintjük jól beállítottnak, ha a középérték eltérése nem szignifikáns 5%-os szinten tekintve. | N8: Die Presse kann als gut eingestellt angesehen werden wenn die Abweichung des Mittelwertes beim 5% Signifikanzniveau nicht signifikant ist. | O8: The press can be considered well adjusted if the deviation is not significant at 5% significance level.
B9: 3 | C9: 99.1 | M9: Az eltérések eloszlása tekinthető normálisnak. | N9: Die Verteilung kann als normal angesehen werden. | O9: The distribution can be considered normal.
B10: 4 | C10: 101.4 | M10: Milyen hipotézisvizsgálatot alkalmazol? Az általános leírásban szereplő kóddal válaszolj! | N10: Welche Hypothesenprüfung sollte benutzt werden? Antworte mit dem Code in "Intro". | O10: Which hypothesis testing should be used? Answer with the code given in "Intro".
B11: 5 | C11: 96.8 | M11: Mekkora a minta átlaga? | N11: Was ist der Mittelwert der Stichprobe? | O11: What is the mean of the sample?
M12: Mekkora a mintastatisztika? | N12: Wie groß ist die Teststatistik (Prüfgröße) der Stichprobe? | O12: Waht is the test statistic calculated from the sample?
B13: =IF(T!$D$2=T!$M$2,M7,IF(T!$D$2=T!$N$2,N7,O7)) -> Is the tablet press well adjusted? | M13: Mekkora a mintához tartozó kétoldali p-érték? | N13: Gebe den zweiseitigen p-Wert der Stichprobe. | O13: What is the two-tailed-p-value of the sample?
B14: =IF(T!$D$2=T!$M$2,M8,IF(T!$D$2=T!$N$2,N8,O8)) -> The press can be considered well adjusted if the deviation is not significant at 5% significance level. | M14: Megtartod a nullhipotézist? (igen=1, nem=0) | N14: Sollte die Nullhypothese angenommen werden? (Ja=1, Nein=0) | O14: Should we accept the null hypothesis? (yes=1, no=0)
B15: =IF(T!$D$2=T!$M$2,M9,IF(T!$D$2=T!$N$2,N9,O9)) -> The distribution can be considered normal. | M15: Jól van a gép beállítva? (igen=1, nem=0) | N15: Ist die Maschine gut eingestellt? (Ja=1, Nein=0) | O15: Is the machine well adjusted? (yes=1, no=0)
M16: Milyen döntési hiba lehetséges? (elsőfajú=1, másodfajú=2) | N16: Was ist der mögliche Entscheidungsfehler? (Fehler erster Art=1, Fehler zweiter Art=2) | O16: What is the possible decision error? (type I = 1, type II = 2)
B17: =IF(T!$D$2=T!$M$2,M10,IF(T!$D$2=T!$N$2,N10,O10)) -> Which hypothesis testing should be used? Answer with the code given in "Intro". | C17: t1 | M17: ez t-próba esetén a mintából számolt t-értéket jelenti | N17: im Falle von t-Testen, das ist der aus der Stichprobe errechnete t-Wert | O17: in case of a t-test, it is the sample t-value
B18: =IF(T!$D$2=T!$M$2,M11,IF(T!$D$2=T!$N$2,N11,O11)) -> What is the mean of the sample? | C18: =C29 -> 99.2
B19: =IF(T!$D$2=T!$M$2,M12,IF(T!$D$2=T!$N$2,N12,O12)) -> Waht is the test statistic calculated from the sample? | C19: =C32 -> -0.98102294 | D19: =IF(T!$D$2=T!$M$2,M17,IF(T!$D$2=T!$N$2,N17,O17)) -> in case of a t-test, it is the sample t-value | M19: 1. Számolás lépésről lépésre, döntés p-érték alapján: | N19: 1. Berechnung schritt für schritt, Entscheidung auf Grund der p-Werte: | O19: 1. Calculation stepwise, decision based on the p-values:
B20: =IF(T!$D$2=T!$M$2,M13,IF(T!$D$2=T!$N$2,N13,O13)) -> What is the two-tailed-p-value of the sample? | C20: =C44 -> 0.38212579
B21: =IF(T!$D$2=T!$M$2,M14,IF(T!$D$2=T!$N$2,N14,O14)) -> Should we accept the null hypothesis? (yes=1, no=0) | C21: 1 | M21: H_0 szerinti várható érték: | N21: der Erwartungswert anhand der H_0: | O21: the expected value according to the H_0:
B22: =IF(T!$D$2=T!$M$2,M15,IF(T!$D$2=T!$N$2,N15,O15)) -> Is the machine well adjusted? (yes=1, no=0) | C22: 1 | M22: minta elemszáma: | N22: Datenanzahl: | O22: data count:
B23: =IF(T!$D$2=T!$M$2,M16,IF(T!$D$2=T!$N$2,N16,O16)) -> What is the possible decision error? (type I = 1, type II = 2) | C23: 2 | M23: minta átlaga: | N23: Mittelwert der Stichprobe: | O23: mean of the sample:
M24: az elméleti szórás becslése: | N24: Schätzung der theoretischen Streuung: | O24: estimation of the theoretical standard deviation:
B25: =IF(T!$D$2=T!$M$2,M19,IF(T!$D$2=T!$N$2,N19,O19)) -> 1. Calculation stepwise, decision based on the p-values: | M25: az átlag hibája: | N25: Standardfehler: | O25: standard error:
M26: a minta t-értéke: | N26: Stichproben-t-Wert: | O26: sample t-value:
B27: =IF(T!$D$2=T!$M$2,M21,IF(T!$D$2=T!$N$2,N21,O21)) -> the expected value according to the H_0: | C27: 100 | M27: szabadsági fokok száma: | N27: Freihetsgrade: | O27: number of degrees of freedom:
B28: =IF(T!$D$2=T!$M$2,M22,IF(T!$D$2=T!$N$2,N22,O22)) -> data count: | C28: =COUNT(C7:C11) -> 5 | M28: a minta kétszélű p-értéke: | N28: Zweiseitiger p-Wert der Stichprobe: | O28: two-tailed p-value of the sample:
B29: =IF(T!$D$2=T!$M$2,M23,IF(T!$D$2=T!$N$2,N23,O23)) -> mean of the sample: | C29: =AVERAGE(C7:C11) -> 99.2 | M29: döntés: | N29: Entscheidung: | O29: decision:
B30: =IF(T!$D$2=T!$M$2,M24,IF(T!$D$2=T!$N$2,N24,O24)) -> estimation of the theoretical standard deviation: | C30: =_xlfn.STDEV.S(C7:C11) -> 1.8234583 | M30: H_0-t megtartom, mivel p_minta > p_krit (a minta átlagának véletlen előfordulása a H_0 szerint nagy valószínűségű) | N30: H_0 wird angenommen, weil p_Stichprobe > p_krit (das zufällige Auftreten des Stichprobenmittelwerts ist anhand H_0 wahrscheinlich) | O30: H_0 is accepted because p_sample > p_crit (the random occurrence of the sample's mean is probable if H_0 is true)
B31: =IF(T!$D$2=T!$M$2,M25,IF(T!$D$2=T!$N$2,N25,O25)) -> standard error: | C31: =C30/SQRT(C28) -> 0.81547532 | M31: sajnos ez a függvény csak a t abszolútértékét fogadja el | N31: leider akzeptiert diese Funktion nur positive t-Werte | O31: unfortunately this function only accepts positive t-values
B32: =IF(T!$D$2=T!$M$2,M26,IF(T!$D$2=T!$N$2,N26,O26)) -> sample t-value: | C32: =(C29-C27)/C31 -> -0.98102294
B33: =IF(T!$D$2=T!$M$2,M27,IF(T!$D$2=T!$N$2,N27,O27)) -> number of degrees of freedom: | C33: =C28-1 -> 4 | M33: a minta t-értéke és p-értéke a t-eloszláson | N33: der t-Wert und der p-Wert der Stichprobe in der t-Verteilung | O33: the sample's t-value and p-value in the t-distribution
M34: =IF(T!$D$2=T!$M$2,M33,IF(T!$D$2=T!$N$2,N33,O33)) -> the sample's t-value and p-value _x000D_in the t-distribution
M36: t-értékek | N36: t-Werte | O36: t-values
M37: =IF(T!$D$2=T!$M$2,M36,IF(T!$D$2=T!$N$2,N36,O36)) -> t-values
M39: a minta átlaga és p-értéke a lehetséges átlagok H_0 szerinti eloszlásán | N39: der Durchschnitt und der p-Wert der Stichprobe in der Verteilung der möglichen Durchschnitte nach der H_0 | O39: the sample's average and p-value in the H_0 distribution of possible averages
M40: =IF(T!$D$2=T!$M$2,M39,IF(T!$D$2=T!$N$2,N39,O39)) -> the sample's average and p-value _x000D_in the H_0 distribution of possible averages
M42: véletlen minták lehetséges átlagai | N42: die möglichen Durchschnitte der zufälligen Stichproben | O42: the possible averages of the random samples
M43: =IF(T!$D$2=T!$M$2,M42,IF(T!$D$2=T!$N$2,N42,O42)) -> the possible averages of the random samples
B44: =IF(T!$D$2=T!$M$2,M28,IF(T!$D$2=T!$N$2,N28,O28)) -> two-tailed p-value of the sample: | C44: =_xlfn.T.DIST.2T(-C32,C33) -> 0.38212579 | D44: =IF(T!$D$2=T!$M$2,M31,IF(T!$D$2=T!$N$2,N31,O31)) -> unfortunately this function only accepts positive t-values
...

Sheet 2
B2: =IF(T!$D$2=T!$M$2,M2,IF(T!$D$2=T!$N$2,N2,O2)) -> During the trial of a new drug the side effects were also examined. | M2: Egy új gyógyszer kipróbálásakor vizsgálták a mellékhatásokat. | N2: Während der Prüfung eines Arzneimittels wurden die Nebenwirkungen untersucht. | O2: During the trial of a new drug the side effects were also examined.
B3: =IF(T!$D$2=T!$M$2,M3,IF(T!$D$2=T!$N$2,N3,O3)) -> It was also checked whether the drug influences the fasting blood sugar level. | M3: Azt is ellenőrizni szerették volna, hogy a gyógyszer befolyásolja-e az éhomi vércukorszintet. | N3: Wir wollten auch untersuchen, ob das Arzneimittel den Nüchternblutzuckerspiegel beeinflußt. | O3: It was also checked whether the drug influences the fasting blood sugar level.
B4: =IF(T!$D$2=T!$M$2,M4,IF(T!$D$2=T!$N$2,N4,O4)) -> We took blood sample from ten treated patients: | M4: Vérmintát vettek tíz kezelt pácienstől: | N4: Von zehn Patienten wurde Blutprobe genommen: | O4: We took blood sample from ten treated patients:
M5: páciens sorszáma: | N5: Nummer des Patienten: | O5: patient number:
B6: =IF(T!$D$2=T!$M$2,M5,IF(T!$D$2=T!$N$2,N5,O5)) -> patient number: | C6: =IF(T!$D$2=T!$M$2,M6,IF(T!$D$2=T!$N$2,N6,O6)) -> fasting blood sugar level (mM): | M6: éhomi vércukor-szint (mM): | N6: Nüchtern-blutzucker-spiegel (mM): | O6: fasting blood sugar level (mM):
B7: 1 | C7: 4.6 | M7: Van-e szignifikáns eltérés a normális 5,0 mM értéktől 10%-os szignifikanciaszinten? | N7: Gibt es eine signifikante Abweichung vom 5,0 mM Normalwert beim 10% Signifikanzniveau? | O7: Is there a significant deviation from the 5.0 mM normal value at 10% level of significance?
B8: 2 | C8: 5.1 | M8: Az eloszlást tekintsük normálisnak. | N8: Es ist angenommen, dass die Verteilung normal ist. | O8: Consider the distribution as normal.
B9: 3 | C9: 4.4
B10: 4 | C10: 4.1 | M10: Milyen próbát kell használni? Az általános leírásban szereplő kóddal válaszolj! | N10: Welcher Test muss benutzt werden? Antworte mit dem in der Beschreibung stehenden Kode. | O10: What test should be used? Answer with the code given in the description.
B11: 5 | C11: 4.7 | M11: Mekkora a mintából számolt próbastatisztika? | N11: Was ist die aus der Stichbrobe errechnete Teststatistik? | O11: Find the test statistic calculated from the sample.
B12: 6 | C12: 4.2 | M12: Add meg a H_0 szerinti eloszlás létrehozásakor használandó szabadsági fokok számát. | N12: Gib die bei der Erstellung der H_0 Verteilung zu benutzende Anzahl der Freihetsgrade. | O12: Give the number of degrees of freedom used during the generation of the H_0 distribution.
B13: 7 | C13: 4.1 | M13: Add meg a minta kétszélű p-értékét. | N13: Gib den zweiseitigen Stichproben-p-Wert. | O13: Give the two-tailed sample p-value.
B14: 8 | C14: 5.1 | M14: Elvetendő a nullhipotézist? (igen=1, nem=0) | N14: Sollte die Nullhypothese abgelehnt werden? (ja=1, nein=0) | O14: Should the null hypothesis be rejected? (yes=1, no=0)
B15: 9 | C15: 4.5 | M15: Van szignifikáns mellékhatás? (igen=1, nem=0) | N15: Gibt es eine signifikante Nebenwirkung? (ja=1, nein=0) | O15: Is there a significant side effect? (yes=1, no=0)
B16: 10 | C16: 4.4 | M16: Milyen döntési hiba lehetséges? (α=1, β=2) | N16: Was ist der mögliche Entscheidungsfehler? (α=1, β=2) | O16: What is the possible decision error? (α=1, β=2)
M17: kritikus t-érték: | N17: kritischer t-Wert: | O17: critical t-value:
B18: =IF(T!$D$2=T!$M$2,M7,IF(T!$D$2=T!$N$2,N7,O7)) -> Is there a significant deviation from the 5.0 mM normal value at 10% level of significance? | M18: A H_0 szerinti t-eloszlás a konfidenciaintervallummal és a minta t-értékkel (nyíl) | N18: Die t-Verteilung nach der H_0 mit dem Konfidenzinterval und dem Stichproben-t-Wert (Pfeil) | O18: The t-distribution for the H_0 with the confidence interval and the sample t-value (arrow)
B19: =IF(T!$D$2=T!$M$2,M8,IF(T!$D$2=T!$N$2,N8,O8)) -> Consider the distribution as normal. | M19: =IF(T!$D$2=T!$M$2,M18,IF(T!$D$2=T!$N$2,N18,O18)) -> The t-distribution for the H_0 _x000D_with the confidence interval and _x000D_the sample t-value (arrow)
B21: =IF(T!$D$2=T!$M$2,M10,IF(T!$D$2=T!$N$2,N10,O10)) -> What test should be used? Answer with the code given in the description. | M21: t-érték | N21: t-Wert | O21: t-value
B22: =IF(T!$D$2=T!$M$2,M11,IF(T!$D$2=T!$N$2,N11,O11)) -> Find the test statistic calculated from the sample. | M22: =IF(T!$D$2=T!$M$2,M21,IF(T!$D$2=T!$N$2,N21,O21)) -> t-value
B23: =IF(T!$D$2=T!$M$2,M12,IF(T!$D$2=T!$N$2,N12,O12)) -> Give the number of degrees of freedom used during the generation of the H_0 distribution.
B24: =IF(T!$D$2=T!$M$2,M13,IF(T!$D$2=T!$N$2,N13,O13)) -> Give the two-tailed sample p-value.
B25: =IF(T!$D$2=T!$M$2,M14,IF(T!$D$2=T!$N$2,N14,O14)) -> Should the null hypothesis be rejected? (yes=1, no=0)
B26: =IF(T!$D$2=T!$M$2,M15,IF(T!$D$2=T!$N$2,N15,O15)) -> Is there a significant side effect? (yes=1, no=0)
B27: =IF(T!$D$2=T!$M$2,M16,IF(T!$D$2=T!$N$2,N16,O16)) -> What is the possible decision error? (α=1, β=2)

Sheet 2m
B2: =IF(T!$D$2=T!$M$2,M2,IF(T!$D$2=T!$N$2,N2,O2)) -> During the trial of a new drug the side effects were also examined. | M2: Egy új gyógyszer kipróbálásakor vizsgálták a mellékhatásokat. | N2: Während der Prüfung eines Arzneimittels wurden die Nebenwirkungen untersucht. | O2: During the trial of a new drug the side effects were also examined.
B3: =IF(T!$D$2=T!$M$2,M3,IF(T!$D$2=T!$N$2,N3,O3)) -> It was also checked whether the drug influences the fasting blood sugar level. | M3: Azt is ellenőrizni szerették volna, hogy a gyógyszer befolyásolja-e az éhomi vércukorszintet. | N3: Wir wollten auch untersuchen, ob das Arzneimittel den Nüchternblutzuckerspiegel beeinflußt. | O3: It was also checked whether the drug influences the fasting blood sugar level.
B4: =IF(T!$D$2=T!$M$2,M4,IF(T!$D$2=T!$N$2,N4,O4)) -> We took blood sample from ten treated patients: | M4: Vérmintát vettek tíz kezelt pácienstől: | N4: Von zehn Patienten wurde Blutprobe genommen: | O4: We took blood sample from ten treated patients:
M5: páciens sorszáma: | N5: Nummer des Patienten: | O5: patient number:
B6: =IF(T!$D$2=T!$M$2,M5,IF(T!$D$2=T!$N$2,N5,O5)) -> patient number: | C6: =IF(T!$D$2=T!$M$2,M6,IF(T!$D$2=T!$N$2,N6,O6)) -> fasting blood sugar level (mM): | D6: H_0 | M6: éhomi vércukor-szint (mM): | N6: Nüchtern-blutzucker-spiegel (mM): | O6: fasting blood sugar level (mM):
B7: 1 | C7: 4.6 | D7: 5 | M7: Van-e szignifikáns eltérés a normális 5,0 mM értéktől 10%-os szignifikanciaszinten? | N7: Gibt es eine signifikante Abweichung vom 5,0 mM Normalwert beim 10% Signifikanzniveau? | O7: Is there a significant deviation from the 5.0 mM normal value at 10% level of significance?
B8: 2 | C8: 5.1 | D8: 5 | M8: Az eloszlást tekintsük normálisnak. | N8: Es ist angenommen, dass die Verteilung normal ist. | O8: Consider the distribution as normal.
B9: 3 | C9: 4.4 | D9: 5
B10: 4 | C10: 4.1 | D10: 5 | M10: Milyen próbát kell használni? Az általános leírásban szereplő kóddal válaszolj! | N10: Welcher Test muss benutzt werden? Antworte mit dem in der Beschreibung stehenden Kode. | O10: What test should be used? Answer with the code given in the description.
B11: 5 | C11: 4.7 | D11: 5 | M11: Mekkora a mintából számolt próbastatisztika? | N11: Was ist die aus der Stichbrobe errechnete Teststatistik? | O11: Find the test statistic calculated from the sample.
B12: 6 | C12: 4.2 | D12: 5 | M12: Add meg a H_0 szerinti eloszlás létrehozásakor használandó szabadsági fokok számát. | N12: Gib die bei der Erstellung der H_0 Verteilung zu benutzende Anzahl der Freihetsgrade. | O12: Give the number of degrees of freedom used during the generation of the H_0 distribution.
B13: 7 | C13: 4.1 | D13: 5 | M13: Add meg a minta kétszélű p-értékét. | N13: Gib den zweiseitigen Stichproben-p-Wert. | O13: Give the two-tailed sample p-value.
B14: 8 | C14: 5.1 | D14: 5 | M14: Elvetendő a nullhipotézist? (igen=1, nem=0) | N14: Sollte die Nullhypothese abgelehnt werden? (ja=1, nein=0) | O14: Should the null hypothesis be rejected? (yes=1, no=0)
B15: 9 | C15: 4.5 | D15: 5 | M15: Van szignifikáns mellékhatás? (igen=1, nem=0) | N15: Gibt es eine signifikante Nebenwirkung? (ja=1, nein=0) | O15: Is there a significant side effect? (yes=1, no=0)
B16: 10 | C16: 4.4 | D16: 5 | M16: Milyen döntési hiba lehetséges? (α=1, β=2) | N16: Was ist der mögliche Entscheidungsfehler? (α=1, β=2) | O16: What is the possible decision error? (α=1, β=2)
M17: kritikus t-érték: | N17: kritischer t-Wert: | O17: critical t-value:
B18: =IF(T!$D$2=T!$M$2,M7,IF(T!$D$2=T!$N$2,N7,O7)) -> Is there a significant deviation from the 5.0 mM normal value at 10% level of significance? | M18: A H_0 szerinti t-eloszlás a konfidenciaintervallummal és a minta t-értékkel (nyíl) | N18: Die t-Verteilung nach der H_0 mit dem Konfidenzinterval und dem Stichproben-t-Wert (Pfeil) | O18: The t-distribution for the H_0 with the confidence interval and the sample t-value (arrow)
B19: =IF(T!$D$2=T!$M$2,M8,IF(T!$D$2=T!$N$2,N8,O8)) -> Consider the distribution as normal. | M19: =IF(T!$D$2=T!$M$2,M18,IF(T!$D$2=T!$N$2,N18,O18)) -> The t-distribution for the H_0 _x000D_with the confidence interval and _x000D_the sample t-value (arrow)
B21: =IF(T!$D$2=T!$M$2,M10,IF(T!$D$2=T!$N$2,N10,O10)) -> What test should be used? Answer with the code given in the description. | C21: t1 | M21: t-érték | N21: t-Wert | O21: t-value
B22: =IF(T!$D$2=T!$M$2,M11,IF(T!$D$2=T!$N$2,N11,O11)) -> Find the test statistic calculated from the sample. | C22: =_xlfn.T.INV.2T(C24,C23) -> 4.1638675 | M22: =IF(T!$D$2=T!$M$2,M21,IF(T!$D$2=T!$N$2,N21,O21)) -> t-value
B23: =IF(T!$D$2=T!$M$2,M12,IF(T!$D$2=T!$N$2,N12,O12)) -> Give the number of degrees of freedom used during the generation of the H_0 distribution. | C23: 9
B24: =IF(T!$D$2=T!$M$2,M13,IF(T!$D$2=T!$N$2,N13,O13)) -> Give the two-tailed sample p-value. | C24: =_xlfn.T.TEST(C7:C16,D7:D16,2,1) -> 0.0024336857
B25: =IF(T!$D$2=T!$M$2,M14,IF(T!$D$2=T!$N$2,N14,O14)) -> Should the null hypothesis be rejected? (yes=1, no=0) | C25: 1
B26: =IF(T!$D$2=T!$M$2,M15,IF(T!$D$2=T!$N$2,N15,O15)) -> Is there a significant side effect? (yes=1, no=0) | C26: 1
B27: =IF(T!$D$2=T!$M$2,M16,IF(T!$D$2=T!$N$2,N16,O16)) -> What is the possible decision error? (α=1, β=2) | C27: 1
B29: =IF(T!$D$2=T!$M$2,M17,IF(T!$D$2=T!$N$2,N17,O17)) -> critical t-value: | C29: =_xlfn.T.INV.2T(10%,C23) -> 1.8331129
B50: t | C50: dp/dt | D50: dp/dt | E50: dp/dt
B51: -5 | C51: =_xlfn.T.DIST(B51,9,0) -> 0.00050429976
B52: -4.99 | C52: =_xlfn.T.DIST(B52,9,0) -> 0.00051177427
B53: -4.98 | C53: =_xlfn.T.DIST(B53,9,0) -> 0.00051936675
B54: -4.97 | C54: =_xlfn.T.DIST(B54,9,0) -> 0.00052707917
B55: -4.96 | C55: =_xlfn.T.DIST(B55,9,0) -> 0.0005349135
B56: -4.95 | C56: =_xlfn.T.DIST(B56,9,0) -> 0.00054287178
B57: -4.94 | C57: =_xlfn.T.DIST(B57,9,0) -> 0.00055095607
B58: -4.93 | C58: =_xlfn.T.DIST(B58,9,0) -> 0.00055916847
B59: -4.92 | C59: =_xlfn.T.DIST(B59,9,0) -> 0.00056751111
B60: -4.91 | C60: =_xlfn.T.DIST(B60,9,0) -> 0.00057598617
B61: -4.9 | C61: =_xlfn.T.DIST(B61,9,0) -> 0.00058459584
B62: -4.89 | C62: =_xlfn.T.DIST(B62,9,0) -> 0.00059334239
... B367: -1.84 | C367: =_xlfn.T.DIST(B367,9,0) -> 0.078613674
...

Sheet 3
B2: =IF(T!$D$2=T!$M$2,M2,IF(T!$D$2=T!$N$2,N2,O2)) -> The two sections in the image have the same length. | M2: Az ábrán látható két szakasz egyforma hosszúságú. | N2: Die zwei Strecken in der Abbieldung haben die gleiche Länge. | O2: The two sections in the image have the same length.
B3: =IF(T!$D$2=T!$M$2,M3,IF(T!$D$2=T!$N$2,N3,O3)) -> However, because of optical illusion, for many people they seem to have different length. | M3: Azonban optikai csalódás miatt az emberek eltérő hosszúságúnak látják őket. | N3: Aber wegen optischer Täuschung, scheinen sie für meiste Leute unterschiedlich lang sein. | O3: However, because of optical illusion, for many people they seem to have different length.
B4: =IF(T!$D$2=T!$M$2,M4,IF(T!$D$2=T!$N$2,N4,O4)) -> To examine this we asked 7 people by how many mm does the lower section seem to be longer (+) or shorter (-) than the upper. | M4: Ezt vizsgálandó megkérdeztünk 7 embert, hogy hány mm-rel látja hosszabbnak (+) vagy rövidebbnek (-) az alsó szakaszt a felsőnél. | N4: Um diese Behauptung zu untersuchen, haben wir 7 Personen gefragt, wie viel mm länger (+) oder kürzer (-) finden sie die untere Strecke als die obere. | O4: To examine this we asked 7 people by how many mm does the lower section seem to be longer (+) or shorter (-) than the upper.
M5: személy sorszáma: | N5: Nummer der Person: | O5: number of the person:
B6: =IF(T!$D$2=T!$M$2,M5,IF(T!$D$2=T!$N$2,N5,O5)) -> number of the person: | C6: =IF(T!$D$2=T!$M$2,M6,IF(T!$D$2=T!$N$2,N6,O6)) -> How much does the lower section deviate from the upper one? (mm) | M6: mennyivel tér el az alsó a felsőtől? (mm) | N6: Mit wie viel mm abweicht die untere Strecke von der obere? | O6: How much does the lower section deviate from the upper one? (mm)
B7: 1 | C7: 2 | M7: Van-e szignifikáns eltérés 3% szignifikanciaszinten? | N7: Gibt es eine signifikante Abweichung beim 3% Signifikanzniveau? | O7: Is there a significant deviation at 3% level of significance?
B8: 2 | C8: 1 | M8: Tegyük fel, hogy az eloszlás normális. | N8: Es ist angenommen, dass die Verteilung normal ist. | O8: Take the distribution as normal.
B9: 3 | C9: 2.5 | M9: Milyen hipotézisvizsgálatot alkalmazol? Az általános leírásban szereplő kóddal válaszolj! | N9: Welcher Test muss benutzt werden? Antworte mit dem in der Beschreibung stehenden Kode. | O9: What test should be used? Answer with the code given in the description.
B10: 4 | C10: 0 | M10: Mekkora a mintából számolt próbastatisztika? | N10: Was ist die aus der Stichbrobe errechnete Teststatistik? | O10: Find the test statistic calculated from the sample.
B11: 5 | C11: 1 | M11: Add meg a minta kétszélű p-értékét. | N11: Gib den zweiseitigen Stichproben-p-Wert. | O11: Give the two-tailed sample p-value.
B12: 6 | C12: 0.5 | M12: Elfogadhatjuk az alternatív hipotézist? (igen=1, nem=0) | N12: Sollte die alternative Hypothese angenommen werden? (ja=1, nein=0) | O12: Should the alternative hypothesis be accepted? (yes=1, no=0)
B13: 7 | C13: 1.5 | M13: Van szignifikáns optikai csalódás? (igen=1, nem=0) | N13: Gibt es eine signifikante optische Täuschung? (ja=1, nein=0) | O13: Is there a significant optical illusion? (yes=1, no=0)
M14: Milyen döntési hiba lehetséges? (α=1, β=2) | N14: Was ist der mögliche Entscheidungsfehler? (α=1, β=2) | O14: What is the possible decision error? (α=1, β=2)
B15: =IF(T!$D$2=T!$M$2,M7,IF(T!$D$2=T!$N$2,N7,O7)) -> Is there a significant deviation at 3% level of significance? | M15: kritikus t-érték: | N15: kritischer t-Wert: | O15: critical t-value:
B16: =IF(T!$D$2=T!$M$2,M8,IF(T!$D$2=T!$N$2,N8,O8)) -> Take the distribution as normal.
B18: =IF(T!$D$2=T!$M$2,M9,IF(T!$D$2=T!$N$2,N9,O9)) -> What test should be used? Answer with the code given in the description. | M18: A H_0 szerinti t-eloszlás a konfidenciaintervallummal és a minta t-értékkel (nyíl) | N18: Die t-Verteilung nach der H_0 mit dem Konfidenzinterval und dem Stichproben-t-Wert (Pfeil) | O18: The t-distribution for the H_0 with the confidence interval and the sample t-value (arrow)
B19: =IF(T!$D$2=T!$M$2,M10,IF(T!$D$2=T!$N$2,N10,O10)) -> Find the test statistic calculated from the sample. | M19: =IF(T!$D$2=T!$M$2,M18,IF(T!$D$2=T!$N$2,N18,O18)) -> The t-distribution for the H_0 _x000D_with the confidence interval and _x000D_the sample t-value (arrow)
B20: =IF(T!$D$2=T!$M$2,M11,IF(T!$D$2=T!$N$2,N11,O11)) -> Give the two-tailed sample p-value.
B21: =IF(T!$D$2=T!$M$2,M12,IF(T!$D$2=T!$N$2,N12,O12)) -> Should the alternative hypothesis be accepted? (yes=1, no=0) | M21: t-érték | N21: t-Wert | O21: t-value
B22: =IF(T!$D$2=T!$M$2,M13,IF(T!$D$2=T!$N$2,N13,O13)) -> Is there a significant optical illusion? (yes=1, no=0) | M22: =IF(T!$D$2=T!$M$2,M21,IF(T!$D$2=T!$N$2,N21,O21)) -> t-value
B23: =IF(T!$D$2=T!$M$2,M14,IF(T!$D$2=T!$N$2,N14,O14)) -> What is the possible decision error? (α=1, β=2)

Sheet 3m
B2: =IF(T!$D$2=T!$M$2,M2,IF(T!$D$2=T!$N$2,N2,O2)) -> The two sections in the image have the same length. | M2: Az ábrán látható két szakasz egyforma hosszúságú. | N2: Die zwei Strecken in der Abbieldung haben die gleiche Länge. | O2: The two sections in the image have the same length.
B3: =IF(T!$D$2=T!$M$2,M3,IF(T!$D$2=T!$N$2,N3,O3)) -> However, because of optical illusion, for many people they seem to have different length. | M3: Azonban optikai csalódás miatt az emberek eltérő hosszúságúnak látják őket. | N3: Aber wegen optischer Täuschung, scheinen sie für meiste Leute unterschiedlich lang sein. | O3: However, because of optical illusion, for many people they seem to have different length.
B4: =IF(T!$D$2=T!$M$2,M4,IF(T!$D$2=T!$N$2,N4,O4)) -> To examine this we asked 7 people by how many mm does the lower section seem to be longer (+) or shorter (-) than the upper. | M4: Ezt vizsgálandó megkérdeztünk 7 embert, hogy hány mm-rel látja hosszabbnak (+) vagy rövidebbnek (-) az alsó szakaszt a felsőnél. | N4: Um diese Behauptung zu untersuchen, haben wir 7 Personen gefragt, wie viel mm länger (+) oder kürzer (-) finden sie die untere Strecke als die obere. | O4: To examine this we asked 7 people by how many mm does the lower section seem to be longer (+) or shorter (-) than the upper.
M5: személy sorszáma: | N5: Nummer der Person: | O5: number of the person:
B6: =IF(T!$D$2=T!$M$2,M5,IF(T!$D$2=T!$N$2,N5,O5)) -> number of the person: | C6: =IF(T!$D$2=T!$M$2,M6,IF(T!$D$2=T!$N$2,N6,O6)) -> How much does the lower section deviate from the upper one? (mm) | D6: H_0 | M6: mennyivel tér el az alsó a felsőtől? (mm) | N6: Mit wie viel mm abweicht die untere Strecke von der obere? | O6: How much does the lower section deviate from the upper one? (mm)
B7: 1 | C7: 2 | D7: 0 | M7: Van-e szignifikáns eltérés 3% szignifikanciaszinten? | N7: Gibt es eine signifikante Abweichung beim 3% Signifikanzniveau? | O7: Is there a significant deviation at 3% level of significance?
B8: 2 | C8: 1 | D8: 0 | M8: Tegyük fel, hogy az eloszlás normális. | N8: Es ist angenommen, dass die Verteilung normal ist. | O8: Take the distribution as normal.
B9: 3 | C9: 2.5 | D9: 0 | M9: Milyen hipotézisvizsgálatot alkalmazol? Az általános leírásban szereplő kóddal válaszolj! | N9: Welcher Test muss benutzt werden? Antworte mit dem in der Beschreibung stehenden Kode. | O9: What test should be used? Answer with the code given in the description.
B10: 4 | C10: 0 | D10: 0 | M10: Mekkora a mintából számolt próbastatisztika? | N10: Was ist die aus der Stichbrobe errechnete Teststatistik? | O10: Find the test statistic calculated from the sample.
B11: 5 | C11: 1 | D11: 0 | M11: Add meg a minta kétszélű p-értékét. | N11: Gib den zweiseitigen Stichproben-p-Wert. | O11: Give the two-tailed sample p-value.
B12: 6 | C12: 0.5 | D12: 0 | M12: Elfogadhatjuk az alternatív hipotézist? (igen=1, nem=0) | N12: Sollte die alternative Hypothese angenommen werden? (ja=1, nein=0) | O12: Should the alternative hypothesis be accepted? (yes=1, no=0)
B13: 7 | C13: 1.5 | D13: 0 | M13: Van szignifikáns optikai csalódás? (igen=1, nem=0) | N13: Gibt es eine signifikante optische Täuschung? (ja=1, nein=0) | O13: Is there a significant optical illusion? (yes=1, no=0)
M14: Milyen döntési hiba lehetséges? (α=1, β=2) | N14: Was ist der mögliche Entscheidungsfehler? (α=1, β=2) | O14: What is the possible decision error? (α=1, β=2)
B15: =IF(T!$D$2=T!$M$2,M7,IF(T!$D$2=T!$N$2,N7,O7)) -> Is there a significant deviation at 3% level of significance? | M15: kritikus t-érték: | N15: kritischer t-Wert: | O15: critical t-value:
B16: =IF(T!$D$2=T!$M$2,M8,IF(T!$D$2=T!$N$2,N8,O8)) -> Take the distribution as normal.
B18: =IF(T!$D$2=T!$M$2,M9,IF(T!$D$2=T!$N$2,N9,O9)) -> What test should be used? Answer with the code given in the description. | C18: t1 | M18: A H_0 szerinti t-eloszlás a konfidenciaintervallummal és a minta t-értékkel (nyíl) | N18: Die t-Verteilung nach der H_0 mit dem Konfidenzinterval und dem Stichproben-t-Wert (Pfeil) | O18: The t-distribution for the H_0 with the confidence interval and the sample t-value (arrow)
B19: =IF(T!$D$2=T!$M$2,M10,IF(T!$D$2=T!$N$2,N10,O10)) -> Find the test statistic calculated from the sample. | C19: =_xlfn.T.INV.2T(C20,6) -> 3.7395014 | M19: =IF(T!$D$2=T!$M$2,M18,IF(T!$D$2=T!$N$2,N18,O18)) -> The t-distribution for the H_0 _x000D_with the confidence interval and _x000D_the sample t-value (arrow)
B20: =IF(T!$D$2=T!$M$2,M11,IF(T!$D$2=T!$N$2,N11,O11)) -> Give the two-tailed sample p-value. | C20: =_xlfn.T.TEST(C7:C13,D7:D13,2,1) -> 0.0096281337
B21: =IF(T!$D$2=T!$M$2,M12,IF(T!$D$2=T!$N$2,N12,O12)) -> Should the alternative hypothesis be accepted? (yes=1, no=0) | C21: 1 | M21: t-érték | N21: t-Wert | O21: t-value
B22: =IF(T!$D$2=T!$M$2,M13,IF(T!$D$2=T!$N$2,N13,O13)) -> Is there a significant optical illusion? (yes=1, no=0) | C22: 1 | M22: =IF(T!$D$2=T!$M$2,M21,IF(T!$D$2=T!$N$2,N21,O21)) -> t-value
B23: =IF(T!$D$2=T!$M$2,M14,IF(T!$D$2=T!$N$2,N14,O14)) -> What is the possible decision error? (α=1, β=2) | C23: 1
B25: =IF(T!$D$2=T!$M$2,M15,IF(T!$D$2=T!$N$2,N15,O15)) -> critical t-value: | C25: =_xlfn.T.INV.2T(3%,6) -> 2.8289279
B41: t | C41: dp/dt | D41: dp/dt | E41: dp/dt
B42: -5 | C42: =_xlfn.T.DIST(B42,6,0) -> 0.001220841
B43: -4.99 | C43: =_xlfn.T.DIST(B43,6,0) -> 0.0012347113
B44: -4.98 | C44: =_xlfn.T.DIST(B44,6,0) -> 0.0012487566
B45: -4.97 | C45: =_xlfn.T.DIST(B45,6,0) -> 0.0012629791
B46: -4.96 | C46: =_xlfn.T.DIST(B46,6,0) -> 0.0012773813
B47: -4.95 | C47: =_xlfn.T.DIST(B47,6,0) -> 0.0012919658
B48: -4.94 | C48: =_xlfn.T.DIST(B48,6,0) -> 0.0013067349
B49: -4.93 | C49: =_xlfn.T.DIST(B49,6,0) -> 0.0013216913
B50: -4.92 | C50: =_xlfn.T.DIST(B50,6,0) -> 0.0013368375
B51: -4.91 | C51: =_xlfn.T.DIST(B51,6,0) -> 0.0013521762
B52: -4.9 | C52: =_xlfn.T.DIST(B52,6,0) -> 0.0013677101
B53: -4.89 | C53: =_xlfn.T.DIST(B53,6,0) -> 0.0013834417
... B258: -2.84 | C258: =_xlfn.T.DIST(B258,6,0) -> 0.019403099
B259: -2.83 | D259: =_xlfn.T.DIST(B259,6,0) -> 0.019679357
B260: -2.82 | D260: =_xlfn.T.DIST(B260,6,0) -> 0.019959691
B261: -2.81 | D261: =_xlfn.T.DIST(B261,6,0) -> 0.02024416
B262: -2.8 | D262: =_xlfn.T.DIST(B262,6,0) -> 0.020532825
...

Sheet 4
B2: =IF(T!$D$2=T!$M$2,M2,IF(T!$D$2=T!$N$2,N2,O2)) -> We examined in a group whether making ten squats affects the pulse rate. | M2: Egy csoportban megvizsgáltuk, hogy van e hatása a pulzusszámra 10 guggolásnak. | N2: Wir untersuchten in einer Gruppe, ob zehn Kniebeugen machen einen Einfluss auf die Pulsfrequenz hat. | O2: We examined in a group whether making ten squats affects the pulse rate.
B3: =IF(T!$D$2=T!$M$2,M3,IF(T!$D$2=T!$N$2,N3,O3)) -> First, all the 17 students of the group determined the pulse rate. | M3: Először a csoport mind a 17 hallgatója megszámolta a percenkénti pulzust. | N3: Zuerst, alle die 17 Studenten der Gruppe bestimmten die Pulsfrequenz. | O3: First, all the 17 students of the group determined the pulse rate.
B4: =IF(T!$D$2=T!$M$2,M4,IF(T!$D$2=T!$N$2,N4,O4)) -> Then everyone made ten squats, and determined the pulse rate again. | M4: Miután mindenki csinált 10 guggolást, ismét megszámoltuk a percenkénti pulzust. | N4: Dann machten sie zehn Kniebeugen, und bestimmten sie die Pulsfrequenz wieder. | O4: Then everyone made ten squats, and determined the pulse rate again.
M5: Hallgató sorszáma: | N5: Nummer des Students: | O5: Student No.:
B6: =IF(T!$D$2=T!$M$2,M5,IF(T!$D$2=T!$N$2,N5,O5)) -> Student No.: | C6: =IF(T!$D$2=T!$M$2,M6,IF(T!$D$2=T!$N$2,N6,O6)) -> Original pulse rate (1/min): | D6: =IF(T!$D$2=T!$M$2,M7,IF(T!$D$2=T!$N$2,N7,O7)) -> Pulse rate after 10 squats (1/min): | M6: Eredeti pulzusszám (1/min): | N6: Ursprüngliche Pulszahl (1/min): | O6: Original pulse rate (1/min):
B7: 1 | C7: 65 | D7: 78 | M7: Pulzusszám 10 guggolás után (1/min): | N7: Pulszahl nach zehn Kniebeugen (1/min): | O7: Pulse rate after 10 squats (1/min):
B8: 2 | C8: 73 | D8: 90 | M8: Van szignifikáns változás 1‰ szignifikancia szinten? | N8: Gibt es eine signifikante Änderung beim 1‰ Signifikanzniveau? | O8: Is there a significant change at 1‰ significance level?
B9: 3 | C9: 66 | D9: 88 | M9: A normalis eloszlásra végzett illeszkedésvizsgálat számolt p-értéke 0,93. | N9: Der errechnete p-Wert des Anpassungstests für die Normalverteilung ist 0,93. | O9: The calculated p-value of the test for fit for normality is 0.93.
B10: 4 | C10: 77 | D10: 79 | M10: Milyen hipotézisvizsgálatot alkalmazol? Az általános leírásban szereplő kóddal válaszolj! | N10: Welcher Test muss benutzt werden? Antworte mit dem in der Beschreibung stehenden Kode. | O10: What test should be used? Answer with the code given in the description.
B11: 5 | C11: 60 | D11: 87 | M11: Mekkora a mintából számolt próbastatisztika? | N11: Was ist die aus der Stichbrobe errechnete Teststatistik (Prüfgröße)? | O11: Find the test statistic calculated from the sample.
B12: 6 | C12: 64 | D12: 85 | M12: Add meg a minta kétszélű p-értékét. | N12: Gib den zweiseitigen Stichproben-p-Wert. | O12: Give the two-tailed sample p-value.
B13: 7 | C13: 75 | D13: 103 | M13: Elfogadhatjuk az alternatív hipotézist? (igen=1, nem=0) | N13: Sollte die alternative Hypothese angenommen werden? (ja=1, nein=0) | O13: Should the alternative hypothesis be accepted? (yes=1, no=0)
B14: 8 | C14: 81 | D14: 100 | M14: Van szignifikáns pulzusváltozás? (igen=1, nem=0) | N14: Gibt es eine signifikante Pulszahländerung? (ja=1, nein=0) | O14: Is there a significant pulse rate change? (yes=1, no=0)
B15: 9 | C15: 78 | D15: 105 | M15: Milyen döntési hiba lehetséges? (α=1, β=2) | N15: Was ist der mögliche Entscheidungsfehler? (α=1, β=2) | O15: What is the possible decision error? (α=1, β=2)
B16: 10 | C16: 75 | D16: 99 | M16: mivel az illeszkedésvizsgálat során p_minta > p_krit (átalában 5%), NINCS szignifikáns eltérés a normális eloszlástól | N16: weil der p-Wert des Anpassungtests > p_krit (gewöhnlich 5%), es gibt KEINE signifikante abweichung von der Normalverteilung. | O16: because during the test for fit p_sample > p_crit (usually 5%), there is NO significant deviation from the normal distribution.
B17: 11 | C17: 69 | D17: 85
B18: 12 | C18: 60 | D18: 81
B19: 13 | C19: 82 | D19: 97
B20: 14 | C20: 86 | D20: 102
B21: 15 | C21: 90 | D21: 110
B22: 16 | C22: 75 | D22: 89
B23: 17 | C23: 77 | D23: 83
B25: =IF(T!$D$2=T!$M$2,M8,IF(T!$D$2=T!$N$2,N8,O8)) -> Is there a significant change at 1‰ significance level?
B26: =IF(T!$D$2=T!$M$2,M9,IF(T!$D$2=T!$N$2,N9,O9)) -> The calculated p-value of the test for fit for normality is 0.93.
B28: =IF(T!$D$2=T!$M$2,M10,IF(T!$D$2=T!$N$2,N10,O10)) -> What test should be used? Answer with the code given in the description.
B29: =IF(T!$D$2=T!$M$2,M11,IF(T!$D$2=T!$N$2,N11,O11)) -> Find the test statistic calculated from the sample.
B30: =IF(T!$D$2=T!$M$2,M12,IF(T!$D$2=T!$N$2,N12,O12)) -> Give the two-tailed sample p-value.
B31: =IF(T!$D$2=T!$M$2,M13,IF(T!$D$2=T!$N$2,N13,O13)) -> Should the alternative hypothesis be accepted? (yes=1, no=0)
B32: =IF(T!$D$2=T!$M$2,M14,IF(T!$D$2=T!$N$2,N14,O14)) -> Is there a significant pulse rate change? (yes=1, no=0)
B33: =IF(T!$D$2=T!$M$2,M15,IF(T!$D$2=T!$N$2,N15,O15)) -> What is the possible decision error? (α=1, β=2)

Sheet 4m
B2: =IF(T!$D$2=T!$M$2,M2,IF(T!$D$2=T!$N$2,N2,O2)) -> We examined in a group whether making ten squats affects the pulse rate. | M2: Egy csoportban megvizsgáltuk, hogy van e hatása a pulzusszámra 10 guggolásnak. | N2: Wir untersuchten in einer Gruppe, ob zehn Kniebeugen machen einen Einfluss auf die Pulsfrequenz hat. | O2: We examined in a group whether making ten squats affects the pulse rate.
B3: =IF(T!$D$2=T!$M$2,M3,IF(T!$D$2=T!$N$2,N3,O3)) -> First, all the 17 students of the group determined the pulse rate. | M3: Először a csoport mind a 17 hallgatója megszámolta a percenkénti pulzust. | N3: Zuerst, alle die 17 Studenten der Gruppe bestimmten die Pulsfrequenz. | O3: First, all the 17 students of the group determined the pulse rate.
B4: =IF(T!$D$2=T!$M$2,M4,IF(T!$D$2=T!$N$2,N4,O4)) -> Then everyone made ten squats, and determined the pulse rate again. | M4: Miután mindenki csinált 10 guggolást, ismét megszámoltuk a percenkénti pulzust. | N4: Dann machten sie zehn Kniebeugen, und bestimmten sie die Pulsfrequenz wieder. | O4: Then everyone made ten squats, and determined the pulse rate again.
M5: Hallgató sorszáma: | N5: Nummer des Students: | O5: Student No.:
B6: =IF(T!$D$2=T!$M$2,M5,IF(T!$D$2=T!$N$2,N5,O5)) -> Student No.: | C6: =IF(T!$D$2=T!$M$2,M6,IF(T!$D$2=T!$N$2,N6,O6)) -> Original pulse rate (1/min): | D6: =IF(T!$D$2=T!$M$2,M7,IF(T!$D$2=T!$N$2,N7,O7)) -> Pulse rate after 10 squats (1/min): | M6: Eredeti pulzusszám (1/min): | N6: Ursprüngliche Pulszahl (1/min): | O6: Original pulse rate (1/min):
B7: 1 | C7: 65 | D7: 78 | M7: Pulzusszám 10 guggolás után (1/min): | N7: Pulszahl nach zehn Kniebeugen (1/min): | O7: Pulse rate after 10 squats (1/min):
B8: 2 | C8: 73 | D8: 90 | M8: Van szignifikáns változás 1‰ szignifikancia szinten? | N8: Gibt es eine signifikante Änderung beim 1‰ Signifikanzniveau? | O8: Is there a significant change at 1‰ significance level?
B9: 3 | C9: 66 | D9: 88 | M9: A normalis eloszlásra végzett illeszkedésvizsgálat számolt p-értéke 0,93. | N9: Der errechnete p-Wert des Anpassungstests für die Normalverteilung ist 0,93. | O9: The calculated p-value of the test for fit for normality is 0.93.
B10: 4 | C10: 77 | D10: 79 | M10: Milyen hipotézisvizsgálatot alkalmazol? Az általános leírásban szereplő kóddal válaszolj! | N10: Welcher Test muss benutzt werden? Antworte mit dem in der Beschreibung stehenden Kode. | O10: What test should be used? Answer with the code given in the description.
B11: 5 | C11: 60 | D11: 87 | M11: Mekkora a mintából számolt próbastatisztika? | N11: Was ist die aus der Stichbrobe errechnete Teststatistik (Prüfgröße)? | O11: Find the test statistic calculated from the sample.
B12: 6 | C12: 64 | D12: 85 | M12: Add meg a minta kétszélű p-értékét. | N12: Gib den zweiseitigen Stichproben-p-Wert. | O12: Give the two-tailed sample p-value.
B13: 7 | C13: 75 | D13: 103 | M13: Elfogadhatjuk az alternatív hipotézist? (igen=1, nem=0) | N13: Sollte die alternative Hypothese angenommen werden? (ja=1, nein=0) | O13: Should the alternative hypothesis be accepted? (yes=1, no=0)
B14: 8 | C14: 81 | D14: 100 | M14: Van szignifikáns pulzusváltozás? (igen=1, nem=0) | N14: Gibt es eine signifikante Pulszahländerung? (ja=1, nein=0) | O14: Is there a significant pulse rate change? (yes=1, no=0)
B15: 9 | C15: 78 | D15: 105 | M15: Milyen döntési hiba lehetséges? (α=1, β=2) | N15: Was ist der mögliche Entscheidungsfehler? (α=1, β=2) | O15: What is the possible decision error? (α=1, β=2)
B16: 10 | C16: 75 | D16: 99 | M16: mivel az illeszkedésvizsgálat során p_minta > p_krit (átalában 5%), NINCS szignifikáns eltérés a normális eloszlástól | N16: weil der p-Wert des Anpassungtests > p_krit (gewöhnlich 5%), es gibt KEINE signifikante abweichung von der Normalverteilung. | O16: because during the test for fit p_sample > p_crit (usually 5%), there is NO significant deviation from the normal distribution.
B17: 11 | C17: 69 | D17: 85
B18: 12 | C18: 60 | D18: 81
B19: 13 | C19: 82 | D19: 97
B20: 14 | C20: 86 | D20: 102
B21: 15 | C21: 90 | D21: 110
B22: 16 | C22: 75 | D22: 89
B23: 17 | C23: 77 | D23: 83
B25: =IF(T!$D$2=T!$M$2,M8,IF(T!$D$2=T!$N$2,N8,O8)) -> Is there a significant change at 1‰ significance level?
B26: =IF(T!$D$2=T!$M$2,M9,IF(T!$D$2=T!$N$2,N9,O9)) -> The calculated p-value of the test for fit for normality is 0.93.
B28: =IF(T!$D$2=T!$M$2,M10,IF(T!$D$2=T!$N$2,N10,O10)) -> What test should be used? Answer with the code given in the description. | C28: t1 | D28: =IF(T!$D$2=T!$M$2,M16,IF(T!$D$2=T!$N$2,N16,O16)) -> because during the test for fit p_sample > p_crit (usually 5%), there is NO significant deviation from the normal distribution.
B29: =IF(T!$D$2=T!$M$2,M11,IF(T!$D$2=T!$N$2,N11,O11)) -> Find the test statistic calculated from the sample. | C29: =_xlfn.T.INV.2T(C30,16) -> 10.592389
B30: =IF(T!$D$2=T!$M$2,M12,IF(T!$D$2=T!$N$2,N12,O12)) -> Give the two-tailed sample p-value. | C30: =_xlfn.T.TEST(C7:C23,D7:D23,2,1) -> 1.226182e-08
B31: =IF(T!$D$2=T!$M$2,M13,IF(T!$D$2=T!$N$2,N13,O13)) -> Should the alternative hypothesis be accepted? (yes=1, no=0) | C31: 1
B32: =IF(T!$D$2=T!$M$2,M14,IF(T!$D$2=T!$N$2,N14,O14)) -> Is there a significant pulse rate change? (yes=1, no=0) | C32: 1
B33: =IF(T!$D$2=T!$M$2,M15,IF(T!$D$2=T!$N$2,N15,O15)) -> What is the possible decision error? (α=1, β=2) | C33: 1

Sheet 5
B2: =IF(T!$D$2=T!$M$2,M2,IF(T!$D$2=T!$N$2,N2,O2)) -> We are examining the effect of a new hypertension medicine on 5 persons. | M2: Egy új vérnyomáscsökkentő hatását vizsgáljuk 5 emberen. | N2: Wir Prüfen den Effekt eines blutdrucksenkenden Arzneistoffes auf 5 Personen. | O2: We are examining the effect of a new hypertension medicine on 5 persons.
B3: =IF(T!$D$2=T!$M$2,M3,IF(T!$D$2=T!$N$2,N3,O3)) -> We measured the systolic blood pressure before and after administering the drug. | M3: Megmértük a gyógyszer szedése előtti és utáni szisztolés vérnyomást. | N3: Wir maßen den systolischen Blutdruck vor und nach der Einnahme des Arneistoffes. | O3: We measured the systolic blood pressure before and after administering the drug.
M4: Pácins sorszáma | N4: Zahl des Patienten: | O4: Patient No.
B5: =IF(T!$D$2=T!$M$2,M4,IF(T!$D$2=T!$N$2,N4,O4)) -> Patient No. | C5: =IF(T!$D$2=T!$M$2,M5,IF(T!$D$2=T!$N$2,N5,O5)) -> Systolic blood pressure before treatment (mmHg) | D5: =IF(T!$D$2=T!$M$2,M6,IF(T!$D$2=T!$N$2,N6,O6)) -> Systolic blood pressure after treatment (mmHg) | M5: Szisztolés vérnyomás a kezelés előtt (mmHg) | N5: Systolischer Blutdruck vor der Behandlung (mmHg) | O5: Systolic blood pressure before treatment (mmHg)
B6: 1 | C6: 191 | D6: 163 | M6: Szisztolés vérnyomás a kezelés után (mmHg) | N6: Systolischer Blutdruck nach der Behandlung (mmHg) | O6: Systolic blood pressure after treatment (mmHg)
B7: 2 | C7: 175 | D7: 172 | M7: Van szignifikáns eltérés 25‰-es szignifikanciaszinten? | N7: Gibt es eine signifikante Abweichung bei einem 25‰ Signifikanzniveau? | O7: Is there a significant deviation at 25‰ significance level?
B8: 3 | C8: 170 | D8: 173 | M8: A normalis eloszlásra végzett illeszkedésvizsgálat eredményeként kapott p-érték: 0,86. | N8: Der p-Wert, den wir als Ergebnis eines Anpassungtests für Normalität bekamen, ist 0,86. | O8: The p-value we got as a result of a test for fit for normality was 0.86.
B9: 4 | C9: 189 | D9: 184 | M9: Milyen hipotézisvizsgálatot alkalmazol? Az általános leírásban szereplő kóddal válaszolj! | N9: Welcher Test muss benutzt werden? Antworte mit dem in der "Intro" stehenden Kode. | O9: What test should be used? Answer with the code given in the "Intro".
B10: 5 | C10: 183 | D10: 188 | M10: Mekkora a mintából számolt próbastatisztika? | N10: Was ist die aus der Stichprobe errechnete Teststatistik (Prüfgröße)? | O10: Find the test statistic calculated from the sample.
M11: Add meg a minta kétszélű p-értékét. | N11: Gib den zweiseitigen p-Wert der Stichprobe. | O11: Give the two-tailed p-value of the sample.
B12: =IF(T!$D$2=T!$M$2,M7,IF(T!$D$2=T!$N$2,N7,O7)) -> Is there a significant deviation at 25‰ significance level? | M12: Elvetjük az alternatív hipotézist? (igen=1, nem=0) | N12: Sollte die Alternativhypothese abgelehnt werden? (ja=1, nein=0) | O12: Should the alternative hypothesis be rejected? (yes=1, no=0)
B13: =IF(T!$D$2=T!$M$2,M8,IF(T!$D$2=T!$N$2,N8,O8)) -> The p-value we got as a result of a test for fit for normality was 0.86. | M13: Van szignifikáns hatás? (igen=1, nem=0) | N13: Gibt es eine signifikante Wirkung? (ja=1, nein=0) | O13: Is there a significant effect? (yes=1, no=0)
