Workbook
Name data: #REF!
Name nyelv: T!$M$2:$O$2
Name solutiondata: '[1]2m'!$C$3:$C$202

Sheet T
B2: Válassz a legördülő listából egy nyelvet! Wahl eine Sprache aus der herunterrollenden Liste! Choose a language from the drop-down list. | D2: English | M2: magyar | N2: deutsch | O2: English
C3: =IF($D$2=$M$2,M3,IF($D$2=$N$2,N3,O3)) -> Created by: Gergely AGÓCS PhD (Please send comments and reflections (e.g. on possible errors) to: gergelyagocs at gmail com) | M3: Készítette: dr. Agócs Gergely (Észrevételeket (pl. esetleges hibákról, hiányosságokról) kérlek ide írd meg: gergelyagocs kukac gmail com) | N3: Erarbeitet von: Gergely AGÓCS PhD (Bemerkungen (z.B. zu eventuellen Fehler) bitte an: gergelyagocs Klammeraffe gmail com) | O3: Created by: Gergely AGÓCS PhD (Please send comments and reflections (e.g. on possible errors) to: gergelyagocs at gmail com)
M4: Tartalomjegyzék | N4: Inhalt | O4: Contents
M5: Excelfüggvények használata | N5: Anwendung der Excelfunktionen | O5: How to use Excel functions
M6: Függvények ábrázolása, függvény illesztése mérési adatokra, korreláció és regresszió | N6: Darstellung von Funktionen, Anpassung von Funktionen an gemessenen Daten, Korrelation und Regression | O6: Displaying functions, fitting a function to measured data, correlation and regression
M7: Gyakoriságok meghatározása és ábrázolása | N7: Bestimmung und Darstellung von Häufigkeiten | O7: Determining and displaying frequencies
M8: Minta paramétereinek meghatározása teljes mintából | N8: Bestimmung von Stichprobenparametern aus gesamter Stichprobe. | O8: Determining sample parameters from whole sample
M9: Minta paramétereinek meghatározása gyakorisági eloszlásból | N9: Bestimmung von Stichprobenparametern aus Häufigkeitsverteilung | O9: Determining sample parameters from frequency distribution
M10: Valószínűségi eloszlás paramétereinek meghatározása | N10: Bestimmung der Parameter von Wahrscheinlichkeitsverteilungen | O10: Determining the parameters of probability distributions
M11: Elméleti eloszlás paramétereinek és intervallumainak becslése teljes mintából | N11: Schätzung der Parameter und Intervallen von Wahrscheinlichkeitsverteilungen aus gesamter Stichprobe | O11: Estimating the parameters and intervals of theoretical distributions from whole sample
M12: Elméleti eloszlás paramétereinek és intervallumainak becslése minta gyakorisági eloszlása alapján | N12: Schätzung der Parameter und Intervallen von theoretische Verteilungen aus der Häufigkeitsverteilung einer Stichprobe | O12: Estimating the parameters and intervals of theoretical distributions from frequency distribution of a sample
M13: Valószínűségszámítás diszkrét eloszlású valószínűségi változókkal | N13: Wahrscheinlichkeitsrechnung mit diskreten Zufallsvariablen | O13: Probability calculus with discrete random variables
M14: Student-féle t-próba (1 és 2 mintás, korrelációs) | N14: Student t-Test (1 und 2 Stichproben, Korrelation) | O14: Student's t-test (for 1 and 2 samples, correlation)
M15: Varianciaanalízis (ANOVA) | N15: Varianzanalyse (ANOVA) | O15: Analysis of variance (ANOVA)
... M19: Diagnosztikai módszerek értékelése | N19: Erwertund von diagnostische Mathoden | O19: Evaluation of diagnostic methods

Sheet 3
B2: =IF(T!$D$2=T!$M$2,M2,IF(T!$D$2=T!$N$2,N2,O2)) -> Give the asked values in the green cells. | M2: Írd be a kért értékeket a zöld cellákba! | N2: Gib die gefragten Werte in die grünen Zellen an! | O2: Give the asked values in the green cells.
B4: =IF(T!$D$2=T!$M$2,M4,IF(T!$D$2=T!$N$2,N4,O4)) -> The following graph shows the distribution of body mass index values of boys of different ages using percentiles. | M4: Az alábbi grafikon a különböző életkorú fiúgyermekek testtömegindexének eloszlását mutatja percentilisértékek segítségével. | N4: Die folgende Grafik zeigt die Verteilung der Body-Mass-Index-Werte von Jungen unterschiedlichen Alters mit Perzentile. | O4: The following graph shows the distribution of body mass index values of boys of different ages using percentiles.
B5: =IF(T!$D$2=T!$M$2,M5,IF(T!$D$2=T!$N$2,N5,O5)) -> The Body Mass Index (BMI) is the ratio of the body mass (in kg) and the square of the body height (in m). | M5: A testtömegindex (body mass index; BMI) a testtömeg (kg-ban) és a testmagasság (m-ben) négyzetének hányadosa. | N5: Der Körpermassenindex (Body Mass Index; BMI) ist das Verhältnis der Körpermasse (in kg) und des Quadrats der Körpergröße (in m). | O5: The Body Mass Index (BMI) is the ratio of the body mass (in kg) and the square of the body height (in m).
M7: 1.) A 8 éves fiúk hány százalékának kisebb a testtömegindexe 20 kg/m^2-nél? | N7: 1) Wie viel Prozent der 8-jährigen Jungen hat einen BMI weniger als 20 kg/m^2? | O7: 1) What percentage of 8-year-old boys has a BMI less than 20 kg/m^2?
M8: 2.) A 8 éves fiúk hány százalékának nagyobb a testtömegindexe 17 kg/m^2-nél? | N8: 2) Wie viel Prozent der 8-jährigen Jungen hat einen BMI größer als 17 kg/m^2? | O8: 2) What percentage of 8-year-old boys has a BMI greater than 17 kg/m^2?
M9: 3.) A 15 éves fiúk hány százalékának esik a testtömegindexe 16,5 és 22 kg/m^2 közé? | N9: 3) Wie viel Prozent der 15-jährigen Jungen hat einen BMI zwischen 16,5 und 22 kg/m^2? | O9: 3) What percentage of 15-year-old boys has a BMI between 16.5 and 22 kg/m^2?
M10: 4.) A 11 éves fiúk hány százalékának esik a testtömegindexe 14,5 és 15 kg/m^2 közé? | N10: 4) Wie viel Prozent der 11-jährigen Jungen hat einen BMI zwischen 14,5 und 15 kg/m^2? | O10: 4) What percentage of 11-year-old boys has a BMI between 14.5 and 15 kg/m^2?
M11: 5.) A 16 és fél éves fiúk testtömegindexének hány kg/m^2 a felső kvartilise? | N11: 5) Was ist das obere Quartil des BMI-s der 16-und-halb Jahre alten Jungen in kg/m^2? | O11: 5) What is the upper quartile of the BMI of 16-and-a-half year old boys in kg/m^2?
M12: 6.) Hány kg/m^2 a 13 éves fiúk testtömegindexének interkvartilis terjedelme? | N12: 6) Was ist der Interquartilabstand (in kg/m^2) des BMI-s der 13-jährigen Jungen? | O12: 6) What is the interquartile range (in kg/m^2) of the BMI of 13-year-old boys?
M13: 7.) A 12 éves fiúk hány százalékának esik a testtömegindexe a 15–21 kg/m^2 tartományon kívül? | N13: 7) Wie viel Prozent der 12-jährigen Jungen hat einen BMI außerhalb des 15-21 kg/m^2-Bereichs? | O13: 7) What percentage of 12-year-old boys has a BMI falling out of the 15–21 kg/m^2 range?
M14: 8.) A 15 és fél éves fiúk testtömegindexének hány kg/m^2 az alsó kvartilise? | N14: 8) Was ist das untere Quartil des BMI-s der 15-und-halb Jahre alten Jungen in kg/m^2? | O14: 8) What is the lower quartile of the BMI of 15-and-a-half year old boys in kg/m^2?
M15: 9.) A 14 és fél éves fiúk testtömegindexének hány kg/m^2 a mediánja? | N15: 9) Was ist der Median des BMI-s der 14-und-halb Jahre alten Jungen in kg/m^2? | O15: 9) What is the median of the BMI of 14-and-a-half year old boys in kg/m^2?
M16: 10.) A 10-éves fiúk hány százalékának nagyobb a testtömegindexe 15,5 kg/m^2-nél? | N16: 10) Wie viel Prozent der 10-jährigen Jungen hat einen BMI größer als 15,5 kg/m^2? | O16: 10) What percentage of 10-year-old boys has a BMI greater than 15.5 kg/m^2?
M17: 11.) Hány kg/m^2 a 13 éves fiúk testtömegindexének interdecilis terjedelme? | N17: 11) Was ist der Interdezilabstand (in kg/m^2) des BMI-s der 13-jährigen Jungen? | O17: 11) What is the interdecile range (in kg/m^2) of the BMI of 13-year-old boys?
M18: 12.) A 9-éves fiúk hány százalékának nagyobb a testtömegindexe 21 kg/m^2-nél? | N18: 12) Wie viel Prozent der 9-jährigen Jungn hat einen BMI größer als 21 kg/m^2? | O18: 12) What percentage of 9-year-old boys has a BMI greater than 21 kg/m^2?
... M24: Az első kérdéshez tartozó életkor (függőlegesen, az x-tengely felé), BMI (vízszintesen, az y-tengely felé) és percentilis (görbe vonal mentén) értékek leolvasása. | N24: Ablesung des zur ersten Frage gehörenden Alters (senkrecht, zur x-Achse), BMI-s (waagerecht, zur y-Achse) und Perzentils (entlang der kurven Linie). | O24: Reading of the age (vartically, to the x-axis), BMI (horizontally, to the y-axis), and percentile (along the curved line) values for question #1.
M25: =IF(T!$D$2=T!$M$2,M24,IF(T!$D$2=T!$N$2,N24,O24)) -> Reading of the age (vartically, to the x-axis), BMI (horizontally, to the y-axis), and percentile (along the curved line) values for question #1.
B62: =IF(T!$D$2=T!$M$2,M7,IF(T!$D$2=T!$N$2,N7,O7)) -> 1) What percentage of 8-year-old boys has a BMI less than 20 kg/m^2?
C63: =IF(B63="","×",IF(B63='3m'!B63,"✓","×")) -> ×
B64: =IF(T!$D$2=T!$M$2,M8,IF(T!$D$2=T!$N$2,N8,O8)) -> 2) What percentage of 8-year-old boys has a BMI greater than 17 kg/m^2?
C65: =IF(B65="","×",IF(B65='3m'!B65,"✓","×")) -> ×
B66: =IF(T!$D$2=T!$M$2,M9,IF(T!$D$2=T!$N$2,N9,O9)) -> 3) What percentage of 15-year-old boys has a BMI between 16.5 and 22 kg/m^2?
C67: =IF(B67="","×",IF(B67='3m'!B67,"✓","×")) -> ×
B68: =IF(T!$D$2=T!$M$2,M10,IF(T!$D$2=T!$N$2,N10,O10)) -> 4) What percentage of 11-year-old boys has a BMI between 14.5 and 15 kg/m^2?
C69: =IF(B69="","×",IF(B69='3m'!B69,"✓","×")) -> ×
B70: =IF(T!$D$2=T!$M$2,M11,IF(T!$D$2=T!$N$2,N11,O11)) -> 5) What is the upper quartile of the BMI of 16-and-a-half year old boys in kg/m^2?
C71: =IF(B71="","×",IF(B71='3m'!B71,"✓","×")) -> ×
B72: =IF(T!$D$2=T!$M$2,M12,IF(T!$D$2=T!$N$2,N12,O12)) -> 6) What is the interquartile range (in kg/m^2) of the BMI of 13-year-old boys?
C73: =IF(B73="","×",IF(B73='3m'!B73,"✓","×")) -> ×
B74: =IF(T!$D$2=T!$M$2,M13,IF(T!$D$2=T!$N$2,N13,O13)) -> 7) What percentage of 12-year-old boys has a BMI falling out of the 15–21 kg/m^2 range?
C75: =IF(B75="","×",IF(B75='3m'!B75,"✓","×")) -> ×
B76: =IF(T!$D$2=T!$M$2,M14,IF(T!$D$2=T!$N$2,N14,O14)) -> 8) What is the lower quartile of the BMI of 15-and-a-half year old boys in kg/m^2?
C77: =IF(B77="","×",IF(B77='3m'!B77,"✓","×")) -> ×
B78: =IF(T!$D$2=T!$M$2,M15,IF(T!$D$2=T!$N$2,N15,O15)) -> 9) What is the median of the BMI of 14-and-a-half year old boys in kg/m^2?
C79: =IF(B79="","×",IF(B79='3m'!B79,"✓","×")) -> ×
B80: =IF(T!$D$2=T!$M$2,M16,IF(T!$D$2=T!$N$2,N16,O16)) -> 10) What percentage of 10-year-old boys has a BMI greater than 15.5 kg/m^2?
C81: =IF(B81="","×",IF(B81='3m'!B81,"✓","×")) -> ×
B82: =IF(T!$D$2=T!$M$2,M17,IF(T!$D$2=T!$N$2,N17,O17)) -> 11) What is the interdecile range (in kg/m^2) of the BMI of 13-year-old boys?
C83: =IF(B83="","×",IF(B83='3m'!B83,"✓","×")) -> ×
B84: =IF(T!$D$2=T!$M$2,M18,IF(T!$D$2=T!$N$2,N18,O18)) -> 12) What percentage of 9-year-old boys has a BMI greater than 21 kg/m^2?
...

Sheet 3m
B2: =IF(T!$D$2=T!$M$2,M2,IF(T!$D$2=T!$N$2,N2,O2)) -> Give the asked values in the green cells. | M2: Írd be a kért értékeket a zöld cellákba! | N2: Gib die gefragten Werte in die grünen Zellen an! | O2: Give the asked values in the green cells.
B4: =IF(T!$D$2=T!$M$2,M4,IF(T!$D$2=T!$N$2,N4,O4)) -> The following graph shows the distribution of body mass index values of boys of different ages using percentiles. | M4: Az alábbi grafikon a különböző életkorú fiúgyermekek testtömegindexének eloszlását mutatja percentilisértékek segítségével. | N4: Die folgende Grafik zeigt die Verteilung der Body-Mass-Index-Werte von Jungen unterschiedlichen Alters mit Perzentile. | O4: The following graph shows the distribution of body mass index values of boys of different ages using percentiles.
B5: =IF(T!$D$2=T!$M$2,M5,IF(T!$D$2=T!$N$2,N5,O5)) -> The Body Mass Index (BMI) is the ratio of the body mass (in kg) and the square of the body height (in m). | M5: A testtömegindex (body mass index; BMI) a testtömeg (kg-ban) és a testmagasság (m-ben) négyzetének hányadosa. | N5: Der Körpermassenindex (Body Mass Index; BMI) ist das Verhältnis der Körpermasse (in kg) und des Quadrats der Körpergröße (in m). | O5: The Body Mass Index (BMI) is the ratio of the body mass (in kg) and the square of the body height (in m).
M7: 1.) A 8 éves fiúk hány százalékának kisebb a testtömegindexe 20 kg/m^2-nél? | N7: 1) Wie viel Prozent der 8-jährigen Jungen hat einen BMI weniger als 20 kg/m^2? | O7: 1) What percentage of 8-year-old boys has a BMI less than 20 kg/m^2?
M8: 2.) A 8 éves fiúk hány százalékának nagyobb a testtömegindexe 17 kg/m^2-nél? | N8: 2) Wie viel Prozent der 8-jährigen Jungen hat einen BMI größer als 17 kg/m^2? | O8: 2) What percentage of 8-year-old boys has a BMI greater than 17 kg/m^2?
M9: 3.) A 15 éves fiúk hány százalékának esik a testtömegindexe 16,5 és 22 kg/m^2 közé? | N9: 3) Wie viel Prozent der 15-jährigen Jungen hat einen BMI zwischen 16,5 und 22 kg/m^2? | O9: 3) What percentage of 15-year-old boys has a BMI between 16.5 and 22 kg/m^2?
M10: 4.) A 11 éves fiúk hány százalékának esik a testtömegindexe 14,5 és 15 kg/m^2 közé? | N10: 4) Wie viel Prozent der 11-jährigen Jungen hat einen BMI zwischen 14,5 und 15 kg/m^2? | O10: 4) What percentage of 11-year-old boys has a BMI between 14.5 and 15 kg/m^2?
M11: 5.) A 16 és fél éves fiúk testtömegindexének hány kg/m^2 a felső kvartilise? | N11: 5) Was ist das obere Quartil des BMI-s der 16-und-halb Jahre alten Jungen in kg/m^2? | O11: 5) What is the upper quartile of the BMI of 16-and-a-half year old boys in kg/m^2?
M12: 6.) Hány kg/m^2 a 13 éves fiúk testtömegindexének interkvartilis terjedelme? | N12: 6) Was ist der Interquartilabstand (in kg/m^2) des BMI-s der 13-jährigen Jungen? | O12: 6) What is the interquartile range (in kg/m^2) of the BMI of 13-year-old boys?
M13: 7.) A 12 éves fiúk hány százalékának esik a testtömegindexe a 15–21 kg/m^2 tartományon kívül? | N13: 7) Wie viel Prozent der 12-jährigen Jungen hat einen BMI außerhalb des 15-21 kg/m^2-Bereichs? | O13: 7) What percentage of 12-year-old boys has a BMI falling out of the 15–21 kg/m^2 range?
M14: 8.) A 15 és fél éves fiúk testtömegindexének hány kg/m^2 az alsó kvartilise? | N14: 8) Was ist das untere Quartil des BMI-s der 15-und-halb Jahre alten Jungen in kg/m^2? | O14: 8) What is the lower quartile of the BMI of 15-and-a-half year old boys in kg/m^2?
M15: 9.) A 14 és fél éves fiúk testtömegindexének hány kg/m^2 a mediánja? | N15: 9) Was ist der Median des BMI-s der 14-und-halb Jahre alten Jungen in kg/m^2? | O15: 9) What is the median of the BMI of 14-and-a-half year old boys in kg/m^2?
M16: 10.) A 10-éves fiúk hány százalékának nagyobb a testtömegindexe 15,5 kg/m^2-nél? | N16: 10) Wie viel Prozent der 10-jährigen Jungen hat einen BMI größer als 15,5 kg/m^2? | O16: 10) What percentage of 10-year-old boys has a BMI greater than 15.5 kg/m^2?
M17: 11.) Hány kg/m^2 a 13 éves fiúk testtömegindexének interdecilis terjedelme? | N17: 11) Was ist der Interdezilabstand (in kg/m^2) des BMI-s der 13-jährigen Jungen? | O17: 11) What is the interdecile range (in kg/m^2) of the BMI of 13-year-old boys?
M18: 12.) A 9-éves fiúk hány százalékának nagyobb a testtömegindexe 21 kg/m^2-nél? | N18: 12) Wie viel Prozent der 9-jährigen Jungn hat einen BMI größer als 21 kg/m^2? | O18: 12) What percentage of 9-year-old boys has a BMI greater than 21 kg/m^2?
... M24: Az első kérdéshez tartozó életkor (függőlegesen, az x-tengely felé), BMI (vízszintesen, az y-tengely felé) és percentilis (görbe vonal mentén) értékek leolvasása. | N24: Ablesung des zur ersten Frage gehörenden Alters (senkrecht, zur x-Achse), BMI-s (waagerecht, zur y-Achse) und Perzentils (entlang der kurven Linie). | O24: Reading of the age (vartically, to the x-axis), BMI (horizontally, to the y-axis), and percentile (along the curved line) values for question #1.
M25: =IF(T!$D$2=T!$M$2,M24,IF(T!$D$2=T!$N$2,N24,O24)) -> Reading of the age (vartically, to the x-axis), BMI (horizontally, to the y-axis), and percentile (along the curved line) values for question #1.
B62: =IF(T!$D$2=T!$M$2,M7,IF(T!$D$2=T!$N$2,N7,O7)) -> 1) What percentage of 8-year-old boys has a BMI less than 20 kg/m^2?
B63: 0.95
B64: =IF(T!$D$2=T!$M$2,M8,IF(T!$D$2=T!$N$2,N8,O8)) -> 2) What percentage of 8-year-old boys has a BMI greater than 17 kg/m^2?
B65: 0.25
B66: =IF(T!$D$2=T!$M$2,M9,IF(T!$D$2=T!$N$2,N9,O9)) -> 3) What percentage of 15-year-old boys has a BMI between 16.5 and 22 kg/m^2?
B67: =75%-5% -> 0.7
B68: =IF(T!$D$2=T!$M$2,M10,IF(T!$D$2=T!$N$2,N10,O10)) -> 4) What percentage of 11-year-old boys has a BMI between 14.5 and 15 kg/m^2?
B69: =10%-5% -> 0.05
B70: =IF(T!$D$2=T!$M$2,M11,IF(T!$D$2=T!$N$2,N11,O11)) -> 5) What is the upper quartile of the BMI of 16-and-a-half year old boys in kg/m^2?
B71: 23
B72: =IF(T!$D$2=T!$M$2,M12,IF(T!$D$2=T!$N$2,N12,O12)) -> 6) What is the interquartile range (in kg/m^2) of the BMI of 13-year-old boys?
B73: =20.5-17 -> 3.5
B74: =IF(T!$D$2=T!$M$2,M13,IF(T!$D$2=T!$N$2,N13,O13)) -> 7) What percentage of 12-year-old boys has a BMI falling out of the 15–21 kg/m^2 range?
B75: =100%-(85%-5%) -> 0.2
B76: =IF(T!$D$2=T!$M$2,M14,IF(T!$D$2=T!$N$2,N14,O14)) -> 8) What is the lower quartile of the BMI of 15-and-a-half year old boys in kg/m^2?
B77: 18.5
B78: =IF(T!$D$2=T!$M$2,M15,IF(T!$D$2=T!$N$2,N15,O15)) -> 9) What is the median of the BMI of 14-and-a-half year old boys in kg/m^2?
B79: 19.5
B80: =IF(T!$D$2=T!$M$2,M16,IF(T!$D$2=T!$N$2,N16,O16)) -> 10) What percentage of 10-year-old boys has a BMI greater than 15.5 kg/m^2?
B81: =100%-25% -> 0.75
B82: =IF(T!$D$2=T!$M$2,M17,IF(T!$D$2=T!$N$2,N17,O17)) -> 11) What is the interdecile range (in kg/m^2) of the BMI of 13-year-old boys?
B83: =23-16 -> 7
B84: =IF(T!$D$2=T!$M$2,M18,IF(T!$D$2=T!$N$2,N18,O18)) -> 12) What percentage of 9-year-old boys has a BMI greater than 21 kg/m^2?
...
