Workbook

Sheet feladatok
B2: Írd be az értékeket a zöld cellákba!
B4: Az előző évi influenzajárvány idején, 16125-en keresték fel egy város orvosi rendelőjét. Ezek közül, 5160 esetben találták indokoltnak védőoltás beadását. Tegyük fel, hogy idén várhatóan hasonló arányban lesz indokolt az oltás beadása.
B6: Mekkora a valószínűsége, hogy egy betérő betegnek védőoltásra lesz szüksége? | D6: =IF(C6="","×",IF(C6=megoldások!C6,"✓","×")) -> ×
B8: A mai nap 25 beteget várunk a rendelőbe vizsgálatra.
B10: Várhatóan hány betegnek lesz szüksége védőoltásra? | D10: =IF(C10="","×",IF(C10=megoldások!C10,"✓","×")) -> ×
B11: Mekkora a valószínűsége, hogy a megvizsgáltak közül pontosan 7 ember esetén lesz indokolt az oltás adása? | D11: =IF(C11="","×",IF(C11=megoldások!C11,"✓","×")) -> ×
B12: Mi a valószínűsége annak, hogy a hetedikként érkező embernek szüksége lesz oltásra? | D12: =IF(C12="","×",IF(C12=megoldások!C12,"✓","×")) -> ×
B13: Mi a valószínűsége, hogy a hetedikként érkező ember lesz az első, amelyiknek oltásra van szüksége? | D13: =IF(C13="","×",IF(C13=megoldások!C13,"✓","×")) -> ×
B15: Összesen 6 oltás van készleten a rendelőben az adott napra.
B16: Mi a valószínősége, hogy ez a mennyiség nem lesz elegendő? | D16: =IF(C16="","×",IF(C16=megoldások!C16,"✓","×")) -> ×
B17: Mi a valószínűsége annak, hogy egyetlen betegnek sem lesz szüksége védőoltásra? | D17: =IF(C17="","×",IF(C17=megoldások!C17,"✓","×")) -> ×
B18: Mi a valószínűsége annak, hogy mind a 25 betegnek kell a védőoltás? | D18: =IF(C18="","×",IF(C18=megoldások!C18,"✓","×")) -> ×
B23: Tekintsünk a diasztolés vérnyomást egy normális eloszlású valószínűségi változónak, melynek várható értéke 81 Hgmm, szórása pedig 11 Hgmm.
B25: Mekkora valószínűséggel lesz egy véletlenül kiválasztott ember diasztolés vérnyomása …
B26: … kisebb vagy egyenlő a várható értéknél? | D26: =IF(C26="","×",IF(C26=megoldások!C26,"✓","×")) -> ×
B27: … kisebb vagy egyenlő mint 52 Hgmm? | D27: =IF(C27="","×",IF(C27=megoldások!C27,"✓","×")) -> ×
B28: … nagyobb, mint 100 Hgmm? | D28: =IF(C28="","×",IF(C28=megoldások!C28,"✓","×")) -> ×
B29: … 70 és 92 Hgmm között? | D29: =IF(C29="","×",IF(C29=megoldások!C29,"✓","×")) -> ×
B30: … 81 cm és 91 Hgmm között? | D30: =IF(C30="","×",IF(C30=megoldások!C30,"✓","×")) -> ×
B31: … nagyobb mint 55 Hgmm? | D31: =IF(C31="","×",IF(C31=megoldások!C31,"✓","×")) -> ×
B32: … egyenlő vagy kisebb mint 150 Hgmm? | D32: =IF(C32="","×",IF(C32=megoldások!C32,"✓","×")) -> ×

Sheet megoldások
D1: =16125 -> 16125
B2: Írd be az értékeket a zöld cellákba! | D2: =5160 -> 5160
B4: =_xlfn.CONCAT("Az előző évi influenzajárvány idején, ", D1,"-en keresték fel egy város orvosi rendelőjét. Ezek közül, ", D2," esetben találták indokoltnak védőoltás beadását. Tegyük fel, hogy idén várhatóan hasonló arányban lesz indokolt az oltás beadása.") -> Az előző évi influenzajárvány idején, 16125-en keresték fel egy város orvosi rendelőjét. Ezek közül, 5160 esetben találták indokoltnak védőoltás beadását. Tegyük fel, hogy idén várhatóan hasonló arányban lesz indokolt az oltás beadása. | D4: R commander - Eloszlások - Diszkrét eloszlások -Bionomiális eloszlás - B. e. vlószínűségei vagy B. e. széli valószínűségei
B6: Mekkora a valószínűsége, hogy egy betérő betegnek védőoltásra lesz szüksége? | C6: =D2/D1 -> 0.32 | D6: Mivel feltettük, hogy idei járvány a tavalyihoz hasonló, a tavalyi évi adataiból számolt relatív gyakorisággal becsüljük
B8: =_xlfn.CONCAT("A mai nap ",C8," beteget várunk a rendelőbe vizsgálatra.") -> A mai nap 25 beteget várunk a rendelőbe vizsgálatra. | C8: 25
B10: Várhatóan hány betegnek lesz szüksége védőoltásra? | C10: =C6*$C$8 -> 8 | D10: az előfordulási valószínűség és az aznapra várt betegek számának szorzata
B11: Mekkora a valószínűsége, hogy a megvizsgáltak közül pontosan 7 ember esetén lesz indokolt az oltás adása? | C11: 0.1596189 | D11: R-ben binomiális eloszlás: kísérletek száma 25, bekövetkezések valószínűsége 0.32. A 7 bekövetkezés valószínűsége.
B12: Mi a valószínűsége annak, hogy a hetedikként érkező embernek szüksége lesz oltásra? | C12: =C6 -> 0.32 | D12: ugyanannyi, mint bármelyik véletlenül kiválasztott betegnek
B13: Mi a valószínűsége, hogy a hetedikként érkező ember lesz az első, amelyiknek oltásra van szüksége? | C13: =(0.2214631611)/7 -> 0.031637594 | D13: R-ben binomiális eloszlás: kísérletek száma 7, bekövetkezések valószínűsége 0.32. Az 1 bekövetkezés valószínűsége osztva héttel.
B15: =_xlfn.CONCAT("Összesen ",C15," oltás van készleten a rendelőben az adott napra.") -> Összesen 6 oltás van készleten a rendelőben az adott napra. | C15: 6
B16: Mi a valószínősége, hogy ez a mennyiség nem lesz elegendő? | C16: 0.7343445 | D16: R-ben binomiális eloszlás széli valószínűségei: változó értéke 6, kísérletek száma 25, bekövetkezések valószínűsége 0.32. FELSŐ SZÉL ( P[X > 6] ).
B17: Mi a valószínűsége annak, hogy egyetlen betegnek sem lesz szüksége védőoltásra? | C17: 6.497149e-05 | D17: R-ben binomiális eloszlás: kísérletek száma 25, bekövetkezések valószínűsége 0.32. A 0 bekövetkezés valószínűsége.
B18: =_xlfn.CONCAT("Mi a valószínűsége annak, hogy mind a ",C8," betegnek kell a védőoltás?") -> Mi a valószínűsége annak, hogy mind a 25 betegnek kell a védőoltás? | C18: 4.25353e-13 | D18: R-ben binomiális eloszlás: kísérletek száma 25, bekövetkezések valószínűsége 0.32. A 25 bekövetkezés valószínűsége.
B23: Tekintsünk a diasztolés vérnyomást egy normális eloszlású valószínűségi változónak, melynek várható értéke 81 Hgmm, szórása pedig 11 Hgmm. | D23: R commander - Eloszlások - Folytonos eloszlások -Normális eloszlás - Normális eloszlás valószínűségei
B25: Mekkora valószínűséggel lesz egy véletlenül kiválasztott ember diasztolés vérnyomása …
B26: … kisebb vagy egyenlő a várható értéknél? | C26: 0.5 | D26: R-ben normális eloszlás: változók értékei 81, várh.ért.: 81, szórás: 11. ALSÓ SZÉL ( P[X ≤ 81] )
B27: … kisebb vagy egyenlő mint 52 Hgmm? | C27: 0.004189994 | D27: R-ben normális eloszlás: változók értékei 52, várh.ért.: 81, szórás: 11. ALSÓ SZÉL ( P[X ≤ 52] )
B28: … nagyobb, mint 100 Hgmm? | C28: 0.04205935 | D28: R-ben normális eloszlás: változók értékei 100, várh.ért.: 81, szórás: 11. FELSŐ SZÉL ( P[X > 100] )
B29: … 70 és 92 Hgmm között? | C29: =0.8413447-0.1586553 -> 0.6826894 | D29: 92-él kisebb egyenlő valószínűségéből kivonom a 70-nél kisebb egyenlők valószínűségét. R-ben normális eloszlás: változók értékei 92, majd 70, várh.ért.: 81, szórás: 11. ALSÓ SZÉL ( P[X ≤ 92] – P[X ≤ 70] )
B30: … 81 cm és 91 Hgmm között? | C30: =0.8183489-0.5 -> 0.3183489 | D30: 91-nél kisebb egyenlő valószínűségéből kivonom a 81-nél kisebb egyenlők valószínűségét. R-ben normális eloszlás: változók értékei 91, majd 81, várh.ért.: 81, szórás: 11. ALSÓ SZÉL ( P[X ≤ 91] – P[X ≤ 81] )
B31: … nagyobb mint 55 Hgmm? | C31: 0.9909517 | D31: R-ben normális eloszlás: változók értékei 55, várh.ért.: 81, szórás: 11. FELSŐ SZÉL ( P[X > 55] )
B32: … egyenlő vagy kisebb mint 150 Hgmm? | C32: 1 | D32: R-ben normális eloszlás: változók értékei 150, várh.ért.: 81, szórás: 11. ALSÓ SZÉL ( P[X ≤ 150] )
