Workbook

Sheet a
A1: egészs. | D1: határérték | N1: pr | O1: =A13 -> 0.5
A2: =A3*0.1 -> 4 | C2: =D2*0.1 -> 5.2 | D2: 52 | N2: de | O2: 1 | P2: 0.9 | Q2: 0.8 | R2: 0.7 | S2: 0.6 | T2: 0.5
A3: 40 | N3: 1 | O3: =(O$2-$N3*(1-$O$1))/$O$1 -> 1 | P3: =(P$2-$N3*(1-$O$1))/$O$1 -> 0.8 | Q3: =(Q$2-$N3*(1-$O$1))/$O$1 -> 0.6 | R3: =(R$2-$N3*(1-$O$1))/$O$1 -> 0.4 | S3: =(S$2-$N3*(1-$O$1))/$O$1 -> 0.2 | T3: =(T$2-$N3*(1-$O$1))/$O$1 -> 0
A4: =A5*0.1 -> 0.8 | N4: 0.9 | O4: =(O$2-$N4*(1-$O$1))/$O$1 -> 1.1 | P4: =(P$2-$N4*(1-$O$1))/$O$1 -> 0.9 | Q4: =(Q$2-$N4*(1-$O$1))/$O$1 -> 0.7 | R4: =(R$2-$N4*(1-$O$1))/$O$1 -> 0.5 | S4: =(S$2-$N4*(1-$O$1))/$O$1 -> 0.3 | T4: =(T$2-$N4*(1-$O$1))/$O$1 -> 0.1
A5: 8 | N5: 0.8 | O5: =(O$2-$N5*(1-$O$1))/$O$1 -> 1.2 | P5: =(P$2-$N5*(1-$O$1))/$O$1 -> 1 | Q5: =(Q$2-$N5*(1-$O$1))/$O$1 -> 0.8 | R5: =(R$2-$N5*(1-$O$1))/$O$1 -> 0.6 | S5: =(S$2-$N5*(1-$O$1))/$O$1 -> 0.4 | T5: =(T$2-$N5*(1-$O$1))/$O$1 -> 0.2
A6: beteg | N6: 0.7 | O6: =(O$2-$N6*(1-$O$1))/$O$1 -> 1.3 | P6: =(P$2-$N6*(1-$O$1))/$O$1 -> 1.1 | Q6: =(Q$2-$N6*(1-$O$1))/$O$1 -> 0.9 | R6: =(R$2-$N6*(1-$O$1))/$O$1 -> 0.7 | S6: =(S$2-$N6*(1-$O$1))/$O$1 -> 0.5 | T6: =(T$2-$N6*(1-$O$1))/$O$1 -> 0.3
A7: =A8*0.1 -> 6.3 | D7: korr. poz. | N7: 0.6 | O7: =(O$2-$N7*(1-$O$1))/$O$1 -> 1.4 | P7: =(P$2-$N7*(1-$O$1))/$O$1 -> 1.2 | Q7: =(Q$2-$N7*(1-$O$1))/$O$1 -> 1 | R7: =(R$2-$N7*(1-$O$1))/$O$1 -> 0.8 | S7: =(S$2-$N7*(1-$O$1))/$O$1 -> 0.6 | T7: =(T$2-$N7*(1-$O$1))/$O$1 -> 0.4
A8: 63 | D8: =b!R5 -> 0.93268461 | N8: 0.5 | O8: =(O$2-$N8*(1-$O$1))/$O$1 -> 1.5 | P8: =(P$2-$N8*(1-$O$1))/$O$1 -> 1.3 | Q8: =(Q$2-$N8*(1-$O$1))/$O$1 -> 1.1 | R8: =(R$2-$N8*(1-$O$1))/$O$1 -> 0.9 | S8: =(S$2-$N8*(1-$O$1))/$O$1 -> 0.7 | T8: =(T$2-$N8*(1-$O$1))/$O$1 -> 0.5
A9: =A10*0.1 -> 0.8 | D9: korr. neg. | N9: 0.4 | O9: =(O$2-$N9*(1-$O$1))/$O$1 -> 1.6 | P9: =(P$2-$N9*(1-$O$1))/$O$1 -> 1.4 | Q9: =(Q$2-$N9*(1-$O$1))/$O$1 -> 1.2 | R9: =(R$2-$N9*(1-$O$1))/$O$1 -> 1 | S9: =(S$2-$N9*(1-$O$1))/$O$1 -> 0.8 | T9: =(T$2-$N9*(1-$O$1))/$O$1 -> 0.6
A10: 8 | D10: =b!S5 -> 0.9161018 | N10: 0.3 | O10: =(O$2-$N10*(1-$O$1))/$O$1 -> 1.7 | P10: =(P$2-$N10*(1-$O$1))/$O$1 -> 1.5 | Q10: =(Q$2-$N10*(1-$O$1))/$O$1 -> 1.3 | R10: =(R$2-$N10*(1-$O$1))/$O$1 -> 1.1 | S10: =(S$2-$N10*(1-$O$1))/$O$1 -> 0.9 | T10: =(T$2-$N10*(1-$O$1))/$O$1 -> 0.7
N11: 0.2 | O11: =(O$2-$N11*(1-$O$1))/$O$1 -> 1.8 | P11: =(P$2-$N11*(1-$O$1))/$O$1 -> 1.6 | Q11: =(Q$2-$N11*(1-$O$1))/$O$1 -> 1.4 | R11: =(R$2-$N11*(1-$O$1))/$O$1 -> 1.2 | S11: =(S$2-$N11*(1-$O$1))/$O$1 -> 1 | T11: =(T$2-$N11*(1-$O$1))/$O$1 -> 0.8
A12: prev. | N12: 0.1 | O12: =(O$2-$N12*(1-$O$1))/$O$1 -> 1.9 | P12: =(P$2-$N12*(1-$O$1))/$O$1 -> 1.7 | Q12: =(Q$2-$N12*(1-$O$1))/$O$1 -> 1.5 | R12: =(R$2-$N12*(1-$O$1))/$O$1 -> 1.3 | S12: =(S$2-$N12*(1-$O$1))/$O$1 -> 1.1 | T12: =(T$2-$N12*(1-$O$1))/$O$1 -> 0.9
A13: =A14/100 -> 0.5 | N13: 0 | O13: =(O$2-$N13*(1-$O$1))/$O$1 -> 2 | P13: =(P$2-$N13*(1-$O$1))/$O$1 -> 1.8 | Q13: =(Q$2-$N13*(1-$O$1))/$O$1 -> 1.6 | R13: =(R$2-$N13*(1-$O$1))/$O$1 -> 1.4 | S13: =(S$2-$N13*(1-$O$1))/$O$1 -> 1.2 | T13: =(T$2-$N13*(1-$O$1))/$O$1 -> 1
A14: 50 | N14: sp | O14: se
A16: eff.
A17: =b!Q5 -> 0.92423121
A18: se
A19: =b!P5 -> 0.91446268
A20: sp
A21: =b!O5 -> 0.93399975

Sheet b
A1: co= cut off | B1: normál ss | C1: VN ss fix co-nál | D1: ÁP ss fix co-nál | E1: VN | F1: ÁP | G1: kóros ss | H1: ÁN ss fix co-nál | I1: VP ss fix co-nál | J1: ÁN | K1: VP | L1: öszes | M1: normál kum | N1: kóros kum | O1: sp | P1: se | Q1: effektivitás | R1: korrekt pozitivitás | S1: korrekt negativitás
B2: =a!A2 -> 4 | G2: =a!A7 -> 6.3
B3: =a!A4 -> 0.8 | G3: =a!A9 -> 0.8
B4: =1-G4 -> 0.5 | G4: =a!A13 -> 0.5
A5: =a!$C$2 -> 5.2 | B5: =SUM(B6:B3006) -> 125.33141 | G5: =SUM(G6:G3006) -> -125.33141 | L5: =SUM(L6:L3006) -> 250.66283 | O5: =OFFSET(O1006,$A$5*100,0) -> 0.93399975 | P5: =OFFSET(P1006,$A$5*100,0) -> 0.91446268 | Q5: =OFFSET(Q1006,$A$5*100,0) -> 0.92423121 | R5: =OFFSET(R1006,$A$5*100,0) -> 0.93268461 | S5: =OFFSET(S1006,$A$5*100,0) -> 0.9161018 | U5: prevalencia
A6: -10 | B6: =$B$4/$B$3*EXP(-1*(A6-$B$2)^2/(2*$B$3^2)) -> 1.9703232e-67 | C6: =IF(A6<=A$5,B6,0) -> 1.9703232e-67 | D6: =IF(A6>A$5,B6,0) -> 0 | E6: =B6+E5 -> 1.9703232e-67 | F6: =$B$5-E6 -> 125.33141 | G6: =-$G$4/$G$3*EXP(-1*(A6-$G$2)^2/(2*$G$3^2)) -> -4.4590125e-91 | H6: =IF(A6<=A$5,G6,0) -> -4.4590125e-91 | I6: =IF(A6>A$5,G6,0) -> 0 | J6: =-G6+J5 -> 4.4590125e-91 | K6: =-$G$5-J6 -> 125.33141 | L6: =B6-G6 -> 1.9703232e-67 | M6: =B6+M5 -> 1.9703232e-67 | N6: =-G6+N5 -> 4.4590125e-91 | O6: =M6/$B$5 -> 1.5720905e-69 | P6: =1-(N6/-$G$5) -> 1 | Q6: =P6*$G$4+O6*(1-$G$4) -> 0.5 | R6: =K6/(K6+F6) -> 0.5 | S6: =E6/(E6+J6) -> 1 | T6: 0 | U6: =$G$4 -> 0.5
A7: -9.99 | B7: =$B$4/$B$3*EXP(-1*(A7-$B$2)^2/(2*$B$3^2)) -> 2.4519153e-67 | C7: =IF(A7<=A$5,B7,0) -> 2.4519153e-67 | D7: =IF(A7>A$5,B7,0) -> 0 | E7: =B7+E6 -> 4.4222385e-67 | F7: =$B$5-E7 -> 125.33141 | G7: =-$G$4/$G$3*EXP(-1*(A7-$G$2)^2/(2*$G$3^2)) -> -5.7519372e-91 | H7: =IF(A7<=A$5,G7,0) -> -5.7519372e-91 | I7: =IF(A7>A$5,G7,0) -> 0 | J7: =-G7+J6 -> 1.021095e-90 | K7: =-$G$5-J7 -> 125.33141 | L7: =B7-G7 -> 2.4519153e-67 | M7: =B7+M6 -> 4.4222385e-67 | N7: =-G7+N6 -> 1.021095e-90 | O7: =M7/$B$5 -> 3.5284358e-69 | P7: =1-(N7/-$G$5) -> 1 | Q7: =P7*$G$4+O7*(1-$G$4) -> 0.5 | R7: =K7/(K7+F7) -> 0.5 | S7: =E7/(E7+J7) -> 1 | T7: 10 | U7: =$G$4 -> 0.5
A8: -9.98 | B8: =$B$4/$B$3*EXP(-1*(A8-$B$2)^2/(2*$B$3^2)) -> 3.0507428e-67 | C8: =IF(A8<=A$5,B8,0) -> 3.0507428e-67 | D8: =IF(A8>A$5,B8,0) -> 0 | E8: =B8+E7 -> 7.4729813e-67 | F8: =$B$5-E8 -> 125.33141 | G8: =-$G$4/$G$3*EXP(-1*(A8-$G$2)^2/(2*$G$3^2)) -> -7.4185961e-91 | H8: =IF(A8<=A$5,G8,0) -> -7.4185961e-91 | I8: =IF(A8>A$5,G8,0) -> 0 | J8: =-G8+J7 -> 1.7629546e-90 | K8: =-$G$5-J8 -> 125.33141 | L8: =B8-G8 -> 3.0507428e-67 | M8: =B8+M7 -> 7.4729813e-67 | N8: =-G8+N7 -> 1.7629546e-90 | O8: =M8/$B$5 -> 5.9625764e-69 | P8: =1-(N8/-$G$5) -> 1 | Q8: =P8*$G$4+O8*(1-$G$4) -> 0.5 | R8: =K8/(K8+F8) -> 0.5 | S8: =E8/(E8+J8) -> 1
A9: -9.97 | B9: =$B$4/$B$3*EXP(-1*(A9-$B$2)^2/(2*$B$3^2)) -> 3.795228e-67 | C9: =IF(A9<=A$5,B9,0) -> 3.795228e-67 | D9: =IF(A9>A$5,B9,0) -> 0 | E9: =B9+E8 -> 1.1268209e-66 | F9: =$B$5-E9 -> 125.33141 | G9: =-$G$4/$G$3*EXP(-1*(A9-$G$2)^2/(2*$G$3^2)) -> -9.5666846e-91 | H9: =IF(A9<=A$5,G9,0) -> -9.5666846e-91 | I9: =IF(A9>A$5,G9,0) -> 0 | J9: =-G9+J8 -> 2.719623e-90 | K9: =-$G$5-J9 -> 125.33141 | L9: =B9-G9 -> 3.795228e-67 | M9: =B9+M8 -> 1.1268209e-66 | N9: =-G9+N8 -> 2.719623e-90 | O9: =M9/$B$5 -> 8.9907302e-69 | P9: =1-(N9/-$G$5) -> 1 | Q9: =P9*$G$4+O9*(1-$G$4) -> 0.5 | R9: =K9/(K9+F9) -> 0.5 | S9: =E9/(E9+J9) -> 1
A10: -9.96 | B10: =$B$4/$B$3*EXP(-1*(A10-$B$2)^2/(2*$B$3^2)) -> 4.7206552e-67 | C10: =IF(A10<=A$5,B10,0) -> 4.7206552e-67 | D10: =IF(A10>A$5,B10,0) -> 0 | E10: =B10+E9 -> 1.5988864e-66 | F10: =$B$5-E10 -> 125.33141 | G10: =-$G$4/$G$3*EXP(-1*(A10-$G$2)^2/(2*$G$3^2)) -> -1.2334835e-90 | H10: =IF(A10<=A$5,G10,0) -> -1.2334835e-90 | I10: =IF(A10>A$5,G10,0) -> 0 | J10: =-G10+J9 -> 3.9531065e-90 | K10: =-$G$5-J10 -> 125.33141 | L10: =B10-G10 -> 4.7206552e-67 | M10: =B10+M9 -> 1.5988864e-66 | N10: =-G10+N9 -> 3.9531065e-90 | O10: =M10/$B$5 -> 1.2757268e-68 | P10: =1-(N10/-$G$5) -> 1 | Q10: =P10*$G$4+O10*(1-$G$4) -> 0.5 | R10: =K10/(K10+F10) -> 0.5 | S10: =E10/(E10+J10) -> 1 | T10: =A5 -> 5.2 | U10: 0
A11: -9.95 | B11: =$B$4/$B$3*EXP(-1*(A11-$B$2)^2/(2*$B$3^2)) -> 5.8708209e-67 | C11: =IF(A11<=A$5,B11,0) -> 5.8708209e-67 | D11: =IF(A11>A$5,B11,0) -> 0 | E11: =B11+E10 -> 2.1859685e-66 | F11: =$B$5-E11 -> 125.33141 | G11: =-$G$4/$G$3*EXP(-1*(A11-$G$2)^2/(2*$G$3^2)) -> -1.5901472e-90 | H11: =IF(A11<=A$5,G11,0) -> -1.5901472e-90 | I11: =IF(A11>A$5,G11,0) -> 0 | J11: =-G11+J10 -> 5.5432537e-90 | K11: =-$G$5-J11 -> 125.33141 | L11: =B11-G11 -> 5.8708209e-67 | M11: =B11+M10 -> 2.1859685e-66 | N11: =-G11+N10 -> 5.5432537e-90 | O11: =M11/$B$5 -> 1.7441505e-68 | P11: =1-(N11/-$G$5) -> 1 | Q11: =P11*$G$4+O11*(1-$G$4) -> 0.5 | R11: =K11/(K11+F11) -> 0.5 | S11: =E11/(E11+J11) -> 1 | T11: =A5 -> 5.2 | U11: 1.1
A12: -9.94 | B12: =$B$4/$B$3*EXP(-1*(A12-$B$2)^2/(2*$B$3^2)) -> 7.3000785e-67 | C12: =IF(A12<=A$5,B12,0) -> 7.3000785e-67 | D12: =IF(A12>A$5,B12,0) -> 0 | E12: =B12+E11 -> 2.9159764e-66 | F12: =$B$5-E12 -> 125.33141 | G12: =-$G$4/$G$3*EXP(-1*(A12-$G$2)^2/(2*$G$3^2)) -> -2.0496207e-90 | H12: =IF(A12<=A$5,G12,0) -> -2.0496207e-90 | I12: =IF(A12>A$5,G12,0) -> 0 | J12: =-G12+J11 -> 7.5928744e-90 | K12: =-$G$5-J12 -> 125.33141 | L12: =B12-G12 -> 7.3000785e-67 | M12: =B12+M11 -> 2.9159764e-66 | N12: =-G12+N11 -> 7.5928744e-90 | O12: =M12/$B$5 -> 2.3266125e-68 | P12: =1-(N12/-$G$5) -> 1 | Q12: =P12*$G$4+O12*(1-$G$4) -> 0.5 | R12: =K12/(K12+F12) -> 0.5 | S12: =E12/(E12+J12) -> 1
A13: -9.93 | B13: =$B$4/$B$3*EXP(-1*(A13-$B$2)^2/(2*$B$3^2)) -> 9.0758721e-67 | C13: =IF(A13<=A$5,B13,0) -> 9.0758721e-67 | D13: =IF(A13>A$5,B13,0) -> 0 | E13: =B13+E12 -> 3.8235636e-66 | F13: =$B$5-E13 -> 125.33141 | G13: =-$G$4/$G$3*EXP(-1*(A13-$G$2)^2/(2*$G$3^2)) -> -2.6414463e-90 | H13: =IF(A13<=A$5,G13,0) -> -2.6414463e-90 | I13: =IF(A13>A$5,G13,0) -> 0 | J13: =-G13+J12 -> 1.0234321e-89 | K13: =-$G$5-J13 -> 125.33141 | L13: =B13-G13 -> 9.0758721e-67 | M13: =B13+M12 -> 3.8235636e-66 | N13: =-G13+N12 -> 1.0234321e-89 | O13: =M13/$B$5 -> 3.0507624e-68 | P13: =1-(N13/-$G$5) -> 1 | Q13: =P13*$G$4+O13*(1-$G$4) -> 0.5 | R13: =K13/(K13+F13) -> 0.5 | S13: =E13/(E13+J13) -> 1
A14: -9.92 | B14: =$B$4/$B$3*EXP(-1*(A14-$B$2)^2/(2*$B$3^2)) -> 1.1281877e-66 | C14: =IF(A14<=A$5,B14,0) -> 1.1281877e-66 | D14: =IF(A14>A$5,B14,0) -> 0 | E14: =B14+E13 -> 4.9517513e-66 | F14: =$B$5-E14 -> 125.33141 | G14: =-$G$4/$G$3*EXP(-1*(A14-$G$2)^2/(2*$G$3^2)) -> -3.4036291e-90 | H14: =IF(A14<=A$5,G14,0) -> -3.4036291e-90 | I14: =IF(A14>A$5,G14,0) -> 0 | J14: =-G14+J13 -> 1.363795e-89 | K14: =-$G$5-J14 -> 125.33141 | L14: =B14-G14 -> 1.1281877e-66 | M14: =B14+M13 -> 4.9517513e-66 | N14: =-G14+N13 -> 1.363795e-89 | O14: =M14/$B$5 -> 3.9509259e-68 | P14: =1-(N14/-$G$5) -> 1 | Q14: =P14*$G$4+O14*(1-$G$4) -> 0.5 | R14: =K14/(K14+F14) -> 0.5 | S14: =E14/(E14+J14) -> 1
A15: -9.91 | B15: =$B$4/$B$3*EXP(-1*(A15-$B$2)^2/(2*$B$3^2)) -> 1.4021887e-66 | C15: =IF(A15<=A$5,B15,0) -> 1.4021887e-66 | D15: =IF(A15>A$5,B15,0) -> 0 | E15: =B15+E14 -> 6.35394e-66 | F15: =$B$5-E15 -> 125.33141 | G15: =-$G$4/$G$3*EXP(-1*(A15-$G$2)^2/(2*$G$3^2)) -> -4.3850526e-90 | H15: =IF(A15<=A$5,G15,0) -> -4.3850526e-90 | I15: =IF(A15>A$5,G15,0) -> 0 | J15: =-G15+J14 -> 1.8023002e-89 | K15: =-$G$5-J15 -> 125.33141 | L15: =B15-G15 -> 1.4021887e-66 | M15: =B15+M14 -> 6.35394e-66 | N15: =-G15+N14 -> 1.8023002e-89 | O15: =M15/$B$5 -> 5.0697106e-68 | P15: =1-(N15/-$G$5) -> 1 | Q15: =P15*$G$4+O15*(1-$G$4) -> 0.5 | R15: =K15/(K15+F15) -> 0.5 | S15: =E15/(E15+J15) -> 1
A16: -9.9 | B16: =$B$4/$B$3*EXP(-1*(A16-$B$2)^2/(2*$B$3^2)) -> 1.7424637e-66 | C16: =IF(A16<=A$5,B16,0) -> 1.7424637e-66 | D16: =IF(A16>A$5,B16,0) -> 0 | E16: =B16+E15 -> 8.0964036e-66 | F16: =$B$5-E16 -> 125.33141 | G16: =-$G$4/$G$3*EXP(-1*(A16-$G$2)^2/(2*$G$3^2)) -> -5.6485831e-90 | H16: =IF(A16<=A$5,G16,0) -> -5.6485831e-90 | I16: =IF(A16>A$5,G16,0) -> 0 | J16: =-G16+J15 -> 2.3671586e-89 | K16: =-$G$5-J16 -> 125.33141 | L16: =B16-G16 -> 1.7424637e-66 | M16: =B16+M15 -> 8.0964036e-66 | N16: =-G16+N15 -> 2.3671586e-89 | O16: =M16/$B$5 -> 6.4599955e-68 | P16: =1-(N16/-$G$5) -> 1 | Q16: =P16*$G$4+O16*(1-$G$4) -> 0.5 | R16: =K16/(K16+F16) -> 0.5 | S16: =E16/(E16+J16) -> 1
A17: -9.89 | B17: =$B$4/$B$3*EXP(-1*(A17-$B$2)^2/(2*$B$3^2)) -> 2.1649762e-66 | C17: =IF(A17<=A$5,B17,0) -> 2.1649762e-66 | D17: =IF(A17>A$5,B17,0) -> 0 | E17: =B17+E16 -> 1.026138e-65 | F17: =$B$5-E17 -> 125.33141 | G17: =-$G$4/$G$3*EXP(-1*(A17-$G$2)^2/(2*$G$3^2)) -> -7.2750568e-90 | H17: =IF(A17<=A$5,G17,0) -> -7.2750568e-90 | I17: =IF(A17>A$5,G17,0) -> 0 | J17: =-G17+J16 -> 3.0946642e-89 | K17: =-$G$5-J17 -> 125.33141 | L17: =B17-G17 -> 2.1649762e-66 | M17: =B17+M16 -> 1.026138e-65 | N17: =-G17+N16 -> 3.0946642e-89 | O17: =M17/$B$5 -> 8.1873966e-68 | P17: =1-(N17/-$G$5) -> 1 | Q17: =P17*$G$4+O17*(1-$G$4) -> 0.5 | R17: =K17/(K17+F17) -> 0.5 | S17: =E17/(E17+J17) -> 1
A18: -9.88 | B18: =$B$4/$B$3*EXP(-1*(A18-$B$2)^2/(2*$B$3^2)) -> 2.6895194e-66 | C18: =IF(A18<=A$5,B18,0) -> 2.6895194e-66 | D18: =IF(A18>A$5,B18,0) -> 0 | E18: =B18+E17 -> 1.2950899e-65 | F18: =$B$5-E18 -> 125.33141 | G18: =-$G$4/$G$3*EXP(-1*(A18-$G$2)^2/(2*$G$3^2)) -> -9.3683992e-90 | H18: =IF(A18<=A$5,G18,0) -> -9.3683992e-90 | I18: =IF(A18>A$5,G18,0) -> 0 | J18: =-G18+J17 -> 4.0315041e-89 | K18: =-$G$5-J18 -> 125.33141 | L18: =B18-G18 -> 2.6895194e-66 | M18: =B18+M17 -> 1.2950899e-65 | N18: =-G18+N17 -> 4.0315041e-89 | O18: =M18/$B$5 -> 1.0333323e-67 | P18: =1-(N18/-$G$5) -> 1 | Q18: =P18*$G$4+O18*(1-$G$4) -> 0.5 | R18: =K18/(K18+F18) -> 0.5 | S18: =E18/(E18+J18) -> 1
A19: -9.87 | B19: =$B$4/$B$3*EXP(-1*(A19-$B$2)^2/(2*$B$3^2)) -> 3.3406299e-66 | C19: =IF(A19<=A$5,B19,0) -> 3.3406299e-66 | D19: =IF(A19>A$5,B19,0) -> 0 | E19: =B19+E18 -> 1.6291529e-65 | F19: =$B$5-E19 -> 125.33141 | G19: =-$G$4/$G$3*EXP(-1*(A19-$G$2)^2/(2*$G$3^2)) -> -1.20622e-89 | H19: =IF(A19<=A$5,G19,0) -> -1.20622e-89 | I19: =IF(A19>A$5,G19,0) -> 0 | J19: =-G19+J18 -> 5.2377242e-89 | K19: =-$G$5-J19 -> 125.33141 | L19: =B19-G19 -> 3.3406299e-66 | M19: =B19+M18 -> 1.6291529e-65 | N19: =-G19+N18 -> 5.2377242e-89 | O19: =M19/$B$5 -> 1.299876e-67 | P19: =1-(N19/-$G$5) -> 1 | Q19: =P19*$G$4+O19*(1-$G$4) -> 0.5 | R19: =K19/(K19+F19) -> 0.5 | S19: =E19/(E19+J19) -> 1
A20: -9.86 | B20: =$B$4/$B$3*EXP(-1*(A20-$B$2)^2/(2*$B$3^2)) -> 4.1487206e-66 | C20: =IF(A20<=A$5,B20,0) -> 4.1487206e-66 | D20: =IF(A20>A$5,B20,0) -> 0 | E20: =B20+E19 -> 2.044025e-65 | F20: =$B$5-E20 -> 125.33141 | G20: =-$G$4/$G$3*EXP(-1*(A20-$G$2)^2/(2*$G$3^2)) -> -1.5528154e-89 | H20: =IF(A20<=A$5,G20,0) -> -1.5528154e-89 | I20: =IF(A20>A$5,G20,0) -> 0 | J20: =-G20+J19 -> 6.7905395e-89 | K20: =-$G$5-J20 -> 125.33141 | L20: =B20-G20 -> 4.1487206e-66 | M20: =B20+M19 -> 2.044025e-65 | N20: =-G20+N19 -> 6.7905395e-89 | O20: =M20/$B$5 -> 1.630896e-67 | P20: =1-(N20/-$G$5) -> 1 | Q20: =P20*$G$4+O20*(1-$G$4) -> 0.5 | R20: =K20/(K20+F20) -> 0.5 | S20: =E20/(E20+J20) -> 1
A21: -9.85 | B21: =$B$4/$B$3*EXP(-1*(A21-$B$2)^2/(2*$B$3^2)) -> 5.1514817e-66 | C21: =IF(A21<=A$5,B21,0) -> 5.1514817e-66 | D21: =IF(A21>A$5,B21,0) -> 0 | E21: =B21+E20 -> 2.5591732e-65 | F21: =$B$5-E21 -> 125.33141 | G21: =-$G$4/$G$3*EXP(-1*(A21-$G$2)^2/(2*$G$3^2)) -> -1.9986891e-89 | H21: =IF(A21<=A$5,G21,0) -> -1.9986891e-89 | I21: =IF(A21>A$5,G21,0) -> 0 | J21: =-G21+J20 -> 8.7892286e-89 | K21: =-$G$5-J21 -> 125.33141 | L21: =B21-G21 -> 5.1514817e-66 | M21: =B21+M20 -> 2.5591732e-65 | N21: =-G21+N20 -> 8.7892286e-89 | O21: =M21/$B$5 -> 2.0419247e-67 | P21: =1-(N21/-$G$5) -> 1 | Q21: =P21*$G$4+O21*(1-$G$4) -> 0.5 | R21: =K21/(K21+F21) -> 0.5 | S21: =E21/(E21+J21) -> 1
A22: -9.84 | B22: =$B$4/$B$3*EXP(-1*(A22-$B$2)^2/(2*$B$3^2)) -> 6.3956144e-66 | C22: =IF(A22<=A$5,B22,0) -> 6.3956144e-66 | D22: =IF(A22>A$5,B22,0) -> 0 | E22: =B22+E21 -> 3.1987346e-65 | F22: =$B$5-E22 -> 125.33141 | G22: =-$G$4/$G$3*EXP(-1*(A22-$G$2)^2/(2*$G$3^2)) -> -2.5721886e-89 | H22: =IF(A22<=A$5,G22,0) -> -2.5721886e-89 | I22: =IF(A22>A$5,G22,0) -> 0 | J22: =-G22+J21 -> 1.1361417e-88 | K22: =-$G$5-J22 -> 125.33141 | L22: =B22-G22 -> 6.3956144e-66 | M22: =B22+M21 -> 3.1987346e-65 | N22: =-G22+N21 -> 1.1361417e-88 | O22: =M22/$B$5 -> 2.5522209e-67 | P22: =1-(N22/-$G$5) -> 1 | Q22: =P22*$G$4+O22*(1-$G$4) -> 0.5 | R22: =K22/(K22+F22) -> 0.5 | S22: =E22/(E22+J22) -> 1
A23: -9.83 | B23: =$B$4/$B$3*EXP(-1*(A23-$B$2)^2/(2*$B$3^2)) -> 7.9389767e-66 | C23: =IF(A23<=A$5,B23,0) -> 7.9389767e-66 | D23: =IF(A23>A$5,B23,0) -> 0 | E23: =B23+E22 -> 3.9926323e-65 | F23: =$B$5-E23 -> 125.33141 | G23: =-$G$4/$G$3*EXP(-1*(A23-$G$2)^2/(2*$G$3^2)) -> -3.3097297e-89 | H23: =IF(A23<=A$5,G23,0) -> -3.3097297e-89 | I23: =IF(A23>A$5,G23,0) -> 0 | J23: =-G23+J22 -> 1.4671147e-88 | K23: =-$G$5-J23 -> 125.33141 | L23: =B23-G23 -> 7.9389767e-66 | M23: =B23+M22 -> 3.9926323e-65 | N23: =-G23+N22 -> 1.4671147e-88 | O23: =M23/$B$5 -> 3.1856596e-67 | P23: =1-(N23/-$G$5) -> 1 | Q23: =P23*$G$4+O23*(1-$G$4) -> 0.5 | R23: =K23/(K23+F23) -> 0.5 | S23: =E23/(E23+J23) -> 1
... A3006: 20 | B3006: =$B$4/$B$3*EXP(-1*(A3006-$B$2)^2/(2*$B$3^2)) -> 8.6493533e-88 | C3006: =IF(A3006<=A$5,B3006,0) -> 0 | D3006: =IF(A3006>A$5,B3006,0) -> 8.6493533e-88 | E3006: =B3006+E3005 -> 125.33141 | F3006: =$B$5-E3006 -> 0 | G3006: =-$G$4/$G$3*EXP(-1*(A3006-$G$2)^2/(2*$G$3^2)) -> -1.3003453e-64 | H3006: =IF(A3006<=A$5,G3006,0) -> 0 | I3006: =IF(A3006>A$5,G3006,0) -> -1.3003453e-64 | J3006: =-G3006+J3005 -> 125.33141 | K3006: =-$G$5-J3006 -> 0 | L3006: =B3006-G3006 -> 1.3003453e-64 | M3006: =B3006+M3005 -> 125.33141 | N3006: =-G3006+N3005 -> 125.33141 | O3006: =M3006/$B$5 -> 1 | P3006: =1-(N3006/-$G$5) -> 0 | Q3006: =P3006*$G$4+O3006*(1-$G$4) -> 0.5 | R3006: =K3006/(K3006+F3006) -> #DIV/0! | S3006: =E3006/(E3006+J3006) -> 0.5
