Workbook
Name nyelv: T!$M$2:$O$2

Sheet T
B2: Válassz a legördülő listából egy nyelvet! Wahl eine Sprache aus der herunterrollenden Liste! Choose a language from the drop-down list. | D2: English | M2: magyar | N2: deutsch | O2: English
C3: =IF($D$2=$M$2,M3,IF($D$2=$N$2,N3,O3)) -> Created by: Gergely AGÓCS PhD (Please send comments and reflections (e.g. on possible errors) to: gergelyagocs at gmail com) | M3: Készítette: dr. Agócs Gergely (Észrevételeket (pl. esetleges hibákról, hiányosságokról) kérlek ide írd meg: gergelyagocs kukac gmail com) | N3: Erarbeitet von: Gergely AGÓCS PhD (Bemerkungen (z.B. zu eventuellen Fehler) bitte an: gergelyagocs Klammeraffe gmail com) | O3: Created by: Gergely AGÓCS PhD (Please send comments and reflections (e.g. on possible errors) to: gergelyagocs at gmail com)
M4: Tartalomjegyzék | N4: Inhalt | O4: Contents
M5: Excel használatának alapjai | N5: Anwendung der Excelfunktionen | O5: Excel basics
M6: Függvénytan | N6: Funktionslehre | O6: Elements of functions
M7: Gyakoriságok | N7: Häufigkeiten | O7: Frequencies
M8: Adathalmaz statisztikai paraméterei | N8: Statistische Parameter von Datenmengen | O8: Statistical parameters of a dataset
M9: Kombinatorika, diszkrét eloszlások | N9: Kombinatorik, diskrete Verteilungen | O9: Combinatorics, discrete distributions
M10: Pontbecslés | N10: Punktschätzung | O10: Point estimation
M11: Normális eloszlás | N11: Normalverteilung | O11: Normal distribution
M12: t-eloszlás, intervallumbecslés | N12: t-Verteilung, Intervallschätzung | O12: t-distribution, interval estimation
M13: Bevezetés a hipotézisvizsgálatba | N13: Einleitung in der Hypothesenprüfung | O13: Introduction to hypothesis testing
M14: t-próbák, F-próba, ANOVA | N14: Student t-Test, F-Test, ANOVA | O14: Student's t-test, F-test, ANOVA
M15: Rangpróbák | N15: Rangteste | O15: Rank tests
... M18: Diagnosztikai tesztek kiértékelése | N18: Auswertung von diagnostischen Testen | O18: Evaluation of diagnostic tests

Sheet p12f
B2: =IF(T!$D$2=T!$M$2,O2,IF(T!$D$2=T!$N$2,P2,Q2)) -> Enter the requested values in the green cells. | O2: Írd be a kért értékeket a zöld cellákba! | P2: Tragen Sie die gewünschten Werte in die grünen Felder ein! | Q2: Enter the requested values in the green cells.
O3: A cöliákia (gluténérzékenység) az Egyesült Államokban körülbelül 100-ból 1 embert érint. Ennek a betegségnek diagnosztizálására használható az IgA szöveti transzglutamináz teszt (továbbiakban: IgA-teszt). | P3: Die Zöliakie (Glutensensitivität) betrifft etwa 1 von 100 Menschen in den Vereinigten Staaten. Der IgA-Gewebetransglutaminase-Test (im Folgenden: IgA-Test) kann zur Diagnose dieser Krankheit verwendet werden. | Q3: Celiac disease (gluten sensitivity) affects approximately about 1 in 100 people in the United States. The IgA tissue transglutaminase test (hereafter: IgA test) can be used to diagnose this disease.
B4: =IF(T!$D$2=T!$M$2,O3,IF(T!$D$2=T!$N$2,P3,Q3)) -> Celiac disease (gluten sensitivity) affects approximately about 1 in 100 people in the United States. The IgA tissue transglutaminase test (hereafter: IgA test) can be used to diagnose this disease. | O4: A módszer szenzitivitása 96%, specificitása 94%. | P4: Die Methode hat eine Sensitivität von 96% und eine Spezifität von 94%. | Q4: The method has a sensitivity of 96% and a specificity of 94%.
B5: =IF(T!$D$2=T!$M$2,O4,IF(T!$D$2=T!$N$2,P4,Q4)) -> The method has a sensitivity of 96% and a specificity of 94%.
O6: Állítsd össze az igazságmátrixot! | P6: Erstelle die Wahrheitsmatrix. | Q6: Construct the confusion matrix.
B7: =IF(T!$D$2=T!$M$2,O6,IF(T!$D$2=T!$N$2,P6,Q6)) -> Construct the confusion matrix. | O7: az igazságmátrix elkészítése lépésről lépésre: | P7: Schritt-für-Schritt Erstellen der Wahrheitsmatrix: | Q7: step-by-step construction of the confusion matrix:
O8: a tényleges állapot (cöliákia) | P8: tatsächlicher Zustand (Zöliakie) | Q8: true condition (celiac disease)
G9: =IF(T!$D$2=T!$M$2,O11,IF(T!$D$2=T!$N$2,P11,Q11)) -> result of the IgA test | I9: =IF(T!$D$2=T!$M$2,O14,IF(T!$D$2=T!$N$2,P14,Q14)) -> margin sum | O9: egészséges | P9: gesund | Q9: healthy
G10: =IF(T!$D$2=T!$M$2,O12,IF(T!$D$2=T!$N$2,P12,Q12)) -> negative | H10: =IF(T!$D$2=T!$M$2,O13,IF(T!$D$2=T!$N$2,P13,Q13)) -> positive | O10: beteg | P10: krank | Q10: diseased
E11: =IF(T!$D$2=T!$M$2,O8,IF(T!$D$2=T!$N$2,P8,Q8)) -> true condition (celiac disease) | F11: =IF(T!$D$2=T!$M$2,O9,IF(T!$D$2=T!$N$2,P9,Q9)) -> healthy | K11: =IFERROR(IF(G11="","×",IF(AND(G11>p12m!G11*0.999999,G11<p12m!G11*(2-0.999999))=TRUE,"✓","×")),"×") -> × | L11: =IFERROR(IF(H11="","×",IF(AND(H11>p12m!H11*0.999999,H11<p12m!H11*(2-0.999999))=TRUE,"✓","×")),"×") -> × | M11: =IFERROR(IF(I11="","×",IF(AND(I11>p12m!I11*0.999999,I11<p12m!I11*(2-0.999999))=TRUE,"✓","×")),"×") -> × | O11: az IgA-teszt eredménye | P11: Ergebins des IgA-Tests | Q11: result of the IgA test
F12: =IF(T!$D$2=T!$M$2,O10,IF(T!$D$2=T!$N$2,P10,Q10)) -> diseased | K12: =IFERROR(IF(G12="","×",IF(AND(G12>p12m!G12*0.999999,G12<p12m!G12*(2-0.999999))=TRUE,"✓","×")),"×") -> × | L12: =IFERROR(IF(H12="","×",IF(AND(H12>p12m!H12*0.999999,H12<p12m!H12*(2-0.999999))=TRUE,"✓","×")),"×") -> × | M12: =IFERROR(IF(I12="","×",IF(AND(I12>p12m!I12*0.999999,I12<p12m!I12*(2-0.999999))=TRUE,"✓","×")),"×") -> × | O12: negatív | P12: negativ | Q12: negative
E13: =IF(T!$D$2=T!$M$2,O14,IF(T!$D$2=T!$N$2,P14,Q14)) -> margin sum | K13: =IFERROR(IF(G13="","×",IF(AND(G13>p12m!G13*0.999999,G13<p12m!G13*(2-0.999999))=TRUE,"✓","×")),"×") -> × | L13: =IFERROR(IF(H13="","×",IF(AND(H13>p12m!H13*0.999999,H13<p12m!H13*(2-0.999999))=TRUE,"✓","×")),"×") -> × | M13: =IFERROR(IF(I13="","×",IF(AND(I13>p12m!I13*0.999999,I13<p12m!I13*(2-0.999999))=TRUE,"✓","×")),"×") -> × | O13: pozitív | P13: positiv | Q13: positive
O14: szélösszeg | P14: Randhäufigkeit | Q14: margin sum
B15: =IF(T!$D$2=T!$M$2,O15,IF(T!$D$2=T!$N$2,P15,Q15)) -> Give the following parameters. | O15: Add meg a következő paramétereket! | P15: Geben Sie die folgenden Parameter an! | Q15: Give the following parameters.
B17: =IF(T!$D$2=T!$M$2,O24,IF(T!$D$2=T!$N$2,P24,Q24)) -> Sensitivity: | D17: =IFERROR(IF(C17="","×",IF(AND(C17>p12m!C17*0.999999,C17<p12m!C17*(2-0.999999))=TRUE,"✓","×")),"×") -> ×
B18: =IF(T!$D$2=T!$M$2,O25,IF(T!$D$2=T!$N$2,P25,Q25)) -> False negative rate: | D18: =IFERROR(IF(C18="","×",IF(AND(C18>p12m!C18*0.999999,C18<p12m!C18*(2-0.999999))=TRUE,"✓","×")),"×") -> ×
B19: =IF(T!$D$2=T!$M$2,O26,IF(T!$D$2=T!$N$2,P26,Q26)) -> Specificity: | D19: =IFERROR(IF(C19="","×",IF(AND(C19>p12m!C19*0.999999,C19<p12m!C19*(2-0.999999))=TRUE,"✓","×")),"×") -> ×
B20: =IF(T!$D$2=T!$M$2,O27,IF(T!$D$2=T!$N$2,P27,Q27)) -> False positive rate: | D20: =IFERROR(IF(C20="","×",IF(AND(C20>p12m!C20*0.999999,C20<p12m!C20*(2-0.999999))=TRUE,"✓","×")),"×") -> ×
B21: =IF(T!$D$2=T!$M$2,O29,IF(T!$D$2=T!$N$2,P29,Q29)) -> Positive predictive value: | D21: =IFERROR(IF(C21="","×",IF(AND(C21>p12m!C21*0.999999,C21<p12m!C21*(2-0.999999))=TRUE,"✓","×")),"×") -> ×
B22: =IF(T!$D$2=T!$M$2,O30,IF(T!$D$2=T!$N$2,P30,Q30)) -> False alarm rate: | D22: =IFERROR(IF(C22="","×",IF(AND(C22>p12m!C22*0.999999,C22<p12m!C22*(2-0.999999))=TRUE,"✓","×")),"×") -> ×
B23: =IF(T!$D$2=T!$M$2,O31,IF(T!$D$2=T!$N$2,P31,Q31)) -> Negative predictive value: | D23: =IFERROR(IF(C23="","×",IF(AND(C23>p12m!C23*0.999999,C23<p12m!C23*(2-0.999999))=TRUE,"✓","×")),"×") -> ×
B24: =IF(T!$D$2=T!$M$2,O32,IF(T!$D$2=T!$N$2,P32,Q32)) -> False reassurance rate: | D24: =IFERROR(IF(C24="","×",IF(AND(C24>p12m!C24*0.999999,C24<p12m!C24*(2-0.999999))=TRUE,"✓","×")),"×") -> × | O24: szenzitivitás: | P24: Sensitivität: | Q24: Sensitivity:
B25: =IF(T!$D$2=T!$M$2,O33,IF(T!$D$2=T!$N$2,P33,Q33)) -> Diagnostic accuracy: | D25: =IFERROR(IF(C25="","×",IF(AND(C25>p12m!C25*0.999999,C25<p12m!C25*(2-0.999999))=TRUE,"✓","×")),"×") -> × | O25: álnegatívarány: | P25: Falschnegativrate | Q25: False negative rate:
O26: specificitás: | P26: Spezifität: | Q26: Specificity:
B27: =IF(T!$D$2=T!$M$2,O35,IF(T!$D$2=T!$N$2,P35,Q35)) -> Questions related to the above test parameters: | O27: álpozitívarány: | P27: Falschpositivrate: | Q27: False positive rate:
B29: =IF(T!$D$2=T!$M$2,O36,IF(T!$D$2=T!$N$2,P36,Q36)) -> What is the probability … | O29: relevancia: | P29: Relevanz: | Q29: Positive predictive value:
B30: =IF(T!$D$2=T!$M$2,O37,IF(T!$D$2=T!$N$2,P37,Q37)) -> … that a person producing a positive test result is indeed diseased? | D30: =IFERROR(IF(C30="","×",IF(AND(C30>p12m!C30*0.999999,C30<p12m!C30*(2-0.999999))=TRUE,"✓","×")),"×") -> × | O30: téves figyelemfelkeltési arány: | P30: Falschalarmrate: | Q30: False alarm rate:
B31: =IF(T!$D$2=T!$M$2,O38,IF(T!$D$2=T!$N$2,P38,Q38)) -> … that a diseased person produces a positive test result? | D31: =IFERROR(IF(C31="","×",IF(AND(C31>p12m!C31*0.999999,C31<p12m!C31*(2-0.999999))=TRUE,"✓","×")),"×") -> × | O31: szegregancia: | P31: Segreganz: | Q31: Negative predictive value:
B32: =IF(T!$D$2=T!$M$2,O39,IF(T!$D$2=T!$N$2,P39,Q39)) -> … that a healthy person is misdiagnosed? | D32: =IFERROR(IF(C32="","×",IF(AND(C32>p12m!C32*0.999999,C32<p12m!C32*(2-0.999999))=TRUE,"✓","×")),"×") -> × | O32: téves megnyugtatási arány: | P32: falsche Beruhigungsrate: | Q32: False reassurance rate:
B33: =IF(T!$D$2=T!$M$2,O40,IF(T!$D$2=T!$N$2,P40,Q40)) -> … that a diseased person is correctly diagnosed? | D33: =IFERROR(IF(C33="","×",IF(AND(C33>p12m!C33*0.999999,C33<p12m!C33*(2-0.999999))=TRUE,"✓","×")),"×") -> × | O33: diagnosztikus effektivitás: | P33: diagnostische Effektivität: | Q33: Diagnostic accuracy:
B34: =IF(T!$D$2=T!$M$2,O41,IF(T!$D$2=T!$N$2,P41,Q41)) -> … that a negative test result is false? | D34: =IFERROR(IF(C34="","×",IF(AND(C34>p12m!C34*0.999999,C34<p12m!C34*(2-0.999999))=TRUE,"✓","×")),"×") -> ×
B35: =IF(T!$D$2=T!$M$2,O42,IF(T!$D$2=T!$N$2,P42,Q42)) -> … that a positive test result is true? | D35: =IFERROR(IF(C35="","×",IF(AND(C35>p12m!C35*0.999999,C35<p12m!C35*(2-0.999999))=TRUE,"✓","×")),"×") -> × | O35: A fenti tesztparaméterekhez kapcsolódó kérdések: | P35: Fragen im Zusammenhang mit den oben genannten Testparametern: | Q35: Questions related to the above test parameters:
B36: =IF(T!$D$2=T!$M$2,O43,IF(T!$D$2=T!$N$2,P43,Q43)) -> … that a diseased person's the test result is false? | D36: =IFERROR(IF(C36="","×",IF(AND(C36>p12m!C36*0.999999,C36<p12m!C36*(2-0.999999))=TRUE,"✓","×")),"×") -> × | O36: Mi a valószínűsége annak, … | P36: Was ist die Wkeit, … | Q36: What is the probability …
B37: =IF(T!$D$2=T!$M$2,O44,IF(T!$D$2=T!$N$2,P44,Q44)) -> … that a healthy person's test result reflects the actual state? | D37: =IFERROR(IF(C37="","×",IF(AND(C37>p12m!C37*0.999999,C37<p12m!C37*(2-0.999999))=TRUE,"✓","×")),"×") -> × | O37: … hogy egy pozitív eredményt produkáló páciens valóban beteg? | P37: … dass ein positives Ergebnis anzeigender Patient wirklich krank ist? | Q37: … that a person producing a positive test result is indeed diseased?
B38: =IF(T!$D$2=T!$M$2,O45,IF(T!$D$2=T!$N$2,P45,Q45)) -> … that a positive test result belongs to a healthy person? | D38: =IFERROR(IF(C38="","×",IF(AND(C38>p12m!C38*0.999999,C38<p12m!C38*(2-0.999999))=TRUE,"✓","×")),"×") -> × | O38: … hogy egy beteg ember pozitív teszteredményt produkál? | P38: … dass ein Kranker positives Testergebnis anzeigt? | Q38: … that a diseased person produces a positive test result?
B39: =IF(T!$D$2=T!$M$2,O46,IF(T!$D$2=T!$N$2,P46,Q46)) -> … that a negative test result reflects the true state of the person? | D39: =IFERROR(IF(C39="","×",IF(AND(C39>p12m!C39*0.999999,C39<p12m!C39*(2-0.999999))=TRUE,"✓","×")),"×") -> × | O39: … hogy egy egészséges embert félrediagnosztizálunk? | P39: … dass ein Gesunder falsch diagnostisiert wird? | Q39: … that a healthy person is misdiagnosed?
O40: … hogy egy beteg embert helyesen diagnosztiálunk? | P40: … dass ein Kranker richtig diagnostisiert wird? | Q40: … that a diseased person is correctly diagnosed?
B41: =IF(T!$D$2=T!$M$2,O48,IF(T!$D$2=T!$N$2,P48,Q48)) -> Further question: odds, likelihood ratios | O41: … hogy egy negatív teszteredmény hibás? | P41: … dass ein negatives Ergebnis falsch ist? | Q41: … that a negative test result is false?
O42: … hogy egy pozitív teszteredmény igaz? | P42: … dass ein positives Testergebnis richtig ist? | Q42: … that a positive test result is true?
B43: =IF(T!$D$2=T!$M$2,O50,IF(T!$D$2=T!$N$2,P50,Q50)) -> What is the odds that a (randomly selected) person has celiac disease? | D43: =IFERROR(IF(C43="","×",IF(AND(C43>p12m!C43*0.999999,C43<p12m!C43*(2-0.999999))=TRUE,"✓","×")),"×") -> × | O43: … hogy egy beteg ember teszteredménye hibás? | P43: … dass das Testergebnis eines Kranken falsch ist? | Q43: … that a diseased person's the test result is false?
B44: =IF(T!$D$2=T!$M$2,O51,IF(T!$D$2=T!$N$2,P51,Q51)) -> What is the positive likelihood-ratio of the IgA test? | D44: =IFERROR(IF(C44="","×",IF(AND(C44>p12m!C44*0.999999,C44<p12m!C44*(2-0.999999))=TRUE,"✓","×")),"×") -> × | O44: … hogy egy egészséges ember teszteredménye a valós állapotát tükrözi? | P44: … dass das Ergebnis eines Gesunden seinen wirklichen Zustand reflektiert? | Q44: … that a healthy person's test result reflects the actual state?
B45: =IF(T!$D$2=T!$M$2,O52,IF(T!$D$2=T!$N$2,P52,Q52)) -> What is the negative likelihood-ratio of the IgA test? | D45: =IFERROR(IF(C45="","×",IF(AND(C45>p12m!C45*0.999999,C45<p12m!C45*(2-0.999999))=TRUE,"✓","×")),"×") -> × | O45: … hogy egy pozitív teszteredmény egészséges emberhez tartozik? | P45: … dass ein positives Ergebnis einem Gesunden gehört? | Q45: … that a positive test result belongs to a healthy person?
B46: =IF(T!$D$2=T!$M$2,O53,IF(T!$D$2=T!$N$2,P53,Q53)) -> What is the odds of a patient being diseased, if the IgA test result is positive? | D46: =IFERROR(IF(C46="","×",IF(AND(C46>p12m!C46*0.999999,C46<p12m!C46*(2-0.999999))=TRUE,"✓","×")),"×") -> × | O46: … hogy egy negatív teszteredmény a valós állapotot tükrözi? | P46: … dass ein negatives Ergebnis den wirklichen Zustand reflektiert? | Q46: … that a negative test result reflects the true state of the person?
B47: =IF(T!$D$2=T!$M$2,O54,IF(T!$D$2=T!$N$2,P54,Q54)) -> What is the probability of a patient being diseased, if the IgA test result is positive? | D47: =IFERROR(IF(C47="","×",IF(AND(C47>p12m!C47*0.999999,C47<p12m!C47*(2-0.999999))=TRUE,"✓","×")),"×") -> ×
B48: =IF(T!$D$2=T!$M$2,O55,IF(T!$D$2=T!$N$2,P55,Q55)) -> What is the odds of a patient being diseased, if the IgA test result is negative? | D48: =IFERROR(IF(C48="","×",IF(AND(C48>p12m!C48*0.999999,C48<p12m!C48*(2-0.999999))=TRUE,"✓","×")),"×") -> × | O48: További kérdések: esély(érték)ek, likelihood-hányadosok | P48: Weitere Fragen: Chancen, Likelihood-Quotienten | Q48: Further question: odds, likelihood ratios
B49: =IF(T!$D$2=T!$M$2,O56,IF(T!$D$2=T!$N$2,P56,Q56)) -> What is the probability of a patient being diseased, if the IgA test result is negative? | D49: =IFERROR(IF(C49="","×",IF(AND(C49>p12m!C49*0.999999,C49<p12m!C49*(2-0.999999))=TRUE,"✓","×")),"×") -> ×
O50: Mekkora az esélye annak, hogy egy (véletlenül kiválasztott) embernek cöliákiája van? | P50: Wie groß ist die Chance, dass eine (zufällig ausgewählte) Person an Zöliakie leidet? | Q50: What is the odds that a (randomly selected) person has celiac disease?
B51: =IF(T!$D$2=T!$M$2,O59,IF(T!$D$2=T!$N$2,P59,Q59)) -> Type 1 diabetes mellitus is a risk factor for celiac disease, the extent of which is shown in the observational results reported in the table below. | O51: Mekkora az IgA-teszt pozitív likelihood-hányadosa? | P51: Wie groß ist der positive Likelihood-Quotient des IgA-Tests? | Q51: What is the positive likelihood-ratio of the IgA test?
O52: Mekkora az IgA-teszt negatív likelihood-hányadosa? | P52: Wie groß ist der negative Likelihood-Quotient des IgA-Tests? | Q52: What is the negative likelihood-ratio of the IgA test?
G53: =IF(T!$D$2=T!$M$2,O60,IF(T!$D$2=T!$N$2,P60,Q60)) -> risk factor: type 1 diabetes mellitus | I53: =IF(T!$D$2=T!$M$2,O14,IF(T!$D$2=T!$N$2,P14,Q14)) -> margin sum | O53: Mekkora az esélye annak, hogy egy páciensünk beteg, ha pozitív az IgA-teszt eredménye? | P53: Wie groß ist die Chance, dass ein Patient krank ist, wenn sein IgA-Testergebnis positiv ist? | Q53: What is the odds of a patient being diseased, if the IgA test result is positive?
G54: =IF(T!$D$2=T!$M$2,O61,IF(T!$D$2=T!$N$2,P61,Q61)) -> absent | H54: =IF(T!$D$2=T!$M$2,O62,IF(T!$D$2=T!$N$2,P62,Q62)) -> present | O54: Mekkora a valószínűsége annak, hogy egy páciensünk beteg, ha pozitív az IgA-teszt eredménye? | P54: Wie groß ist die Wkeit, dass ein Patient krank ist, wenn sein IgA-Testergebnis positiv ist? | Q54: What is the probability of a patient being diseased, if the IgA test result is positive?
E55: =IF(T!$D$2=T!$M$2,O8,IF(T!$D$2=T!$N$2,P8,Q8)) -> true condition (celiac disease) | F55: =IF(T!$D$2=T!$M$2,O9,IF(T!$D$2=T!$N$2,P9,Q9)) -> healthy | G55: 8364 | H55: 1140 | M55: =IFERROR(IF(I55="","×",IF(AND(I55>p12m!I55*0.999999,I55<p12m!I55*(2-0.999999))=TRUE,"✓","×")),"×") -> × | O55: Mekkora az esélye annak, hogy egy páciensünk beteg, ha negatív az IgA-teszt eredménye? | P55: Wie groß ist die Chance, dass ein Patient krank ist, wenn sein IgA-Testergebnis negativ ist? | Q55: What is the odds of a patient being diseased, if the IgA test result is negative?
F56: =IF(T!$D$2=T!$M$2,O10,IF(T!$D$2=T!$N$2,P10,Q10)) -> diseased | G56: 36 | H56: 60 | M56: =IFERROR(IF(I56="","×",IF(AND(I56>p12m!I56*0.999999,I56<p12m!I56*(2-0.999999))=TRUE,"✓","×")),"×") -> × | O56: Mekkora a valószínűsége annak, hogy egy páciensünk beteg, ha negatív az IgA-teszt eredménye? | P56: Wie groß ist die Wkeit, dass ein Patient krank ist, wenn sein IgA-Testergebnis negative ist? | Q56: What is the probability of a patient being diseased, if the IgA test result is negative?
E57: =IF(T!$D$2=T!$M$2,O14,IF(T!$D$2=T!$N$2,P14,Q14)) -> margin sum | K57: =IFERROR(IF(G57="","×",IF(AND(G57>p12m!G57*0.999999,G57<p12m!G57*(2-0.999999))=TRUE,"✓","×")),"×") -> × | L57: =IFERROR(IF(H57="","×",IF(AND(H57>p12m!H57*0.999999,H57<p12m!H57*(2-0.999999))=TRUE,"✓","×")),"×") -> × | M57: =IFERROR(IF(I57="","×",IF(AND(I57>p12m!I57*0.999999,I57<p12m!I57*(2-0.999999))=TRUE,"✓","×")),"×") -> ×
B59: =IF(T!$D$2=T!$M$2,O64,IF(T!$D$2=T!$N$2,P64,Q64)) -> What are the odds of celiac disease in someone with diabetes? | D59: =IFERROR(IF(C59="","×",IF(AND(C59>p12m!C59*0.999999,C59<p12m!C59*(2-0.999999))=TRUE,"✓","×")),"×") -> × | O59: Az 1-es típusú cukorbtegség rizikótényező a cöliákia esetén, ennek mértékét az alábbi táblázatban közölt megfigyelési eredmények mutatják. | P59: Typ-1-Diabetes mellitus ist ein Risikofaktor für Zöliakie, dessen Ausmaß aus den in der nachstehenden Tabelle aufgeführten Beobachtungsergebnissen hervorgeht. | Q59: Type 1 diabetes mellitus is a risk factor for celiac disease, the extent of which is shown in the observational results reported in the table below.
B60: =IF(T!$D$2=T!$M$2,O65,IF(T!$D$2=T!$N$2,P65,Q65)) -> What are the odds of celiac disease in someone without diabetes? | D60: =IFERROR(IF(C60="","×",IF(AND(C60>p12m!C60*0.999999,C60<p12m!C60*(2-0.999999))=TRUE,"✓","×")),"×") -> × | O60: rizikótényező: 1. típusú cukorbetegség | P60: Risikofaktor: Typ 1. Diabetes mllitus | Q60: risk factor: type 1 diabetes mellitus
B61: =IF(T!$D$2=T!$M$2,O66,IF(T!$D$2=T!$N$2,P66,Q66)) -> What is the odds ratio (OR) of celiac disease in people with diabetes compared to people without diabetes? | D61: =IFERROR(IF(C61="","×",IF(AND(C61>p12m!C61*0.999999,C61<p12m!C61*(2-0.999999))=TRUE,"✓","×")),"×") -> × | O61: nincs | P61: abwesend | Q61: absent
B62: =IF(T!$D$2=T!$M$2,O67,IF(T!$D$2=T!$N$2,P67,Q67)) -> What is the risk (probability) of celiac disease in people with diabetes? | D62: =IFERROR(IF(C62="","×",IF(AND(C62>p12m!C62*0.999999,C62<p12m!C62*(2-0.999999))=TRUE,"✓","×")),"×") -> × | O62: van | P62: anwesend | Q62: present
B63: =IF(T!$D$2=T!$M$2,O68,IF(T!$D$2=T!$N$2,P68,Q68)) -> What is the risk of celiac disease in people without diabetes? | D63: =IFERROR(IF(C63="","×",IF(AND(C63>p12m!C63*0.999999,C63<p12m!C63*(2-0.999999))=TRUE,"✓","×")),"×") -> ×
B64: =IF(T!$D$2=T!$M$2,O69,IF(T!$D$2=T!$N$2,P69,Q69)) -> What is the risk ratio (RR) of celiac disease in people with diabetes compared to people without diabetes? | D64: =IFERROR(IF(C64="","×",IF(AND(C64>p12m!C64*0.999999,C64<p12m!C64*(2-0.999999))=TRUE,"✓","×")),"×") -> × | O64: Mekkora a cöliákia esély(érték)e cukorbetegeknél? | P64: Wie groß ist die Chance an Zöliakie zu erkranken, wenn man Diabetes hat? | Q64: What are the odds of celiac disease in someone with diabetes?
O65: Mekkora a cöliákia esélye annál, aki nem cukorbeteg? | P65: Wie groß ist die Chance an Zöliakie zu erkranken, wenn man keinen Diabetes hat? | Q65: What are the odds of celiac disease in someone without diabetes?
B66: =IF(T!$D$2=T!$M$2,O71,IF(T!$D$2=T!$N$2,P71,Q71)) -> What is the probability of not having the risk factor (i.e. diabetes) among non-celiac people? | D66: =IFERROR(IF(C66="","×",IF(AND(C66>p12m!C66*0.999999,C66<p12m!C66*(2-0.999999))=TRUE,"✓","×")),"×") -> × | O66: Mekkora a cöliákia esélyhányadosa (OR) a cukorbetegek esetén a nem cukorbetegekre vonatkoztatva? | P66: Wie hoch ist das Chancenverhältnis (OR) für Zöliakie bei Menschen mit Diabetes im Vergleich zu Menschen ohne Diabetes? | Q66: What is the odds ratio (OR) of celiac disease in people with diabetes compared to people without diabetes?
B67: =IF(T!$D$2=T!$M$2,O72,IF(T!$D$2=T!$N$2,P72,Q72)) -> What would the previous indicator be referred to as if it was not a risk factor but a diagnostic test result? | D67: =IFERROR(IF(C67="","×",IF(C67=p12m!C67,"✓","×")),"×") -> × | O67: Mekkora a cöliákia kockázata (rizikója, valószínűsége) cukorbetegeknél? | P67: Wie hoch ist das Risiko (Wkeit) einer Zöliakie bei Menschen mit Diabetes? | Q67: What is the risk (probability) of celiac disease in people with diabetes?
B68: =IF(T!$D$2=T!$M$2,O73,IF(T!$D$2=T!$N$2,P73,Q73)) -> What is the probability of the presence of the risk factor among people with celiac disease? | D68: =IFERROR(IF(C68="","×",IF(AND(C68>p12m!C68*0.999999,C68<p12m!C68*(2-0.999999))=TRUE,"✓","×")),"×") -> × | O68: Mekkora a cöliákia kockázata annál, aki nem cukorbeteg? | P68: Wie hoch ist das Risiko einer Zöliakie bei Menschen ohne Diabetes? | Q68: What is the risk of celiac disease in people without diabetes?
B69: =IF(T!$D$2=T!$M$2,O74,IF(T!$D$2=T!$N$2,P74,Q74)) -> What would the previous indicator be referred to as if it was not a risk factor but a diagnostic test result? | D69: =IFERROR(IF(C69="","×",IF(C69=p12m!C69,"✓","×")),"×") -> × | O69: Mekkora a cöliákia relatív kockázata (RR) a cukorbetegek esetén a nem cukorbetegekre vonatkoztatva? | P69: Wie groß ist das relative Risiko (RR) für Zöliakie bei Menschen mit Diabetes im Vergleich zu Menschen ohne Diabetes? | Q69: What is the risk ratio (RR) of celiac disease in people with diabetes compared to people without diabetes?
B70: =IF(T!$D$2=T!$M$2,O75,IF(T!$D$2=T!$N$2,P75,Q75)) -> What is the LR+ value for celiac disease? | D70: =IFERROR(IF(C70="","×",IF(AND(C70>p12m!C70*0.999999,C70<p12m!C70*(2-0.999999))=TRUE,"✓","×")),"×") -> ×
B71: =IF(T!$D$2=T!$M$2,O76,IF(T!$D$2=T!$N$2,P76,Q76)) -> What is the LR– value for celiac disease? | D71: =IFERROR(IF(C71="","×",IF(AND(C71>p12m!C71*0.999999,C71<p12m!C71*(2-0.999999))=TRUE,"✓","×")),"×") -> × | O71: Mekkora a valószínűsége a rizikótényező (azaz a cukorbetegség) hiányának a nem cöliákások között? | P71: Wie groß ist die Wkeit, dass der Risikofaktor (z. B. Diabetes) bei Nicht-Zöliakie-Betroffenen nicht auftritt? | Q71: What is the probability of not having the risk factor (i.e. diabetes) among non-celiac people?
O72: Mi lenne a neve az előző mutatónak, ha nem rizikótényezőről, hanem diagnosztikai teszt eredményéről lenne szó? | P72: Wie würde der vorherige Indikator heißen, wenn es sich nicht um einen Risikofaktor, sondern um ein diagnostisches Testergebnis handeln würde? | Q72: What would the previous indicator be referred to as if it was not a risk factor but a diagnostic test result?
B73: =IF(T!$D$2=T!$M$2,O79,IF(T!$D$2=T!$N$2,P79,Q79)) -> We know the LR of 3 additional symptoms: | F73: =IF(T!$D$2=T!$M$2,O83,IF(T!$D$2=T!$N$2,P83,Q83)) -> LR+ | G73: =IF(T!$D$2=T!$M$2,O84,IF(T!$D$2=T!$N$2,P84,Q84)) -> LR– | O73: Mekkora a valószínűsége a rizikótényező jelenlétének a cöliákiások között? | P73: Wie groß ist die Wkeit des Vorhandenseins des Risikofaktors bei Menschen mit Zöliakie? | Q73: What is the probability of the presence of the risk factor among people with celiac disease?
E74: =IF(T!$D$2=T!$M$2,O80,IF(T!$D$2=T!$N$2,P80,Q80)) -> Flatulence | F74: 1.33 | G74: 0.56 | O74: Mi lenne a neve az előző mutatónak, ha nem rizikótényezőről, hanem diagnosztikai teszt eredményéről lenne szó? | P74: Wie würde der vorherige Indikator heißen, wenn es sich nicht um einen Risikofaktor, sondern um ein diagnostisches Testergebnis handeln würde? | Q74: What would the previous indicator be referred to as if it was not a risk factor but a diagnostic test result?
E75: =IF(T!$D$2=T!$M$2,O81,IF(T!$D$2=T!$N$2,P81,Q81)) -> Weight loss | F75: 1.14 | G75: 0.89 | O75: Mekkora a cöliákia LR+ értéke? | P75: Wie hoch ist der LR+ Wert für Zöliakie? | Q75: What is the LR+ value for celiac disease?
E76: =IF(T!$D$2=T!$M$2,O82,IF(T!$D$2=T!$N$2,P82,Q82)) -> Nausea | F76: 0.77 | G76: 1.08 | O76: Mekkora a cöliákia LR– értéke? | P76: Wie hoch ist der LR– Wert für Zöliakie? | Q76: What is the LR– value for celiac disease?
B78: =IF(T!$D$2=T!$M$2,O86,IF(T!$D$2=T!$N$2,P86,Q86)) -> What are the odds that our patient has celiac disease if • he has diabetes, • he has flatulence and lost weight, • he does not have nausea, and • the result of the IgA test is unknown? | D78: =IFERROR(IF(C78="","×",IF(AND(C78>p12m!C78*0.999999,C78<p12m!C78*(2-0.999999))=TRUE,"✓","×")),"×") -> ×
B79: =IF(T!$D$2=T!$M$2,O87,IF(T!$D$2=T!$N$2,P87,Q87)) -> What is the corresponding probability? | D79: =IFERROR(IF(C79="","×",IF(AND(C79>p12m!C79*0.999999,C79<p12m!C79*(2-0.999999))=TRUE,"✓","×")),"×") -> × | O79: További 3 tünet LR értékeit is ismerjük az adott betegségre: | P79: Wir kennen die Likelihood-Quotienten auch von weiteren 3 Symptomen der gegebenen Krankheit: | Q79: We know the LR of 3 additional symptoms:
B80: =IF(T!$D$2=T!$M$2,O88,IF(T!$D$2=T!$N$2,P88,Q88)) -> What are the odds that our patient has celiac disease if • his IgA test result is negative, • he has diabetes, and • all three symptoms are present? | D80: =IFERROR(IF(C80="","×",IF(AND(C80>p12m!C80*0.999999,C80<p12m!C80*(2-0.999999))=TRUE,"✓","×")),"×") -> × | O80: Puffadás | P80: Blähung | Q80: Flatulence
B81: =IF(T!$D$2=T!$M$2,O89,IF(T!$D$2=T!$N$2,P89,Q89)) -> What is the corresponding probability? | D81: =IFERROR(IF(C81="","×",IF(AND(C81>p12m!C81*0.999999,C81<p12m!C81*(2-0.999999))=TRUE,"✓","×")),"×") -> × | O81: Súlyvesztés | P81: Gewichtsverlust | Q81: Weight loss
B82: =IF(T!$D$2=T!$M$2,O90,IF(T!$D$2=T!$N$2,P90,Q90)) -> What are the odds that our patient has celiac disease if • his IgA test result is positive, • he has diabetes, but • none of the symptoms are present? | D82: =IFERROR(IF(C82="","×",IF(AND(C82>p12m!C82*0.999999,C82<p12m!C82*(2-0.999999))=TRUE,"✓","×")),"×") -> × | O82: Émelygés | P82: Übelkeit | Q82: Nausea
B83: =IF(T!$D$2=T!$M$2,O91,IF(T!$D$2=T!$N$2,P91,Q91)) -> What is the corresponding probability? | D83: =IFERROR(IF(C83="","×",IF(AND(C83>p12m!C83*0.999999,C83<p12m!C83*(2-0.999999))=TRUE,"✓","×")),"×") -> × | O83: LR+ | P83: LR+ | Q83: LR+
O84: LR– | P84: LR– | Q84: LR–
O86: Mekkora az esélye, hogy páciensünk cöliákiás, ha • cukorbeteg, • puffad és súlyt vesztett, • nincs émelygése, és • az IgA-teszt eredményét nem ismerjük? | P86: Wie groß ist die Chance, dass unser Patient Zöliakie hat, wenn • er Diabetes hat, • er ist aufgebläht und hat an Gewicht verloren, • er hat keine Übelkeit, und • wir kennen das Ergebnis des IgA-Tests nicht? | Q86: What are the odds that our patient has celiac disease if • he has diabetes, • he has flatulence and lost weight, • he does not have nausea, and • the result of the IgA test is unknown?
O87: Mekkora a megfelelő valószínűség? | P87: Wie groß ist die entsprechende Wkeit? | Q87: What is the corresponding probability?
O88: Mekkora az esélye, hogy páciensünk cöliákiás, ha • az IgA-teszt eredménye negatív, • cukorbeteg és • mind a három tünete pozitív? | P88: Wie groß ist die Chance, dass unser Patient Zöliakie hat, wenn • das Ergebnis des IgA-Tests negativ ist, • er ist Zuckerkrank und • alle drei Symptomen sin anwesend? | Q88: What are the odds that our patient has celiac disease if • his IgA test result is negative, • he has diabetes, and • all three symptoms are present?
O89: Mekkora a megfelelő valószínűség? | P89: Wie groß ist die entsprechende Wkeit? | Q89: What is the corresponding probability?
O90: Mekkora az esélye, hogy páciensünk cöliákiás, ha • az IgA-teszt eredménye pozitív, • cukorbeteg, de • tünetmentes? | P90: Wie groß ist die Chance, dass unser Patient Zöliakie hat, wenn • das Ergebnis des IgA-Tests positiv ist, und • er ist Zuckerkranke, aber • er hat keine der Symptomen? | Q90: What are the odds that our patient has celiac disease if • his IgA test result is positive, • he has diabetes, but • none of the symptoms are present?
O91: Mekkora a megfelelő valószínűség? | P91: Wie groß ist die entsprechende Wkeit? | Q91: What is the corresponding probability?

Sheet p12m
B2: =IF(T!$D$2=T!$M$2,O2,IF(T!$D$2=T!$N$2,P2,Q2)) -> Enter the requested values in the green cells. | O2: Írd be a kért értékeket a zöld cellákba! | P2: Tragen Sie die gewünschten Werte in die grünen Felder ein! | Q2: Enter the requested values in the green cells.
O3: A cöliákia (gluténérzékenység) az Egyesült Államokban körülbelül 100-ból 1 embert érint. Ennek a betegségnek diagnosztizálására használható az IgA szöveti transzglutamináz teszt (továbbiakban: IgA-teszt). | P3: Die Zöliakie (Glutensensitivität) betrifft etwa 1 von 100 Menschen in den Vereinigten Staaten. Der IgA-Gewebetransglutaminase-Test (im Folgenden: IgA-Test) kann zur Diagnose dieser Krankheit verwendet werden. | Q3: Celiac disease (gluten sensitivity) affects approximately about 1 in 100 people in the United States. The IgA tissue transglutaminase test (hereafter: IgA test) can be used to diagnose this disease.
B4: =IF(T!$D$2=T!$M$2,O3,IF(T!$D$2=T!$N$2,P3,Q3)) -> Celiac disease (gluten sensitivity) affects approximately about 1 in 100 people in the United States. The IgA tissue transglutaminase test (hereafter: IgA test) can be used to diagnose this disease. | O4: A módszer szenzitivitása 96%, specificitása 94%. | P4: Die Methode hat eine Sensitivität von 96% und eine Spezifität von 94%. | Q4: The method has a sensitivity of 96% and a specificity of 94%.
B5: =IF(T!$D$2=T!$M$2,O4,IF(T!$D$2=T!$N$2,P4,Q4)) -> The method has a sensitivity of 96% and a specificity of 94%.
O6: Állítsd össze az igazságmátrixot! | P6: Erstelle die Wahrheitsmatrix. | Q6: Construct the confusion matrix.
B7: =IF(T!$D$2=T!$M$2,O6,IF(T!$D$2=T!$N$2,P6,Q6)) -> Construct the confusion matrix. | O7: az igazságmátrix elkészítése lépésről lépésre: | P7: Schritt-für-Schritt Erstellen der Wahrheitsmatrix: | Q7: step-by-step construction of the confusion matrix:
O8: a tényleges állapot (cöliákia) | P8: tatsächlicher Zustand (Zöliakie) | Q8: true condition (celiac disease)
G9: =IF(T!$D$2=T!$M$2,O11,IF(T!$D$2=T!$N$2,P11,Q11)) -> result of the IgA test | I9: =IF(T!$D$2=T!$M$2,O14,IF(T!$D$2=T!$N$2,P14,Q14)) -> margin sum | O9: egészséges | P9: gesund | Q9: healthy
G10: =IF(T!$D$2=T!$M$2,O12,IF(T!$D$2=T!$N$2,P12,Q12)) -> negative | H10: =IF(T!$D$2=T!$M$2,O13,IF(T!$D$2=T!$N$2,P13,Q13)) -> positive | O10: beteg | P10: krank | Q10: diseased
E11: =IF(T!$D$2=T!$M$2,O8,IF(T!$D$2=T!$N$2,P8,Q8)) -> true condition (celiac disease) | F11: =IF(T!$D$2=T!$M$2,O9,IF(T!$D$2=T!$N$2,P9,Q9)) -> healthy | G11: =I11*0.94 -> 0.9306 | H11: =I11-G11 -> 0.0594 | I11: =I13-I12 -> 0.99 | O11: az IgA-teszt eredménye | P11: Ergebins des IgA-Tests | Q11: result of the IgA test
F12: =IF(T!$D$2=T!$M$2,O10,IF(T!$D$2=T!$N$2,P10,Q10)) -> diseased | G12: =I12-H12 -> 0.0004 | H12: =I12*0.96 -> 0.0096 | I12: =1/100 -> 0.01 | O12: negatív | P12: negativ | Q12: negative
E13: =IF(T!$D$2=T!$M$2,O14,IF(T!$D$2=T!$N$2,P14,Q14)) -> margin sum | G13: =G12+G11 -> 0.931 | H13: =H12+H11 -> 0.069 | I13: 1 | O13: pozitív | P13: positiv | Q13: positive
O14: szélösszeg | P14: Randhäufigkeit | Q14: margin sum
B15: =IF(T!$D$2=T!$M$2,O15,IF(T!$D$2=T!$N$2,P15,Q15)) -> Give the following parameters. | O15: Add meg a következő paramétereket! | P15: Geben Sie die folgenden Parameter an! | Q15: Give the following parameters.
B17: =IF(T!$D$2=T!$M$2,O24,IF(T!$D$2=T!$N$2,P24,Q24)) -> Sensitivity: | C17: =H12/I12 -> 0.96
B18: =IF(T!$D$2=T!$M$2,O25,IF(T!$D$2=T!$N$2,P25,Q25)) -> False negative rate: | C18: =G12/I12 -> 0.04
B19: =IF(T!$D$2=T!$M$2,O26,IF(T!$D$2=T!$N$2,P26,Q26)) -> Specificity: | C19: =G11/I11 -> 0.94
B20: =IF(T!$D$2=T!$M$2,O27,IF(T!$D$2=T!$N$2,P27,Q27)) -> False positive rate: | C20: =H11/I11 -> 0.06
B21: =IF(T!$D$2=T!$M$2,O29,IF(T!$D$2=T!$N$2,P29,Q29)) -> Positive predictive value: | C21: =H12/H13 -> 0.13913043
B22: =IF(T!$D$2=T!$M$2,O30,IF(T!$D$2=T!$N$2,P30,Q30)) -> False alarm rate: | C22: =H11/H13 -> 0.86086957
B23: =IF(T!$D$2=T!$M$2,O31,IF(T!$D$2=T!$N$2,P31,Q31)) -> Negative predictive value: | C23: =G11/G13 -> 0.99957035
B24: =IF(T!$D$2=T!$M$2,O32,IF(T!$D$2=T!$N$2,P32,Q32)) -> False reassurance rate: | C24: =G12/G13 -> 0.00042964554 | O24: szenzitivitás: | P24: Sensitivität: | Q24: Sensitivity:
B25: =IF(T!$D$2=T!$M$2,O33,IF(T!$D$2=T!$N$2,P33,Q33)) -> Diagnostic accuracy: | C25: =(G11+H12)/I13 -> 0.9402 | O25: álnegatívarány: | P25: Falschnegativrate | Q25: False negative rate:
O26: specificitás: | P26: Spezifität: | Q26: Specificity:
B27: =IF(T!$D$2=T!$M$2,O35,IF(T!$D$2=T!$N$2,P35,Q35)) -> Questions related to the above test parameters: | O27: álpozitívarány: | P27: Falschpositivrate: | Q27: False positive rate:
B29: =IF(T!$D$2=T!$M$2,O36,IF(T!$D$2=T!$N$2,P36,Q36)) -> What is the probability … | O29: relevancia: | P29: Relevanz: | Q29: Positive predictive value:
B30: =IF(T!$D$2=T!$M$2,O37,IF(T!$D$2=T!$N$2,P37,Q37)) -> … that a person producing a positive test result is indeed diseased? | C30: =H12/H13 -> 0.13913043 | E30: =CONCATENATE("= ",SUBSTITUTE(IF(T!$D$2=T!$M$2,O29,IF(T!$D$2=T!$N$2,P29,Q29)),":","")) -> = Positive predictive value | O30: téves figyelemfelkeltési arány: | P30: Falschalarmrate: | Q30: False alarm rate:
B31: =IF(T!$D$2=T!$M$2,O38,IF(T!$D$2=T!$N$2,P38,Q38)) -> … that a diseased person produces a positive test result? | C31: =H12/I12 -> 0.96 | E31: =CONCATENATE("= ",SUBSTITUTE(IF(T!$D$2=T!$M$2,O24,IF(T!$D$2=T!$N$2,P24,Q24)),":","")) -> = Sensitivity | O31: szegregancia: | P31: Segreganz: | Q31: Negative predictive value:
B32: =IF(T!$D$2=T!$M$2,O39,IF(T!$D$2=T!$N$2,P39,Q39)) -> … that a healthy person is misdiagnosed? | C32: =H11/I11 -> 0.06 | E32: =CONCATENATE("= ",SUBSTITUTE(IF(T!$D$2=T!$M$2,O27,IF(T!$D$2=T!$N$2,P27,Q27)),":","")) -> = False positive rate | O32: téves megnyugtatási arány: | P32: falsche Beruhigungsrate: | Q32: False reassurance rate:
B33: =IF(T!$D$2=T!$M$2,O40,IF(T!$D$2=T!$N$2,P40,Q40)) -> … that a diseased person is correctly diagnosed? | C33: =H12/I12 -> 0.96 | E33: =CONCATENATE("= ",SUBSTITUTE(IF(T!$D$2=T!$M$2,O24,IF(T!$D$2=T!$N$2,P24,Q24)),":","")) -> = Sensitivity | O33: diagnosztikus effektivitás: | P33: diagnostische Effektivität: | Q33: Diagnostic accuracy:
B34: =IF(T!$D$2=T!$M$2,O41,IF(T!$D$2=T!$N$2,P41,Q41)) -> … that a negative test result is false? | C34: =G12/G13 -> 0.00042964554 | E34: =CONCATENATE("= ",SUBSTITUTE(IF(T!$D$2=T!$M$2,O32,IF(T!$D$2=T!$N$2,P32,Q32)),":","")) -> = False reassurance rate
B35: =IF(T!$D$2=T!$M$2,O42,IF(T!$D$2=T!$N$2,P42,Q42)) -> … that a positive test result is true? | C35: =H12/H13 -> 0.13913043 | E35: =CONCATENATE("= ",SUBSTITUTE(IF(T!$D$2=T!$M$2,O29,IF(T!$D$2=T!$N$2,P29,Q29)),":","")) -> = Positive predictive value | O35: A fenti tesztparaméterekhez kapcsolódó kérdések: | P35: Fragen im Zusammenhang mit den oben genannten Testparametern: | Q35: Questions related to the above test parameters:
B36: =IF(T!$D$2=T!$M$2,O43,IF(T!$D$2=T!$N$2,P43,Q43)) -> … that a diseased person's the test result is false? | C36: =G12/I12 -> 0.04 | E36: =CONCATENATE("= ",SUBSTITUTE(IF(T!$D$2=T!$M$2,O25,IF(T!$D$2=T!$N$2,P25,Q25)),":","")) -> = False negative rate | O36: Mi a valószínűsége annak, … | P36: Was ist die Wkeit, … | Q36: What is the probability …
B37: =IF(T!$D$2=T!$M$2,O44,IF(T!$D$2=T!$N$2,P44,Q44)) -> … that a healthy person's test result reflects the actual state? | C37: =G11/I11 -> 0.94 | E37: =CONCATENATE("= ",SUBSTITUTE(IF(T!$D$2=T!$M$2,O26,IF(T!$D$2=T!$N$2,P26,Q26)),":","")) -> = Specificity | O37: … hogy egy pozitív eredményt produkáló páciens valóban beteg? | P37: … dass ein positives Ergebnis anzeigender Patient wirklich krank ist? | Q37: … that a person producing a positive test result is indeed diseased?
B38: =IF(T!$D$2=T!$M$2,O45,IF(T!$D$2=T!$N$2,P45,Q45)) -> … that a positive test result belongs to a healthy person? | C38: =H11/H13 -> 0.86086957 | E38: =CONCATENATE("= ",SUBSTITUTE(IF(T!$D$2=T!$M$2,O30,IF(T!$D$2=T!$N$2,P30,Q30)),":","")) -> = False alarm rate | O38: … hogy egy beteg ember pozitív teszteredményt produkál? | P38: … dass ein Kranker positives Testergebnis anzeigt? | Q38: … that a diseased person produces a positive test result?
B39: =IF(T!$D$2=T!$M$2,O46,IF(T!$D$2=T!$N$2,P46,Q46)) -> … that a negative test result reflects the true state of the person? | C39: =G11/G13 -> 0.99957035 | E39: =CONCATENATE("= ",SUBSTITUTE(IF(T!$D$2=T!$M$2,O31,IF(T!$D$2=T!$N$2,P31,Q31)),":","")) -> = Negative predictive value | O39: … hogy egy egészséges embert félrediagnosztizálunk? | P39: … dass ein Gesunder falsch diagnostisiert wird? | Q39: … that a healthy person is misdiagnosed?
O40: … hogy egy beteg embert helyesen diagnosztiálunk? | P40: … dass ein Kranker richtig diagnostisiert wird? | Q40: … that a diseased person is correctly diagnosed?
B41: =IF(T!$D$2=T!$M$2,O48,IF(T!$D$2=T!$N$2,P48,Q48)) -> Further question: odds, likelihood ratios | O41: … hogy egy negatív teszteredmény hibás? | P41: … dass ein negatives Ergebnis falsch ist? | Q41: … that a negative test result is false?
O42: … hogy egy pozitív teszteredmény igaz? | P42: … dass ein positives Testergebnis richtig ist? | Q42: … that a positive test result is true?
B43: =IF(T!$D$2=T!$M$2,O50,IF(T!$D$2=T!$N$2,P50,Q50)) -> What is the odds that a (randomly selected) person has celiac disease? | C43: =I12/I11 -> 0.01010101 | O43: … hogy egy beteg ember teszteredménye hibás? | P43: … dass das Testergebnis eines Kranken falsch ist? | Q43: … that a diseased person's the test result is false?
B44: =IF(T!$D$2=T!$M$2,O51,IF(T!$D$2=T!$N$2,P51,Q51)) -> What is the positive likelihood-ratio of the IgA test? | C44: =C17/C20 -> 16 | O44: … hogy egy egészséges ember teszteredménye a valós állapotát tükrözi? | P44: … dass das Ergebnis eines Gesunden seinen wirklichen Zustand reflektiert? | Q44: … that a healthy person's test result reflects the actual state?
B45: =IF(T!$D$2=T!$M$2,O52,IF(T!$D$2=T!$N$2,P52,Q52)) -> What is the negative likelihood-ratio of the IgA test? | C45: =C18/C19 -> 0.042553191 | O45: … hogy egy pozitív teszteredmény egészséges emberhez tartozik? | P45: … dass ein positives Ergebnis einem Gesunden gehört? | Q45: … that a positive test result belongs to a healthy person?
B46: =IF(T!$D$2=T!$M$2,O53,IF(T!$D$2=T!$N$2,P53,Q53)) -> What is the odds of a patient being diseased, if the IgA test result is positive? | C46: =C43*C44 -> 0.16161616 | O46: … hogy egy negatív teszteredmény a valós állapotot tükrözi? | P46: … dass ein negatives Ergebnis den wirklichen Zustand reflektiert? | Q46: … that a negative test result reflects the true state of the person?
B47: =IF(T!$D$2=T!$M$2,O54,IF(T!$D$2=T!$N$2,P54,Q54)) -> What is the probability of a patient being diseased, if the IgA test result is positive? | C47: =C46/(1+C46) -> 0.13913043
B48: =IF(T!$D$2=T!$M$2,O55,IF(T!$D$2=T!$N$2,P55,Q55)) -> What is the odds of a patient being diseased, if the IgA test result is negative? | C48: =C43*C45 -> 0.00042983022 | O48: További kérdések: esély(érték)ek, likelihood-hányadosok | P48: Weitere Fragen: Chancen, Likelihood-Quotienten | Q48: Further question: odds, likelihood ratios
B49: =IF(T!$D$2=T!$M$2,O56,IF(T!$D$2=T!$N$2,P56,Q56)) -> What is the probability of a patient being diseased, if the IgA test result is negative? | C49: =C48/(1+C48) -> 0.00042964554
O50: Mekkora az esélye annak, hogy egy (véletlenül kiválasztott) embernek cöliákiája van? | P50: Wie groß ist die Chance, dass eine (zufällig ausgewählte) Person an Zöliakie leidet? | Q50: What is the odds that a (randomly selected) person has celiac disease?
B51: =IF(T!$D$2=T!$M$2,O59,IF(T!$D$2=T!$N$2,P59,Q59)) -> Type 1 diabetes mellitus is a risk factor for celiac disease, the extent of which is shown in the observational results reported in the table below. | O51: Mekkora az IgA-teszt pozitív likelihood-hányadosa? | P51: Wie groß ist der positive Likelihood-Quotient des IgA-Tests? | Q51: What is the positive likelihood-ratio of the IgA test?
O52: Mekkora az IgA-teszt negatív likelihood-hányadosa? | P52: Wie groß ist der negative Likelihood-Quotient des IgA-Tests? | Q52: What is the negative likelihood-ratio of the IgA test?
G53: =IF(T!$D$2=T!$M$2,O60,IF(T!$D$2=T!$N$2,P60,Q60)) -> risk factor: type 1 diabetes mellitus | I53: =IF(T!$D$2=T!$M$2,O14,IF(T!$D$2=T!$N$2,P14,Q14)) -> margin sum | O53: Mekkora az esélye annak, hogy egy páciensünk beteg, ha pozitív az IgA-teszt eredménye? | P53: Wie groß ist die Chance, dass ein Patient krank ist, wenn sein IgA-Testergebnis positiv ist? | Q53: What is the odds of a patient being diseased, if the IgA test result is positive?
G54: =IF(T!$D$2=T!$M$2,O61,IF(T!$D$2=T!$N$2,P61,Q61)) -> absent | H54: =IF(T!$D$2=T!$M$2,O62,IF(T!$D$2=T!$N$2,P62,Q62)) -> present | O54: Mekkora a valószínűsége annak, hogy egy páciensünk beteg, ha pozitív az IgA-teszt eredménye? | P54: Wie groß ist die Wkeit, dass ein Patient krank ist, wenn sein IgA-Testergebnis positiv ist? | Q54: What is the probability of a patient being diseased, if the IgA test result is positive?
E55: =IF(T!$D$2=T!$M$2,O8,IF(T!$D$2=T!$N$2,P8,Q8)) -> true condition (celiac disease) | F55: =IF(T!$D$2=T!$M$2,O9,IF(T!$D$2=T!$N$2,P9,Q9)) -> healthy | G55: 8364 | H55: 1140 | I55: =G55+H55 -> 9504 | O55: Mekkora az esélye annak, hogy egy páciensünk beteg, ha negatív az IgA-teszt eredménye? | P55: Wie groß ist die Chance, dass ein Patient krank ist, wenn sein IgA-Testergebnis negativ ist? | Q55: What is the odds of a patient being diseased, if the IgA test result is negative?
F56: =IF(T!$D$2=T!$M$2,O10,IF(T!$D$2=T!$N$2,P10,Q10)) -> diseased | G56: 36 | H56: 60 | I56: =G56+H56 -> 96 | O56: Mekkora a valószínűsége annak, hogy egy páciensünk beteg, ha negatív az IgA-teszt eredménye? | P56: Wie groß ist die Wkeit, dass ein Patient krank ist, wenn sein IgA-Testergebnis negative ist? | Q56: What is the probability of a patient being diseased, if the IgA test result is negative?
E57: =IF(T!$D$2=T!$M$2,O14,IF(T!$D$2=T!$N$2,P14,Q14)) -> margin sum | G57: =G56+G55 -> 8400 | H57: =H56+H55 -> 1200 | I57: =SUM(G55:H56) -> 9600
B59: =IF(T!$D$2=T!$M$2,O64,IF(T!$D$2=T!$N$2,P64,Q64)) -> What are the odds of celiac disease in someone with diabetes? | C59: =H56/H55 -> 0.052631579 | O59: Az 1-es típusú cukorbtegség rizikótényező a cöliákia esetén, ennek mértékét az alábbi táblázatban közölt megfigyelési eredmények mutatják. | P59: Typ-1-Diabetes mellitus ist ein Risikofaktor für Zöliakie, dessen Ausmaß aus den in der nachstehenden Tabelle aufgeführten Beobachtungsergebnissen hervorgeht. | Q59: Type 1 diabetes mellitus is a risk factor for celiac disease, the extent of which is shown in the observational results reported in the table below.
B60: =IF(T!$D$2=T!$M$2,O65,IF(T!$D$2=T!$N$2,P65,Q65)) -> What are the odds of celiac disease in someone without diabetes? | C60: =G56/G55 -> 0.0043041607 | O60: rizikótényező: 1. típusú cukorbetegség | P60: Risikofaktor | Q60: risk factor: type 1 diabetes mellitus
B61: =IF(T!$D$2=T!$M$2,O66,IF(T!$D$2=T!$N$2,P66,Q66)) -> What is the odds ratio (OR) of celiac disease in people with diabetes compared to people without diabetes? | C61: =C59/C60 -> 12.22807 | O61: nincs | P61: abwesend | Q61: absent
B62: =IF(T!$D$2=T!$M$2,O67,IF(T!$D$2=T!$N$2,P67,Q67)) -> What is the risk (probability) of celiac disease in people with diabetes? | C62: =H56/H57 -> 0.05 | O62: van | P62: anwesend | Q62: present
B63: =IF(T!$D$2=T!$M$2,O68,IF(T!$D$2=T!$N$2,P68,Q68)) -> What is the risk of celiac disease in people without diabetes? | C63: =G56/G57 -> 0.0042857143
B64: =IF(T!$D$2=T!$M$2,O69,IF(T!$D$2=T!$N$2,P69,Q69)) -> What is the risk ratio (RR) of celiac disease in people with diabetes compared to people without diabetes? | C64: =C62/C63 -> 11.666667 | O64: Mekkora a cöliákia esély(érték)e cukorbetegeknél? | P64: Wie groß ist die Chance an Zöliakie zu erkranken, wenn man Diabetes hat? | Q64: What are the odds of celiac disease in someone with diabetes?
O65: Mekkora a cöliákia esélye annál, aki nem cukorbeteg? | P65: Wie groß ist die Chance an Zöliakie zu erkranken, wenn man keinen Diabetes hat? | Q65: What are the odds of celiac disease in someone without diabetes?
B66: =IF(T!$D$2=T!$M$2,O71,IF(T!$D$2=T!$N$2,P71,Q71)) -> What is the probability of not having the risk factor (i.e. diabetes) among non-celiac people? | C66: =G55/I55 -> 0.88005051 | O66: Mekkora a cöliákia esélyhányadosa (OR) a cukorbetegek esetén a nem cukorbetegekre vonatkoztatva? | P66: Wie hoch ist das Chancenverhältnis (OR) für Zöliakie bei Menschen mit Diabetes im Vergleich zu Menschen ohne Diabetes? | Q66: What is the odds ratio (OR) of celiac disease in people with diabetes compared to people without diabetes?
B67: =IF(T!$D$2=T!$M$2,O72,IF(T!$D$2=T!$N$2,P72,Q72)) -> What would the previous indicator be referred to as if it was not a risk factor but a diagnostic test result? | C67: =LEFT(B19,LEN(B19)-1) -> Specificity | O67: Mekkora a cöliákia kockázata (rizikója, valószínűsége) cukorbetegeknél? | P67: Wie hoch ist das Risiko (Wkeit) einer Zöliakie bei Menschen mit Diabetes? | Q67: What is the risk (probability) of celiac disease in people with diabetes?
B68: =IF(T!$D$2=T!$M$2,O73,IF(T!$D$2=T!$N$2,P73,Q73)) -> What is the probability of the presence of the risk factor among people with celiac disease? | C68: =H56/I56 -> 0.625 | O68: Mekkora a cöliákia kockázata annál, aki nem cukorbeteg? | P68: Wie hoch ist das Risiko einer Zöliakie bei Menschen ohne Diabetes? | Q68: What is the risk of celiac disease in people without diabetes?
B69: =IF(T!$D$2=T!$M$2,O74,IF(T!$D$2=T!$N$2,P74,Q74)) -> What would the previous indicator be referred to as if it was not a risk factor but a diagnostic test result? | C69: =LEFT(B17,LEN(B17)-1) -> Sensitivity | O69: Mekkora a cöliákia relatív kockázata (RR) a cukorbetegek esetén a nem cukorbetegekre vonatkoztatva? | P69: Wie groß ist das relative Risiko (RR) für Zöliakie bei Menschen mit Diabetes im Vergleich zu Menschen ohne Diabetes? | Q69: What is the risk ratio (RR) of celiac disease in people with diabetes compared to people without diabetes?
B70: =IF(T!$D$2=T!$M$2,O75,IF(T!$D$2=T!$N$2,P75,Q75)) -> What is the LR+ value for celiac disease? | C70: =C68/(1-C66) -> 5.2105263
B71: =IF(T!$D$2=T!$M$2,O76,IF(T!$D$2=T!$N$2,P76,Q76)) -> What is the LR– value for celiac disease? | C71: =(1-C68)/C66 -> 0.42611191 | O71: Mekkora a valószínűsége a rizikótényező (azaz a cukorbetegség) hiányának a nem cöliákások között? | P71: Wie groß ist die Wkeit, dass der Risikofaktor (z. B. Diabetes) bei Nicht-Zöliakie-Betroffenen nicht auftritt? | Q71: What is the probability of not having the risk factor (i.e. diabetes) among non-celiac people?
O72: Mi lenne a neve az előző mutatónak, ha nem rizikótényezőről, hanem diagnosztikai teszt eredményéről lenne szó? | P72: Wie würde der vorherige Indikator heißen, wenn es sich nicht um einen Risikofaktor, sondern um ein diagnostisches Testergebnis handeln würde? | Q72: What would the previous indicator be referred to as if it was not a risk factor but a diagnostic test result?
B73: =IF(T!$D$2=T!$M$2,O79,IF(T!$D$2=T!$N$2,P79,Q79)) -> We know the LR of 3 additional symptoms: | F73: =IF(T!$D$2=T!$M$2,O83,IF(T!$D$2=T!$N$2,P83,Q83)) -> LR+ | G73: =IF(T!$D$2=T!$M$2,O84,IF(T!$D$2=T!$N$2,P84,Q84)) -> LR– | O73: Mekkora a valószínűsége a rizikótényező jelenlétének a cöliákiások között? | P73: Wie groß ist die Wkeit des Vorhandenseins des Risikofaktors bei Menschen mit Zöliakie? | Q73: What is the probability of the presence of the risk factor among people with celiac disease?
E74: =IF(T!$D$2=T!$M$2,O80,IF(T!$D$2=T!$N$2,P80,Q80)) -> Flatulence | F74: 1.33 | G74: 0.56 | O74: Mi lenne a neve az előző mutatónak, ha nem rizikótényezőről, hanem diagnosztikai teszt eredményéről lenne szó? | P74: Wie würde der vorherige Indikator heißen, wenn es sich nicht um einen Risikofaktor, sondern um ein diagnostisches Testergebnis handeln würde? | Q74: What would the previous indicator be referred to as if it was not a risk factor but a diagnostic test result?
E75: =IF(T!$D$2=T!$M$2,O81,IF(T!$D$2=T!$N$2,P81,Q81)) -> Weight loss | F75: 1.14 | G75: 0.89 | O75: Mekkora a cöliákia LR+ értéke? | P75: Wie hoch ist der LR+ Wert für Zöliakie? | Q75: What is the LR+ value for celiac disease?
E76: =IF(T!$D$2=T!$M$2,O82,IF(T!$D$2=T!$N$2,P82,Q82)) -> Nausea | F76: 0.77 | G76: 1.08 | O76: Mekkora a cöliákia LR– értéke? | P76: Wie hoch ist der LR– Wert für Zöliakie? | Q76: What is the LR– value for celiac disease?
B78: =IF(T!$D$2=T!$M$2,O86,IF(T!$D$2=T!$N$2,P86,Q86)) -> What are the odds that our patient has celiac disease if • he has diabetes, • he has flatulence and lost weight, • he does not have nausea, and • the result of the IgA test is unknown? | C78: =C43*C70*F74*F75*G76 -> 0.086184
B79: =IF(T!$D$2=T!$M$2,O87,IF(T!$D$2=T!$N$2,P87,Q87)) -> What is the corresponding probability? | C79: =C78/(1+C78) -> 0.079345673 | O79: További 3 tünet LR értékeit is ismerjük az adott betegségre: | P79: Wir kennen die Likelihood-Quotienten auch von weiteren 3 Symptomen der gegebenen Krankheit: | Q79: We know the LR of 3 additional symptoms:
B80: =IF(T!$D$2=T!$M$2,O88,IF(T!$D$2=T!$N$2,P88,Q88)) -> What are the odds that our patient has celiac disease if • his IgA test result is negative, • he has diabetes, and • all three symptoms are present? | C80: =C43*C45*C70*F74*F75*F76 -> 0.0026147234 | O80: Puffadás | P80: Blähung | Q80: Flatulence
B81: =IF(T!$D$2=T!$M$2,O89,IF(T!$D$2=T!$N$2,P89,Q89)) -> What is the corresponding probability? | C81: =C80/(1+C80) -> 0.0026079045 | O81: Súlyvesztés | P81: Gewichtsverlust | Q81: Weight loss
B82: =IF(T!$D$2=T!$M$2,O90,IF(T!$D$2=T!$N$2,P90,Q90)) -> What are the odds that our patient has celiac disease if • his IgA test result is positive, • he has diabetes, but • none of the symptoms are present? | C82: =C43*C44*C70*G74*G75*G76 -> 0.45328168 | O82: Émelygés | P82: Übelkeit | Q82: Nausea
B83: =IF(T!$D$2=T!$M$2,O91,IF(T!$D$2=T!$N$2,P91,Q91)) -> What is the corresponding probability? | C83: =C82/(1+C82) -> 0.31190215 | O83: LR+ | P83: LR+ | Q83: LR+
O84: LR– | P84: LR– | Q84: LR–
O86: Mekkora az esélye, hogy páciensünk cöliákiás, ha • cukorbeteg, • puffad és súlyt vesztett, • nincs émelygése, és • az IgA-teszt eredményét nem ismerjük? | P86: Wie groß ist die Chance, dass unser Patient Zöliakie hat, wenn • er Diabetes hat, • er ist aufgebläht und hat an Gewicht verloren, • er hat keine Übelkeit, und • wir kennen das Ergebnis des IgA-Tests nicht? | Q86: What are the odds that our patient has celiac disease if • he has diabetes, • he has flatulence and lost weight, • he does not have nausea, and • the result of the IgA test is unknown?
O87: Mekkora a megfelelő valószínűség? | P87: Wie groß ist die entsprechende Wkeit? | Q87: What is the corresponding probability?
O88: Mekkora az esélye, hogy páciensünk cöliákiás, ha • az IgA-teszt eredménye negatív, • cukorbeteg és • mind a három tünete pozitív? | P88: Wie groß ist die Chance, dass unser Patient Zöliakie hat, wenn • das Ergebnis des IgA-Tests negativ ist, • er ist Zuckerkrank und • alle drei Symptomen sin anwesend? | Q88: What are the odds that our patient has celiac disease if • his IgA test result is negative, • he has diabetes, and • all three symptoms are present?
O89: Mekkora a megfelelő valószínűség? | P89: Wie groß ist die entsprechende Wkeit? | Q89: What is the corresponding probability?
O90: Mekkora az esélye, hogy páciensünk cöliákiás, ha • az IgA-teszt eredménye pozitív, • cukorbeteg, de • tünetmentes? | P90: Wie groß ist die Chance, dass unser Patient Zöliakie hat, wenn • das Ergebnis des IgA-Tests positiv ist, und • er ist Zuckerkranke, aber • er hat keine der Symptomen? | Q90: What are the odds that our patient has celiac disease if • his IgA test result is positive, • he has diabetes, but • none of the symptoms are present?
O91: Mekkora a megfelelő valószínűség? | P91: Wie groß ist die entsprechende Wkeit? | Q91: What is the corresponding probability?
