Workbook
Name nyelv: T!$M$2:$O$2

Sheet T
B2: Válassz a legördülő listából egy nyelvet! Wahl eine Sprache aus der herunterrollenden Liste! Choose a language from the drop-down list. | D2: English | M2: magyar | N2: deutsch | O2: English
C3: =IF($D$2=$M$2,M3,IF($D$2=$N$2,N3,O3)) -> Created by: Gergely AGÓCS PhD (Please send comments and reflections (e.g. on possible errors) to: gergelyagocs at gmail com) | M3: Készítette: dr. Agócs Gergely (Észrevételeket (pl. esetleges hibákról, hiányosságokról) kérlek ide írd meg: gergelyagocs kukac gmail com) | N3: Erarbeitet von: Gergely AGÓCS PhD (Bemerkungen (z.B. zu eventuellen Fehler) bitte an: gergelyagocs Klammeraffe gmail com) | O3: Created by: Gergely AGÓCS PhD (Please send comments and reflections (e.g. on possible errors) to: gergelyagocs at gmail com)
M4: Tartalomjegyzék | N4: Inhalt | O4: Contents
M5: Excel használatának alapjai | N5: Anwendung der Excelfunktionen | O5: Excel basics
M6: Függvénytan | N6: Funktionslehre | O6: Elements of functions
M7: Gyakoriságok | N7: Häufigkeiten | O7: Frequencies
M8: Adathalmaz statisztikai paraméterei | N8: Statistische Parameter von Datenmengen | O8: Statistical parameters of a dataset
M9: Kombinatorika, diszkrét eloszlások | N9: Kombinatorik, diskrete Verteilungen | O9: Combinatorics, discrete distributions
M10: Pontbecslés | N10: Punktschätzung | O10: Point estimation
M11: Normális eloszlás | N11: Normalverteilung | O11: Normal distribution
M12: t-eloszlás, intervallumbecslés | N12: t-Verteilung, Intervallschätzung | O12: t-distribution, interval estimation
M13: Bevezetés a hipotézisvizsgálatba | N13: Einleitung in der Hypothesenprüfung | O13: Introduction to hypothesis testing
M14: t-próbák, F-próba, ANOVA | N14: Student t-Test, F-Test, ANOVA | O14: Student's t-test, F-test, ANOVA
M15: Rangpróbák | N15: Rangteste | O15: Rank tests
... M18: Diagnosztikai tesztek kiértékelése | N18: Auswertung von diagnostischen Testen | O18: Evaluation of diagnostic tests

Sheet p12f
B2: =IF(T!$D$2=T!$M$2,O2,IF(T!$D$2=T!$N$2,P2,Q2)) -> Enter the requested values in the green cells. | O2: Írd be a kért értékeket a zöld cellákba! | P2: Tragen Sie die gewünschten Werte in die grünen Felder ein! | Q2: Enter the requested values in the green cells.
O3: A cöliákia (gluténérzékenység) az Egyesült Államokban körülbelül 100-ból 1 embert érint. Ennek a betegségnek diagnosztizálására használható az IgA szöveti transzglutamináz teszt (továbbiakban: IgA-teszt). | P3: Die Zöliakie (Glutensensitivität) betrifft etwa 1 von 100 Menschen in den Vereinigten Staaten. Der IgA-Gewebetransglutaminase-Test (im Folgenden: IgA-Test) kann zur Diagnose dieser Krankheit verwendet werden. | Q3: Celiac disease (gluten sensitivity) affects approximately about 1 in 100 people in the United States. The IgA tissue transglutaminase test (hereafter: IgA test) can be used to diagnose this disease.
B4: =IF(T!$D$2=T!$M$2,O3,IF(T!$D$2=T!$N$2,P3,Q3)) -> Celiac disease (gluten sensitivity) affects approximately about 1 in 100 people in the United States. The IgA tissue transglutaminase test (hereafter: IgA test) can be used to diagnose this disease. | O4: A módszer szenzitivitása 96%, specificitása 94%. | P4: Die Methode hat eine Sensitivität von 96% und eine Spezifität von 94%. | Q4: The method has a sensitivity of 96% and a specificity of 94%.
B5: =IF(T!$D$2=T!$M$2,O4,IF(T!$D$2=T!$N$2,P4,Q4)) -> The method has a sensitivity of 96% and a specificity of 94%.
O6: Állítsd össze az igazságmátrixot! | P6: Erstelle die Wahrheitsmatrix. | Q6: Construct the confusion matrix.
B7: =IF(T!$D$2=T!$M$2,O6,IF(T!$D$2=T!$N$2,P6,Q6)) -> Construct the confusion matrix. | O7: az igazságmátrix elkészítése lépésről lépésre: | P7: Schritt-für-Schritt Erstellen der Wahrheitsmatrix: | Q7: step-by-step construction of the confusion matrix:
O8: a tényleges állapot (cöliákia) | P8: tatsächlicher Zustand (Zöliakie) | Q8: true condition (celiac disease)
G9: =IF(T!$D$2=T!$M$2,O11,IF(T!$D$2=T!$N$2,P11,Q11)) -> result of the IgA test | I9: =IF(T!$D$2=T!$M$2,O14,IF(T!$D$2=T!$N$2,P14,Q14)) -> margin sum | O9: egészséges | P9: gesund | Q9: healthy
G10: =IF(T!$D$2=T!$M$2,O12,IF(T!$D$2=T!$N$2,P12,Q12)) -> negative | H10: =IF(T!$D$2=T!$M$2,O13,IF(T!$D$2=T!$N$2,P13,Q13)) -> positive | O10: beteg | P10: krank | Q10: diseased
E11: =IF(T!$D$2=T!$M$2,O8,IF(T!$D$2=T!$N$2,P8,Q8)) -> true condition (celiac disease) | F11: =IF(T!$D$2=T!$M$2,O9,IF(T!$D$2=T!$N$2,P9,Q9)) -> healthy | K11: =IFERROR(IF(G11="","×",IF(AND(G11>p12m!G11*0.999999,G11<p12m!G11*(2-0.999999))=TRUE,"✓","×")),"×") -> × | L11: =IFERROR(IF(H11="","×",IF(AND(H11>p12m!H11*0.999999,H11<p12m!H11*(2-0.999999))=TRUE,"✓","×")),"×") -> × | M11: =IFERROR(IF(I11="","×",IF(AND(I11>p12m!I11*0.999999,I11<p12m!I11*(2-0.999999))=TRUE,"✓","×")),"×") -> × | O11: az IgA-teszt eredménye | P11: Ergebins des IgA-Tests | Q11: result of the IgA test
F12: =IF(T!$D$2=T!$M$2,O10,IF(T!$D$2=T!$N$2,P10,Q10)) -> diseased | K12: =IFERROR(IF(G12="","×",IF(AND(G12>p12m!G12*0.999999,G12<p12m!G12*(2-0.999999))=TRUE,"✓","×")),"×") -> × | L12: =IFERROR(IF(H12="","×",IF(AND(H12>p12m!H12*0.999999,H12<p12m!H12*(2-0.999999))=TRUE,"✓","×")),"×") -> × | M12: =IFERROR(IF(I12="","×",IF(AND(I12>p12m!I12*0.999999,I12<p12m!I12*(2-0.999999))=TRUE,"✓","×")),"×") -> × | O12: negatív | P12: negativ | Q12: negative
E13: =IF(T!$D$2=T!$M$2,O14,IF(T!$D$2=T!$N$2,P14,Q14)) -> margin sum | K13: =IFERROR(IF(G13="","×",IF(AND(G13>p12m!G13*0.999999,G13<p12m!G13*(2-0.999999))=TRUE,"✓","×")),"×") -> × | L13: =IFERROR(IF(H13="","×",IF(AND(H13>p12m!H13*0.999999,H13<p12m!H13*(2-0.999999))=TRUE,"✓","×")),"×") -> × | M13: =IFERROR(IF(I13="","×",IF(AND(I13>p12m!I13*0.999999,I13<p12m!I13*(2-0.999999))=TRUE,"✓","×")),"×") -> × | O13: pozitív | P13: positiv | Q13: positive
O14: szélösszeg | P14: Randhäufigkeit | Q14: margin sum
B15: =IF(T!$D$2=T!$M$2,O15,IF(T!$D$2=T!$N$2,P15,Q15)) -> Give the following parameters. | O15: Add meg a következő paramétereket! | P15: Geben Sie die folgenden Parameter an! | Q15: Give the following parameters.
B17: =IF(T!$D$2=T!$M$2,O24,IF(T!$D$2=T!$N$2,P24,Q24)) -> Sensitivity: | D17: =IFERROR(IF(C17="","×",IF(AND(C17>p12m!C17*0.999999,C17<p12m!C17*(2-0.999999))=TRUE,"✓","×")),"×") -> ×
B18: =IF(T!$D$2=T!$M$2,O25,IF(T!$D$2=T!$N$2,P25,Q25)) -> False negative rate: | D18: =IFERROR(IF(C18="","×",IF(AND(C18>p12m!C18*0.999999,C18<p12m!C18*(2-0.999999))=TRUE,"✓","×")),"×") -> ×
B19: =IF(T!$D$2=T!$M$2,O26,IF(T!$D$2=T!$N$2,P26,Q26)) -> Specificity: | D19: =IFERROR(IF(C19="","×",IF(AND(C19>p12m!C19*0.999999,C19<p12m!C19*(2-0.999999))=TRUE,"✓","×")),"×") -> ×
B20: =IF(T!$D$2=T!$M$2,O27,IF(T!$D$2=T!$N$2,P27,Q27)) -> False positive rate: | D20: =IFERROR(IF(C20="","×",IF(AND(C20>p12m!C20*0.999999,C20<p12m!C20*(2-0.999999))=TRUE,"✓","×")),"×") -> ×
B21: =IF(T!$D$2=T!$M$2,O29,IF(T!$D$2=T!$N$2,P29,Q29)) -> Positive predictive value: | D21: =IFERROR(IF(C21="","×",IF(AND(C21>p12m!C21*0.999999,C21<p12m!C21*(2-0.999999))=TRUE,"✓","×")),"×") -> ×
B22: =IF(T!$D$2=T!$M$2,O30,IF(T!$D$2=T!$N$2,P30,Q30)) -> False alarm rate: | D22: =IFERROR(IF(C22="","×",IF(AND(C22>p12m!C22*0.999999,C22<p12m!C22*(2-0.999999))=TRUE,"✓","×")),"×") -> ×
B23: =IF(T!$D$2=T!$M$2,O31,IF(T!$D$2=T!$N$2,P31,Q31)) -> Negative predictive value: | D23: =IFERROR(IF(C23="","×",IF(AND(C23>p12m!C23*0.999999,C23<p12m!C23*(2-0.999999))=TRUE,"✓","×")),"×") -> ×
B24: =IF(T!$D$2=T!$M$2,O32,IF(T!$D$2=T!$N$2,P32,Q32)) -> False reassurance rate: | D24: =IFERROR(IF(C24="","×",IF(AND(C24>p12m!C24*0.999999,C24<p12m!C24*(2-0.999999))=TRUE,"✓","×")),"×") -> × | O24: szenzitivitás: | P24: Sensitivität: | Q24: Sensitivity:
B25: =IF(T!$D$2=T!$M$2,O33,IF(T!$D$2=T!$N$2,P33,Q33)) -> Diagnostic accuracy: | D25: =IFERROR(IF(C25="","×",IF(AND(C25>p12m!C25*0.999999,C25<p12m!C25*(2-0.999999))=TRUE,"✓","×")),"×") -> × | O25: álnegatívarány: | P25: Falschnegativrate | Q25: False negative rate:
O26: specificitás: | P26: Spezifität: | Q26: Specificity:
B27: =IF(T!$D$2=T!$M$2,O35,IF(T!$D$2=T!$N$2,P35,Q35)) -> Questions related to the above test parameters: | O27: álpozitívarány: | P27: Falschpositivrate: | Q27: False positive rate:
B29: =IF(T!$D$2=T!$M$2,O36,IF(T!$D$2=T!$N$2,P36,Q36)) -> What is the probability … | O29: relevancia: | P29: Relevanz: | Q29: Positive predictive value:
B30: =IF(T!$D$2=T!$M$2,O37,IF(T!$D$2=T!$N$2,P37,Q37)) -> … that a person producing a positive test result is indeed diseased? | D30: =IFERROR(IF(C30="","×",IF(AND(C30>p12m!C30*0.999999,C30<p12m!C30*(2-0.999999))=TRUE,"✓","×")),"×") -> × | O30: téves figyelemfelkeltési arány: | P30: Falschalarmrate: | Q30: False alarm rate:
B31: =IF(T!$D$2=T!$M$2,O38,IF(T!$D$2=T!$N$2,P38,Q38)) -> … that a diseased person produces a positive test result? | D31: =IFERROR(IF(C31="","×",IF(AND(C31>p12m!C31*0.999999,C31<p12m!C31*(2-0.999999))=TRUE,"✓","×")),"×") -> × | O31: szegregancia: | P31: Segreganz: | Q31: Negative predictive value:
B32: =IF(T!$D$2=T!$M$2,O39,IF(T!$D$2=T!$N$2,P39,Q39)) -> … that a healthy person is misdiagnosed? | D32: =IFERROR(IF(C32="","×",IF(AND(C32>p12m!C32*0.999999,C32<p12m!C32*(2-0.999999))=TRUE,"✓","×")),"×") -> × | O32: téves megnyugtatási arány: | P32: falsche Beruhigungsrate: | Q32: False reassurance rate:
B33: =IF(T!$D$2=T!$M$2,O40,IF(T!$D$2=T!$N$2,P40,Q40)) -> … that a diseased person is correctly diagnosed? | D33: =IFERROR(IF(C33="","×",IF(AND(C33>p12m!C33*0.999999,C33<p12m!C33*(2-0.999999))=TRUE,"✓","×")),"×") -> × | O33: diagnosztikus effektivitás: | P33: diagnostische Effektivität: | Q33: Diagnostic accuracy:
B34: =IF(T!$D$2=T!$M$2,O41,IF(T!$D$2=T!$N$2,P41,Q41)) -> … that a negative test result is false? | D34: =IFERROR(IF(C34="","×",IF(AND(C34>p12m!C34*0.999999,C34<p12m!C34*(2-0.999999))=TRUE,"✓","×")),"×") -> ×
B35: =IF(T!$D$2=T!$M$2,O42,IF(T!$D$2=T!$N$2,P42,Q42)) -> … that a positive test result is true? | D35: =IFERROR(IF(C35="","×",IF(AND(C35>p12m!C35*0.999999,C35<p12m!C35*(2-0.999999))=TRUE,"✓","×")),"×") -> × | O35: A fenti tesztparaméterekhez kapcsolódó kérdések: | P35: Fragen im Zusammenhang mit den oben genannten Testparametern: | Q35: Questions related to the above test parameters:
B36: =IF(T!$D$2=T!$M$2,O43,IF(T!$D$2=T!$N$2,P43,Q43)) -> … that a diseased person's the test result is false? | D36: =IFERROR(IF(C36="","×",IF(AND(C36>p12m!C36*0.999999,C36<p12m!C36*(2-0.999999))=TRUE,"✓","×")),"×") -> × | O36: Mi a valószínűsége annak, … | P36: Was ist die Wkeit, … | Q36: What is the probability …
B37: =IF(T!$D$2=T!$M$2,O44,IF(T!$D$2=T!$N$2,P44,Q44)) -> … that a healthy person's test result reflects the actual state? | D37: =IFERROR(IF(C37="","×",IF(AND(C37>p12m!C37*0.999999,C37<p12m!C37*(2-0.999999))=TRUE,"✓","×")),"×") -> × | O37: … hogy egy pozitív eredményt produkáló páciens valóban beteg? | P37: … dass ein positives Ergebnis anzeigender Patient wirklich krank ist? | Q37: … that a person producing a positive test result is indeed diseased?
B38: =IF(T!$D$2=T!$M$2,O45,IF(T!$D$2=T!$N$2,P45,Q45)) -> … that a positive test result belongs to a healthy person? | D38: =IFERROR(IF(C38="","×",IF(AND(C38>p12m!C38*0.999999,C38<p12m!C38*(2-0.999999))=TRUE,"✓","×")),"×") -> × | O38: … hogy egy beteg ember pozitív teszteredményt produkál? | P38: … dass ein Kranker positives Testergebnis anzeigt? | Q38: … that a diseased person produces a positive test result?
B39: =IF(T!$D$2=T!$M$2,O46,IF(T!$D$2=T!$N$2,P46,Q46)) -> … that a negative test result reflects the true state of the person? | D39: =IFERROR(IF(C39="","×",IF(AND(C39>p12m!C39*0.999999,C39<p12m!C39*(2-0.999999))=TRUE,"✓","×")),"×") -> × | O39: … hogy egy egészséges embert félrediagnosztizálunk? | P39: … dass ein Gesunder falsch diagnostisiert wird? | Q39: … that a healthy person is misdiagnosed?
O40: … hogy egy beteg embert helyesen diagnosztiálunk? | P40: … dass ein Kranker richtig diagnostisiert wird? | Q40: … that a diseased person is correctly diagnosed?
B41: =IF(T!$D$2=T!$M$2,O48,IF(T!$D$2=T!$N$2,P48,Q48)) -> Further question: odds, likelihood ratios | O41: … hogy egy negatív teszteredmény hibás? | P41: … dass ein negatives Ergebnis falsch ist? | Q41: … that a negative test result is false?
O42: … hogy egy pozitív teszteredmény igaz? | P42: … dass ein positives Testergebnis richtig ist? | Q42: … that a positive test result is true?
B43: =IF(T!$D$2=T!$M$2,O50,IF(T!$D$2=T!$N$2,P50,Q50)) -> What is the odds that a (randomly selected) person has celiac disease? | D43: =IFERROR(IF(C43="","×",IF(AND(C43>p12m!C43*0.999999,C43<p12m!C43*(2-0.999999))=TRUE,"✓","×")),"×") -> × | O43: … hogy egy beteg ember teszteredménye hibás? | P43: … dass das Testergebnis eines Kranken falsch ist? | Q43: … that a diseased person's the test result is false?
...

Sheet p12m
B2: =IF(T!$D$2=T!$M$2,O2,IF(T!$D$2=T!$N$2,P2,Q2)) -> Enter the requested values in the green cells. | O2: Írd be a kért értékeket a zöld cellákba! | P2: Tragen Sie die gewünschten Werte in die grünen Felder ein! | Q2: Enter the requested values in the green cells.
O3: A cöliákia (gluténérzékenység) az Egyesült Államokban körülbelül 100-ból 1 embert érint. Ennek a betegségnek diagnosztizálására használható az IgA szöveti transzglutamináz teszt (továbbiakban: IgA-teszt). | P3: Die Zöliakie (Glutensensitivität) betrifft etwa 1 von 100 Menschen in den Vereinigten Staaten. Der IgA-Gewebetransglutaminase-Test (im Folgenden: IgA-Test) kann zur Diagnose dieser Krankheit verwendet werden. | Q3: Celiac disease (gluten sensitivity) affects approximately about 1 in 100 people in the United States. The IgA tissue transglutaminase test (hereafter: IgA test) can be used to diagnose this disease.
B4: =IF(T!$D$2=T!$M$2,O3,IF(T!$D$2=T!$N$2,P3,Q3)) -> Celiac disease (gluten sensitivity) affects approximately about 1 in 100 people in the United States. The IgA tissue transglutaminase test (hereafter: IgA test) can be used to diagnose this disease. | O4: A módszer szenzitivitása 96%, specificitása 94%. | P4: Die Methode hat eine Sensitivität von 96% und eine Spezifität von 94%. | Q4: The method has a sensitivity of 96% and a specificity of 94%.
B5: =IF(T!$D$2=T!$M$2,O4,IF(T!$D$2=T!$N$2,P4,Q4)) -> The method has a sensitivity of 96% and a specificity of 94%.
O6: Állítsd össze az igazságmátrixot! | P6: Erstelle die Wahrheitsmatrix. | Q6: Construct the confusion matrix.
B7: =IF(T!$D$2=T!$M$2,O6,IF(T!$D$2=T!$N$2,P6,Q6)) -> Construct the confusion matrix. | O7: az igazságmátrix elkészítése lépésről lépésre: | P7: Schritt-für-Schritt Erstellen der Wahrheitsmatrix: | Q7: step-by-step construction of the confusion matrix:
O8: a tényleges állapot (cöliákia) | P8: tatsächlicher Zustand (Zöliakie) | Q8: true condition (celiac disease)
G9: =IF(T!$D$2=T!$M$2,O11,IF(T!$D$2=T!$N$2,P11,Q11)) -> result of the IgA test | I9: =IF(T!$D$2=T!$M$2,O14,IF(T!$D$2=T!$N$2,P14,Q14)) -> margin sum | O9: egészséges | P9: gesund | Q9: healthy
G10: =IF(T!$D$2=T!$M$2,O12,IF(T!$D$2=T!$N$2,P12,Q12)) -> negative | H10: =IF(T!$D$2=T!$M$2,O13,IF(T!$D$2=T!$N$2,P13,Q13)) -> positive | O10: beteg | P10: krank | Q10: diseased
E11: =IF(T!$D$2=T!$M$2,O8,IF(T!$D$2=T!$N$2,P8,Q8)) -> true condition (celiac disease) | F11: =IF(T!$D$2=T!$M$2,O9,IF(T!$D$2=T!$N$2,P9,Q9)) -> healthy | G11: =I11*0.94 -> 0.9306 | H11: =I11-G11 -> 0.0594 | I11: =I13-I12 -> 0.99 | O11: az IgA-teszt eredménye | P11: Ergebins des IgA-Tests | Q11: result of the IgA test
F12: =IF(T!$D$2=T!$M$2,O10,IF(T!$D$2=T!$N$2,P10,Q10)) -> diseased | G12: =I12-H12 -> 0.0004 | H12: =I12*0.96 -> 0.0096 | I12: =1/100 -> 0.01 | O12: negatív | P12: negativ | Q12: negative
E13: =IF(T!$D$2=T!$M$2,O14,IF(T!$D$2=T!$N$2,P14,Q14)) -> margin sum | G13: =G12+G11 -> 0.931 | H13: =H12+H11 -> 0.069 | I13: 1 | O13: pozitív | P13: positiv | Q13: positive
O14: szélösszeg | P14: Randhäufigkeit | Q14: margin sum
B15: =IF(T!$D$2=T!$M$2,O15,IF(T!$D$2=T!$N$2,P15,Q15)) -> Give the following parameters. | O15: Add meg a következő paramétereket! | P15: Geben Sie die folgenden Parameter an! | Q15: Give the following parameters.
B17: =IF(T!$D$2=T!$M$2,O24,IF(T!$D$2=T!$N$2,P24,Q24)) -> Sensitivity: | C17: =H12/I12 -> 0.96
B18: =IF(T!$D$2=T!$M$2,O25,IF(T!$D$2=T!$N$2,P25,Q25)) -> False negative rate: | C18: =G12/I12 -> 0.04
B19: =IF(T!$D$2=T!$M$2,O26,IF(T!$D$2=T!$N$2,P26,Q26)) -> Specificity: | C19: =G11/I11 -> 0.94
B20: =IF(T!$D$2=T!$M$2,O27,IF(T!$D$2=T!$N$2,P27,Q27)) -> False positive rate: | C20: =H11/I11 -> 0.06
B21: =IF(T!$D$2=T!$M$2,O29,IF(T!$D$2=T!$N$2,P29,Q29)) -> Positive predictive value: | C21: =H12/H13 -> 0.13913043
B22: =IF(T!$D$2=T!$M$2,O30,IF(T!$D$2=T!$N$2,P30,Q30)) -> False alarm rate: | C22: =H11/H13 -> 0.86086957
B23: =IF(T!$D$2=T!$M$2,O31,IF(T!$D$2=T!$N$2,P31,Q31)) -> Negative predictive value: | C23: =G11/G13 -> 0.99957035
B24: =IF(T!$D$2=T!$M$2,O32,IF(T!$D$2=T!$N$2,P32,Q32)) -> False reassurance rate: | C24: =G12/G13 -> 0.00042964554 | O24: szenzitivitás: | P24: Sensitivität: | Q24: Sensitivity:
B25: =IF(T!$D$2=T!$M$2,O33,IF(T!$D$2=T!$N$2,P33,Q33)) -> Diagnostic accuracy: | C25: =(G11+H12)/I13 -> 0.9402 | O25: álnegatívarány: | P25: Falschnegativrate | Q25: False negative rate:
O26: specificitás: | P26: Spezifität: | Q26: Specificity:
B27: =IF(T!$D$2=T!$M$2,O35,IF(T!$D$2=T!$N$2,P35,Q35)) -> Questions related to the above test parameters: | O27: álpozitívarány: | P27: Falschpositivrate: | Q27: False positive rate:
B29: =IF(T!$D$2=T!$M$2,O36,IF(T!$D$2=T!$N$2,P36,Q36)) -> What is the probability … | O29: relevancia: | P29: Relevanz: | Q29: Positive predictive value:
B30: =IF(T!$D$2=T!$M$2,O37,IF(T!$D$2=T!$N$2,P37,Q37)) -> … that a person producing a positive test result is indeed diseased? | C30: =H12/H13 -> 0.13913043 | E30: =CONCATENATE("= ",SUBSTITUTE(IF(T!$D$2=T!$M$2,O29,IF(T!$D$2=T!$N$2,P29,Q29)),":","")) -> = Positive predictive value | O30: téves figyelemfelkeltési arány: | P30: Falschalarmrate: | Q30: False alarm rate:
B31: =IF(T!$D$2=T!$M$2,O38,IF(T!$D$2=T!$N$2,P38,Q38)) -> … that a diseased person produces a positive test result? | C31: =H12/I12 -> 0.96 | E31: =CONCATENATE("= ",SUBSTITUTE(IF(T!$D$2=T!$M$2,O24,IF(T!$D$2=T!$N$2,P24,Q24)),":","")) -> = Sensitivity | O31: szegregancia: | P31: Segreganz: | Q31: Negative predictive value:
B32: =IF(T!$D$2=T!$M$2,O39,IF(T!$D$2=T!$N$2,P39,Q39)) -> … that a healthy person is misdiagnosed? | C32: =H11/I11 -> 0.06 | E32: =CONCATENATE("= ",SUBSTITUTE(IF(T!$D$2=T!$M$2,O27,IF(T!$D$2=T!$N$2,P27,Q27)),":","")) -> = False positive rate | O32: téves megnyugtatási arány: | P32: falsche Beruhigungsrate: | Q32: False reassurance rate:
B33: =IF(T!$D$2=T!$M$2,O40,IF(T!$D$2=T!$N$2,P40,Q40)) -> … that a diseased person is correctly diagnosed? | C33: =H12/I12 -> 0.96 | E33: =CONCATENATE("= ",SUBSTITUTE(IF(T!$D$2=T!$M$2,O24,IF(T!$D$2=T!$N$2,P24,Q24)),":","")) -> = Sensitivity | O33: diagnosztikus effektivitás: | P33: diagnostische Effektivität: | Q33: Diagnostic accuracy:
B34: =IF(T!$D$2=T!$M$2,O41,IF(T!$D$2=T!$N$2,P41,Q41)) -> … that a negative test result is false? | C34: =G12/G13 -> 0.00042964554 | E34: =CONCATENATE("= ",SUBSTITUTE(IF(T!$D$2=T!$M$2,O32,IF(T!$D$2=T!$N$2,P32,Q32)),":","")) -> = False reassurance rate
B35: =IF(T!$D$2=T!$M$2,O42,IF(T!$D$2=T!$N$2,P42,Q42)) -> … that a positive test result is true? | C35: =H12/H13 -> 0.13913043 | E35: =CONCATENATE("= ",SUBSTITUTE(IF(T!$D$2=T!$M$2,O29,IF(T!$D$2=T!$N$2,P29,Q29)),":","")) -> = Positive predictive value | O35: A fenti tesztparaméterekhez kapcsolódó kérdések: | P35: Fragen im Zusammenhang mit den oben genannten Testparametern: | Q35: Questions related to the above test parameters:
B36: =IF(T!$D$2=T!$M$2,O43,IF(T!$D$2=T!$N$2,P43,Q43)) -> … that a diseased person's the test result is false? | C36: =G12/I12 -> 0.04 | E36: =CONCATENATE("= ",SUBSTITUTE(IF(T!$D$2=T!$M$2,O25,IF(T!$D$2=T!$N$2,P25,Q25)),":","")) -> = False negative rate | O36: Mi a valószínűsége annak, … | P36: Was ist die Wkeit, … | Q36: What is the probability …
B37: =IF(T!$D$2=T!$M$2,O44,IF(T!$D$2=T!$N$2,P44,Q44)) -> … that a healthy person's test result reflects the actual state? | C37: =G11/I11 -> 0.94 | E37: =CONCATENATE("= ",SUBSTITUTE(IF(T!$D$2=T!$M$2,O26,IF(T!$D$2=T!$N$2,P26,Q26)),":","")) -> = Specificity | O37: … hogy egy pozitív eredményt produkáló páciens valóban beteg? | P37: … dass ein positives Ergebnis anzeigender Patient wirklich krank ist? | Q37: … that a person producing a positive test result is indeed diseased?
B38: =IF(T!$D$2=T!$M$2,O45,IF(T!$D$2=T!$N$2,P45,Q45)) -> … that a positive test result belongs to a healthy person? | C38: =H11/H13 -> 0.86086957 | E38: =CONCATENATE("= ",SUBSTITUTE(IF(T!$D$2=T!$M$2,O30,IF(T!$D$2=T!$N$2,P30,Q30)),":","")) -> = False alarm rate | O38: … hogy egy beteg ember pozitív teszteredményt produkál? | P38: … dass ein Kranker positives Testergebnis anzeigt? | Q38: … that a diseased person produces a positive test result?
B39: =IF(T!$D$2=T!$M$2,O46,IF(T!$D$2=T!$N$2,P46,Q46)) -> … that a negative test result reflects the true state of the person? | C39: =G11/G13 -> 0.99957035 | E39: =CONCATENATE("= ",SUBSTITUTE(IF(T!$D$2=T!$M$2,O31,IF(T!$D$2=T!$N$2,P31,Q31)),":","")) -> = Negative predictive value | O39: … hogy egy egészséges embert félrediagnosztizálunk? | P39: … dass ein Gesunder falsch diagnostisiert wird? | Q39: … that a healthy person is misdiagnosed?
O40: … hogy egy beteg embert helyesen diagnosztiálunk? | P40: … dass ein Kranker richtig diagnostisiert wird? | Q40: … that a diseased person is correctly diagnosed?
B41: =IF(T!$D$2=T!$M$2,O48,IF(T!$D$2=T!$N$2,P48,Q48)) -> Further question: odds, likelihood ratios | O41: … hogy egy negatív teszteredmény hibás? | P41: … dass ein negatives Ergebnis falsch ist? | Q41: … that a negative test result is false?
O42: … hogy egy pozitív teszteredmény igaz? | P42: … dass ein positives Testergebnis richtig ist? | Q42: … that a positive test result is true?
B43: =IF(T!$D$2=T!$M$2,O50,IF(T!$D$2=T!$N$2,P50,Q50)) -> What is the odds that a (randomly selected) person has celiac disease? | C43: =I12/I11 -> 0.01010101 | O43: … hogy egy beteg ember teszteredménye hibás? | P43: … dass das Testergebnis eines Kranken falsch ist? | Q43: … that a diseased person's the test result is false?
...
